Workbook

Sheet Summary
A1: 00 SUBCONTRACTOR
A3: Code | B3: Description | C3: Total
A4: 0310 | B4: DEMOLITION | C4: =SUM('4-DEMOLITION'!F7) -> 1012
A5: 0710 | B5: BULK EXCAVATION | C5: =SUM('5-BULK EXCAVATION'!F73) -> 5883438.3
A6: 0750 | B6: FOUNDATION PILES | C6: =SUM('6-FOUNDATION PILES'!F36) -> 1214663.9
A7: 0780 | B7: TERMITE PROTECTION | C7: =SUM('7-TERMITE PROTECTION'!F8) -> 2617.4
A8: 0900 | B8: CONCRETE & REINFORCEMENT | C8: =SUM('8-CONCRETE & REINFORCEMENT'!F440) -> 2870606.8
A9: 0930 | B9: CONCRETE PUMPING | C9: =SUM('9-CONCRETE PUMPING'!F12) -> 36490
A10: 0990 | B10: CONCRETE TILT PANEL | C10: =SUM('10-CONCRETE TILT PANEL'!F17) -> 394310
A11: 1110 | B11: MASONRY/BLOCKWORK | C11: =SUM('11-MASONRY BLOCKWORK'!F68) -> 93939.666
A12: 1210 | B12: STRUCTURAL STEEL | C12: =SUM('12-STRUCTURAL STEEL'!F71) -> 1849518.6
A13: 1315 | B13: ROLLER DOORS AND SHUTTERS | C13: =SUM('13-ROLLER DOORS AND SHUTTERS'!F24) -> 71200
A14: 1340 | B14: SCREENS AND AWNINGS | C14: =SUM('14-SCREENS AND AWNINGS'!F10) -> 82200
A15: 1360 | B15: FENCES & GATES | C15: =SUM('15-FENCES & GATES'!F14) -> 202636
A16: 1370 | B16: TACTILES | C16: =SUM('16-TACTILES'!F6) -> 6944.4
A17: 1372 | B17: BICYCLE RACKS | C17: =SUM('17-BICYCLE RACKS'!F8) -> 700
A18: 1373 | B18: LETTER BOXES | C18: =SUM('18-LETTER BOXES'!F7) -> 350
A19: 1374 | B19: LOCKERS | C19: =SUM('19-LOCKERS'!F8) -> 13000
A20: 1391 | B20: WHEELSTOPS | C20: =SUM('20-WHEELSTOPS'!F7) -> 3450
A21: 1392 | B21: BOLLARDS | C21: =SUM('21-BOLLARDS'!F17) -> 75350.172
A22: 1393 | B22: DOWNPIPE GUARDS | C22: =SUM('22-DOWNPIPE GUARDS'!F5) -> 11475
A23: 1397 | B23: CONVEX SAFETY MIRRORS | C23: =SUM('23-CONVEX SAFETY MIRRORS'!F5) -> 900
A24: 1398 | B24: GUARD RAIL | C24: =SUM('24-GUARD RAIL'!F7) -> 25575
A25: 1410 | B25: SIGNAGE | C25: =SUM('25-SIGNAGE'!F21) -> 6700
A26: 1510 | B26: ALUMINIUM FRAMED WINDOWS AND DOORS | C26: =SUM('26-ALUMINIUM FRAMED WINDOWS AND'!F25) -> 63276.1
A27: 1520 | B27: WINDOW FURNISHINGS | C27: =SUM('27-WINDOW FURNISHINGS'!F8) -> 11875
A28: 1530 | B28: SHOWER SCREENS, MIRRORS AND ROBE DOORS | C28: =SUM('28-SHOWER SCREENS, MIRRORS AND '!F7) -> 930
A29: 1620 | B29: DOORS & FRAME SUPPLY & FIX | C29: =SUM('29-DOORS & FRAME SUPPLY & FIX'!F37) -> 41865
A30: 1685 | B30: SUNDRY HARDWARE FIX | C30: =SUM('30-SUNDRY HARDWARE FIX'!F33) -> 6583.37
A31: 1710 | B31: JOINERY SUPPLY & FIX | C31: =SUM('31-JOINERY SUPPLY & FIX'!F14) -> 14843.6
A32: 1800 | B32: ROOFING | C32: =SUM('32-ROOFING'!F60) -> 1256299
A33: 1830 | B33: ROOF SAFETY SYSTEM | C33: =SUM('33-ROOF SAFETY SYSTEM'!F10) -> 22519.41
A34: 1840 | B34: BIRD PROOFING | C34: =SUM('34-BIRD PROOFING'!F7) -> 11762.955
A35: 1920 | B35: SANITARY FIXTURES SUPPLY | C35: =SUM('35-SANITARY FIXTURES SUPPLY'!F41) -> 31950
A36: 2110 | B36: CEILINGS & PARTITIONS | C36: =SUM('36-CEILINGS & PARTITIONS'!F32) -> 142206.8
A37: 2130 | B37: EXTERNAL CLADDING | C37: =SUM('37-EXTERNAL CLADDING'!F9) -> 120747.7
A38: 2140 | B38: TOILET PARTITIONS | C38: =SUM('38-TOILET PARTITIONS'!F9) -> 7600
A39: 2210 | B39: TILE SUPPLY & FIX | C39: =SUM('39-TILE SUPPLY & FIX'!F28) -> 51657.678
A40: 2320 | B40: VINYL FLOOR FINISHES | C40: =SUM('40-VINYL FLOOR FINISHES'!F15) -> 8036.8
A41: 2320 | B41: CARPET FLOOR FINISHES | C41: =SUM('41-CARPET FLOOR FINISHES'!F13) -> 20552.703
...

Sheet 4-DEMOLITION
A1: DEMOLITION
A2: Code | B2: Description | C2: Quantity | D2: Unit | E2: Rate | F2: Total
B3: DEMOLITION
B5: External
B6: Remove existing kerb and channels | C6: 20.24 | D6: item | E6: 50 | F6: =C6*E6 -> 1012
B7: Total | F7: =SUM(F2:F6) -> 1012

Sheet 5-BULK EXCAVATION
A1: BULK EXCAVATION
A2: Code | B2: Description | C2: Quantity | D2: Unit | E2: Rate | F2: Total
B3: SUBCONTRACTOR PRELIMINARIES
B4: Site Establishment/Demobilisation | C4: 1 | D4: item | E4: 25000 | F4: =C4*E4 -> 25000
B5: Dust Control measures | C5: 1 | D5: item | E5: 15000 | F5: =C5*E5 -> 15000
B7: SITE CLEARANCE
B8: Allow to clear site of all vegetation, rubbish etc | C8: 55913.011 | D8: m2 | E8: 10 | F8: =C8*E8 -> 559130.11
B9: Cut down tree 0.5m to 1.0m girth, grub up roots and clear away. | C9: 150 | D9: item | E9: 500 | F9: =C9*E9 -> 75000
B10: Scrub up, clean and make-good existing swale drain
B12: SEDIMENT CONTROL
B13: Temporary construction vehicle exit/entry | C13: 705.7075 | D13: m2 | E13: 25 | F13: =C13*E13 -> 17642.688
B14: Siltation fence | C14: 763.9922 | D14: m | E14: 8 | F14: =C14*E14 -> 6111.9376
B16: DEWATERING
B17: Allow for dewatering of civil drainage excavations | C17: 1 | D17: item | E17: 8700 | F17: =C17*E17 -> 8700
B18: Allow for dewatering of detailed excavations | C18: 1 | D18: item | E18: 4200 | F18: =C18*E18 -> 4200
B19: Allow for dewatering of swale works | C19: 1 | D19: item | E19: 52200 | F19: =C19*E19 -> 52200
B21: ACID SULPHATE SOIL TREATMENT
B22: Establish PASS Treatment Pad, including all temporary bunds and geo-textile. | C22: 500 | D22: m2 | E22: 9 | F22: =C22*E22 -> 4500
B23: Apply 5kg/m2 lime rate to exposed sub-grade from cut and fill activities. | C23: 55913.011 | D23: m2 | E23: 2 | F23: =C23*E23 -> 111826.02
B24: Testing and Monitoring for PASS throughout duration of works. | C24: 1 | D24: item | E24: 12000 | F24: =C24*E24 -> 12000
B26: CUT TO FILL
B27: CUT
B28: Total Cut Qtys: | C28: 19960 | D28: m3 | E28: 25 | F28: =C28*E28 -> 499000
B29: FILL
B30: Total Fill Qtys: | C30: 10680 | D30: m3 | E30: 45 | F30: =C30*E30 -> 480600
B31: BALANCE
B32: Total Balance Qtys: | C32: 9280 | D32: m3 | E32: 25 | F32: =C32*E32 -> 232000
B34: PROOF ROLLING
B35: Proof Roll allowance | C35: 55913.012 | D35: m2 | E35: 3 | F35: =C35*E35 -> 167739.04
B37: CBR SUBGRADES
B38: Building Pad
B39: 400mm THK Load Transfer Platform to "Warehouse/Office/Fire Tank/Driveway" - CBR 45/95% Modified Compaction | C39: 4798 | D39: m3 | E39: 95 | F39: =C39*E39 -> 455810
B40: Allowance to come back and make-good to LTP after Piling/Ground Improvements/Tilt Panels have been finished | C40: 11995 | D40: m2 | E40: 3.5 | F40: =C40*E40 -> 41982.5
B41: Concrete Hardstands
B42: 150mm THK Subgrade to Heavy Duty Hardstand - CBR 45/95% Modified Compaction | C42: 1834.824 | D42: m3 | E42: 95 | F42: =C42*E42 -> 174308.28
B43: 150mm THK Subgrade to Swale Drain Channel - CBR 45/95% Modified Compaction | C43: 538 | D43: m3 | E43: 95 | F43: =C43*E43 -> 51110
B44: 150mm THK Subgrade to Light Duty Hardstand - CBR 45/95% Modified Compaction | C44: 83.099 | D44: m3 | E44: 95 | F44: =C44*E44 -> 7894.405
B45: 200mm THK Subgrade to Crossover Hardstand - CBR 45/95% Modified Compaction | C45: 18.768 | D45: m3 | E45: 70 | F45: =C45*E45 -> 1313.76
B46: Asphalt Pavements
B47: Type 1 Flexible Pavement:
...

Sheet 6-FOUNDATION PILES
A1: FOUNDATION PILES
A2: Code | B2: Description | C2: Quantity | D2: Unit | E2: Rate | F2: Total
B3: GROUND IMPROVEMENTS
B5: Sub-contractor Prelims:
B6: Allow for establishment and demoblisation of piling rig | C6: 1 | D6: item | E6: 100000 | F6: =C6*E6 -> 100000
B8: Warehouse
B9: Assumed 250mm Dia CMC Pile Design to 23000mm Deep Based on CPT Data. 3000mm W Spacings.
B10: 250mm Diameter CMC Pile | C10: 711 | D10: m3 | E10: 800 | F10: =C10*E10 -> 568800
B11: Removal of Fill | C11: 24.5295 | D11: m3 | E11: 25 | F11: =C11*E11 -> 613.2375
B12: Acid Sulphate Treatment | C12: 24.5295 | D12: m3 | E12: 10 | F12: =C12*E12 -> 245.295
B13: Office
B14: Assumed 250mm Dia CMC Pile Design to 23000mm Deep Based on CPT Data. 3000mm W Spacings.
B15: 250mm Diameter CMC Pile | C15: 79 | D15: m3 | E15: 800 | F15: =C15*E15 -> 63200
B16: Removal of Fill | C16: 4.5425 | D16: m3 | E16: 25 | F16: =C16*E16 -> 113.5625
B17: Acid Sulphate Treatment | C17: 4.5425 | D17: m3 | E17: 10 | F17: =C17*E17 -> 45.425
B18: Fire-Tank Slab & Pump House
B19: Assumed 250mm Dia CMC Pile Design to 23000mm Deep Based on CPT Data. 3000mm W Spacings.
B20: 250mm Diameter CMC Pile | C20: 23 | D20: m3 | E20: 800 | F20: =C20*E20 -> 18400
B21: Removal of Fill | C21: 1.3225 | D21: m3 | E21: 25 | F21: =C21*E21 -> 33.0625
B22: Acid Sulphate Treatment | C22: 1.3225 | D22: m3 | E22: 10 | F22: =C22*E22 -> 13.225
B23: Civil Hardstands
B24: Assumed 250mm Dia CMC Pile Design to 23000mm Deep Based on CPT Data. 3000mm W Spacings.
B25: 250mm Diameter CMC Pile | C25: 497 | D25: m3 | E25: 800 | F25: =C25*E25 -> 397600
B26: Removal of Fill | C26: 17.1465 | D26: m3 | E26: 25 | F26: =C26*E26 -> 428.6625
B27: Acid Sulphate Treatment | C27: 17.1465 | D27: m3 | E27: 10 | F27: =C27*E27 -> 171.465
B29: Allowance for Screw Piles to Bridge Works:
B30: Mobilisation/Demob | C30: 1 | D30: item | E30: 7500 | F30: =C30*E30 -> 7500
B31: Engineering/Form 15 & Form 16 allowance | C31: 1 | D31: item | E31: 7500 | F31: =C31*E31 -> 7500
B32: Screw Pile | C32: 20 | D32: item | E32: 1000 | F32: =C32*E32 -> 20000
B34: HUTCHIES SITE ENABLING WORKS:
B35: Additional Site Mobilisation allowance for Bulk Earthworks subcontractor | C35: 1 | D35: fee | E35: 30000 | F35: =C35*E35 -> 30000
B36: Total | F36: =SUM(F2:F35) -> 1214663.9

Sheet 7-TERMITE PROTECTION
A1: TERMITE PROTECTION
A2: Code | B2: Description | C2: Quantity | D2: Unit | E2: Rate | F2: Total
B3: TERMITE PROTECTION
B5: OFFICE:
B6: Perimeter Barrier | C6: 104.62 | D6: m | E6: 20 | F6: =C6*E6 -> 2092.4
B7: Penetration | C7: 21 | D7: item | E7: 25 | F7: =C7*E7 -> 525
B8: Total | F8: =SUM(F2:F7) -> 2617.4

Sheet 8-CONCRETE & REINFORCEMENT
A1: CONCRETE & REINFORCEMENT
A2: Code | B2: Description | C2: Quantity | D2: Unit | E2: Rate | F2: Total
B3: WAREHOUSE
B4: PF1: 800mm L x 800mm W x 300mm D. S40MPa
B5: CONCRETE
B6: Detailed Excavation | C6: 7.296 | D6: m3 | E6: 70 | F6: =C6*E6 -> 510.72
B7: Detailed Excavation - Blinding | C7: 2.432 | D7: m3 | E7: 70 | F7: =C7*E7 -> 170.24
B8: N20MPa Concrete Blinding - Supply | C8: 2.432 | D8: m3 | E8: 117.5 | F8: =C8*E8 -> 285.76
B9: N20MPa Concrete Blinding - Wastage | C9: 0.3648 | D9: m3 | E9: 117.5 | F9: =C9*E9 -> 42.864
B10: S40MPa Concrete - Supply | C10: 7.296 | D10: m3 | E10: 285 | F10: =C10*E10 -> 2079.36
B11: S40MPa Concrete - Wastage | C11: 1.0944 | D11: m3 | E11: 285 | F11: =C11*E11 -> 311.904
B12: Removal of Fill | C12: 11.1872 | D12: m3 | E12: 25 | F12: =C12*E12 -> 279.68
B13: Acid Sulphate Treatment | C13: 11.1872 | D13: m3 | E13: 10 | F13: =C13*E13 -> 111.872
B14: Concrete Testing. 3 Cyclinders/1 Slump | C14: 1 | D14: item | E14: 148 | F14: =C14*E14 -> 148
B15: Concrete Pump | C15: 11.1872 | D15: m3 | E15: 8 | F15: =C15*E15 -> 89.4976
B16: Concrete Place and Finish - Blinding | C16: 2.432 | D16: m3 | E16: 50 | F16: =C16*E16 -> 121.6
B17: Concrete Place and Finish - Pad Footing | C17: 7.296 | D17: m3 | E17: 50 | F17: =C17*E17 -> 364.8
B18: PF2: 800mm L x 800mm W x 300mm D. S40MPa
B19: CONCRETE
B20: Detailed Excavation | C20: 4.032 | D20: m3 | E20: 70 | F20: =C20*E20 -> 282.24
B21: Detailed Excavation - Blinding | C21: 1.344 | D21: m3 | E21: 70 | F21: =C21*E21 -> 94.08
B22: N20MPa Concrete Blinding - Supply | C22: 1.344 | D22: m3 | E22: 117.5 | F22: =C22*E22 -> 157.92
B23: N20MPa Concrete Blinding - Wastage | C23: 0.2016 | D23: m3 | E23: 117.5 | F23: =C23*E23 -> 23.688
B24: S40MPa Concrete - Supply | C24: 4.032 | D24: m3 | E24: 285 | F24: =C24*E24 -> 1149.12
B25: S40MPa Concrete - Wastage | C25: 0.6048 | D25: m3 | E25: 285 | F25: =C25*E25 -> 172.368
B26: Removal of Fill | C26: 6.1824 | D26: m3 | E26: 25 | F26: =C26*E26 -> 154.56
B27: Acid Sulphate Treatment | C27: 6.1824 | D27: m3 | E27: 10 | F27: =C27*E27 -> 61.824
B28: Concrete Testing. 3 Cyclinders/1 Slump | C28: 1 | D28: item | E28: 148 | F28: =C28*E28 -> 148
B29: Concrete Pump | C29: 6.1824 | D29: m3 | E29: 8 | F29: =C29*E29 -> 49.4592
B30: Concrete Place and Finish - Blinding | C30: 1.344 | D30: m3 | E30: 50 | F30: =C30*E30 -> 67.2
B31: Concrete Place and Finish - Pad Footing | C31: 4.032 | D31: m3 | E31: 50 | F31: =C31*E31 -> 201.6
B32: PF3: 3000mm L x 3200mm W x 500mm D. S40MPa
B33: CONCRETE
B34: Detailed Excavation | C34: 72 | D34: m3 | E34: 70 | F34: =C34*E34 -> 5040
B35: Detailed Excavation - Blinding | C35: 14.4 | D35: m3 | E35: 70 | F35: =C35*E35 -> 1008
B36: N20MPa Concrete Blinding - Supply | C36: 14.4 | D36: m3 | E36: 117.5 | F36: =C36*E36 -> 1692
B37: N20MPa Concrete Blinding - Wastage | C37: 2.16 | D37: m3 | E37: 117.5 | F37: =C37*E37 -> 253.8
B38: S40MPa Concrete - Supply | C38: 72 | D38: m3 | E38: 285 | F38: =C38*E38 -> 20520
B39: S40MPa Concrete - Wastage | C39: 10.8 | D39: m3 | E39: 285 | F39: =C39*E39 -> 3078
B40: Removal of Fill | C40: 99.36 | D40: m3 | E40: 25 | F40: =C40*E40 -> 2484
...

Sheet 9-CONCRETE PUMPING
A1: CONCRETE PUMPING
A2: Code | B2: Description | C2: Quantity | D2: Unit | E2: Rate | F2: Total
B3: CONCRETE PUMPING HIRE
B4: 36m Pump
B5: Hire :- Minimum Hire | C5: 36 | D5: hour | E5: 160 | F5: =C5*E5 -> 5760
B6: Hire :- Washout Bags | C6: 9 | D6: item | E6: 100 | F6: =C6*E6 -> 900
B7: Hire :- Priming Material | C7: 9 | D7: item | E7: 5 | F7: =C7*E7 -> 45
B8: 40m Pump
B9: Hire :- Minimum Hire | C9: 148 | D9: hour | E9: 175 | F9: =C9*E9 -> 25900
B10: Hire :- Washout Bags | C10: 37 | D10: item | E10: 100 | F10: =C10*E10 -> 3700
B11: Hire :- Priming Material | C11: 37 | D11: item | E11: 5 | F11: =C11*E11 -> 185
B12: Total | F12: =SUM(F2:F11) -> 36490

Sheet 10-CONCRETE TILT PANEL
A1: CONCRETE TILT PANEL
A2: Code | B2: Description | C2: Quantity | D2: Unit | E2: Rate | F2: Total
B3: CONCRETE TILT PANEL
B5: WAREHOUSE:
B6: 150 mm thick tilt-up concrete panels with off form finish including jointing | C6: 854 | D6: m2 | E6: 236 | F6: =C6*E6 -> 201544
B8: SPRINKLER PUMP ROOM:
B9: 150 mm thick tilt-up concrete panels with off form finish including jointing | C9: 93 | D9: m2 | E9: 236 | F9: =C9*E9 -> 21948
B11: PRECAST BRIDGE BEAMS:
B12: Precast bridge beams | C12: 171.08 | D12: m2 | E12: 850 | F12: =C12*E12 -> 145418
B13: Allowance for additional crane hire | C13: 1 | D13: item | E13: 21400 | F13: =C13*E13 -> 21400
B15: EXTRA OVERS
B16: Removal of Tilt Panel Casting Bed | C16: 1 | D16: item | E16: 4000 | F16: =C16*E16 -> 4000
B17: Total | F17: =SUM(F2:F16) -> 394310

Sheet 11-MASONRY BLOCKWORK
A1: MASONRY/BLOCKWORK
A2: Code | B2: Description | C2: Quantity | D2: Unit | E2: Rate | F2: Total
B3: BLOCKWORK WALLS
B5: BAC PYLON SIGN TYPE 5
B6: 290mm THK BLOCKWALL
B7: Blockwork | C7: 6.48 | D7: m2 | E7: 210 | F7: =C7*E7 -> 1360.8
B8: N32MPa Corefilling - Supply | C8: 1.944 | D8: m3 | E8: 122.5 | F8: =C8*E8 -> 238.14
B9: N32MPa Corefilling - Wastage 10% | C9: 0.1944 | D9: m3 | E9: 122.5 | F9: =C9*E9 -> 23.814
B10: Bar reinforcement for block walls (@16kg/m2). - Supply | C10: 0.10368 | D10: tonne | E10: 2150 | F10: =C10*E10 -> 222.912
B11: Bar reinforcement for block walls (@16kg/m2). - Wastage (15%) | C11: 0.015552 | D11: tonne | E11: 2150 | F11: =C11*E11 -> 33.4368
B12: Render Finish to BAC Pylon Sign | C12: 12.96 | D12: m2 | E12: 45 | F12: =C12*E12 -> 583.2
B13: BAC Pylon Sign Light Box | C13: 1 | D13: item | E13: 3500 | F13: =C13*E13 -> 3500
B14: PYLON SIGN FOOTING: 4600mm L x 1200mm W x 300mm D. N32MPa
B15: CONCRETE
B16: Detailed Excavation | C16: 1.656 | D16: m3 | E16: 70 | F16: =C16*E16 -> 115.92
B17: Detailed Excavation - Blinding | C17: 0.552 | D17: m3 | E17: 70 | F17: =C17*E17 -> 38.64
B18: N20MPa Concrete Blinding - Supply | C18: 0.552 | D18: m3 | E18: 117.5 | F18: =C18*E18 -> 64.86
B19: N20MPa Concrete Blinding - Wastage | C19: 0.0828 | D19: m3 | E19: 117.5 | F19: =C19*E19 -> 9.729
B20: N32MPa Concrete - Supply | C20: 1.656 | D20: m3 | E20: 122.5 | F20: =C20*E20 -> 202.86
B21: N32MPa Concrete - Wastage | C21: 0.2484 | D21: m3 | E21: 122.5 | F21: =C21*E21 -> 30.429
B22: Removal of Fill | C22: 2.5392 | D22: m3 | E22: 25 | F22: =C22*E22 -> 63.48
B23: Acid Sulphate Treatment | C23: 2.5392 | D23: m3 | E23: 10 | F23: =C23*E23 -> 25.392
B24: Concrete Testing. 3 Cyclinders/1 Slump | C24: 1 | D24: item | E24: 148 | F24: =C24*E24 -> 148
B25: Concrete Place and Finish - Blinding | C25: 0.552 | D25: m3 | E25: 50 | F25: =C25*E25 -> 27.6
B26: Concrete Place and Finish - Beam | C26: 1.656 | D26: m3 | E26: 50 | F26: =C26*E26 -> 82.8
B27: BAR REINFORCEMENT
B28: Reinforcement Supply (170 kg/m3) | C28: 0.28152 | D28: tonne | E28: 2150 | F28: =C28*E28 -> 605.268
B29: Reinforcement Wastage (12.5% Overlaps/5% Wastage) | C29: 0.049266 | D29: tonne | E29: 2150 | F29: =C29*E29 -> 105.9219
B30: Reinforcement Accessories | C30: 1 | D30: item | E30: 25 | F30: =C30*E30 -> 25
B31: Reinforcement Fix (170 kg/m3) | C31: 0.330786 | D31: tonne | E31: 750 | F31: =C31*E31 -> 248.0895
B33: WAREHOUSE
B34: 190mm THK FIRE BLOCKWALL
B35: Blockwork | C35: 18 | D35: m2 | E35: 175 | F35: =C35*E35 -> 3150
B36: N32MPa Corefilling - Supply | C36: 3.6 | D36: m3 | E36: 122.5 | F36: =C36*E36 -> 441
B37: N32MPa Corefilling - Wastage 10% | C37: 0.36 | D37: m3 | E37: 122.5 | F37: =C37*E37 -> 44.1
B38: Bar reinforcement for block walls (@16kg/m2). - Supply | C38: 0.288 | D38: tonne | E38: 2150 | F38: =C38*E38 -> 619.2
B39: Bar reinforcement for block walls (@16kg/m2). - Wastage (15%) | C39: 0.0432 | D39: tonne | E39: 2150 | F39: =C39*E39 -> 92.88
B40: Render Finish to Exposed Blockwall | C40: 36 | D40: m2 | E40: 45 | F40: =C40*E40 -> 1620
B41: Fire Wall Footing: 450mm W x 600mm D. N32MPa
B42: CONCRETE
...

Sheet 12-STRUCTURAL STEEL
A1: STRUCTURAL STEEL
A2: Code | B2: Description | C2: Quantity | D2: Unit | E2: Rate | F2: Total
B3: STRUCTURAL STEEL
B5: Warehouse & Office:
B6: Beams:
B7: 150x100x6.0 SHS - 22kg/m | C7: 2.02686 | D7: tonne | E7: 6750 | F7: =C7*E7 -> 13681.305
B8: 250PFC- 36kg/m | C8: 0.61092 | D8: tonne | E8: 6750 | F8: =C8*E8 -> 4123.71
B9: 300PFC- 41kg/m - Crane Beam | C9: 3.36241 | D9: tonne | E9: 6750 | F9: =C9*E9 -> 22696.268
B10: 310UB - 32kg/m | C10: 1.54272 | D10: tonne | E10: 6750 | F10: =C10*E10 -> 10413.36
B11: 380PFC- 41kg/m - Crane Beam | C11: 8.55629 | D11: tonne | E11: 6750 | F11: =C11*E11 -> 57754.957
B12: 360UB - 40kg/m | C12: 2.0088 | D12: tonne | E12: 6750 | F12: =C12*E12 -> 13559.4
B13: 360UB - 44kg/m | C13: 4.6398 | D13: tonne | E13: 6750 | F13: =C13*E13 -> 31318.65
B14: 410UB - 54kg/m | C14: 3.36474 | D14: tonne | E14: 6750 | F14: =C14*E14 -> 22711.995
B15: 460UB - 47kg/m | C15: 3.20258 | D15: tonne | E15: 6750 | F15: =C15*E15 -> 21617.415
B16: 460UB - 60kg/m | C16: 1.3914 | D16: tonne | E16: 6750 | F16: =C16*E16 -> 9391.95
B17: 460UB - 67kg/m | C17: 13.17957 | D17: tonne | E17: 6750 | F17: =C17*E17 -> 88962.098
B18: 460UB - 75kg/m | C18: 8.9355 | D18: tonne | E18: 6750 | F18: =C18*E18 -> 60314.625
... B23: 700WB - 115kg/m | C23: 17.31095 | D23: tonne | E23: 6750 | F23: =C23*E23 -> 116848.91
B24: Columns:
B25: 89x89x5.0 SHS - 13kg/m - External | C25: 0.8008 | D25: tonne | E25: 6750 | F25: =C25*E25 -> 5405.4
B26: 89x89x5.0 SHS - 13kg/m - Internal | C26: 0.2184 | D26: tonne | E26: 6750 | F26: =C26*E26 -> 1474.2
B27: 360UB - 44kg/m | C27: 2.024 | D27: tonne | E27: 6750 | F27: =C27*E27 -> 13662
B28: 410UB - 54kg/m | C28: 7.722 | D28: tonne | E28: 6750 | F28: =C28*E28 -> 52123.5
B29: 610UB - 101kg/m | C29: 4.646 | D29: tonne | E29: 6750 | F29: =C29*E29 -> 31360.5
B30: 700WB - 115kg/m | C30: 34.385 | D30: tonne | E30: 6750 | F30: =C30*E30 -> 232098.75
B31: Struts:
B32: 125x4.0 SHS - 20kg/m | C32: 2.8442 | D32: tonne | E32: 6750 | F32: =C32*E32 -> 19198.35
B33: 165x3.0 SHS - 12kg/m | C33: 0.18348 | D33: tonne | E33: 6750 | F33: =C33*E33 -> 1238.49
B34: 168x4.8 CHS - 20kg/m | C34: 2.0052 | D34: tonne | E34: 6750 | F34: =C34*E34 -> 13535.1
B35: 219x4.8 CHS - 27kg/m | C35: 6.00264 | D35: tonne | E35: 6750 | F35: =C35*E35 -> 40517.82
B36: Mullions & Headers:
B37: 250PFC- 36kg/m - Mullions | C37: 2.99808 | D37: tonne | E37: 6750 | F37: =C37*E37 -> 20237.04
B38: 250UC- 74kg/m - Headers | C38: 5.92296 | D38: tonne | E38: 6750 | F38: =C38*E38 -> 39979.98
B39: Connections & Welding:
B40: Allowance for attached and loose connections - 10% | C40: 17.086323 | D40: tonne | E40: 6750 | F40: =C40*E40 -> 115332.68
B41: Roof Purlins:
B42: EZ25019 - 1200mm CTS | C42: 1613.01 | D42: m | E42: 35 | F42: =C42*E42 -> 56455.35
B43: EZ25015 - 600mm CTS | C43: 5306.11 | D43: m | E43: 35 | F43: =C43*E43 -> 185713.85
B44: EZ25019 - 600mm CTS | C44: 2666.4 | D44: m | E44: 35 | F44: =C44*E44 -> 93324
B45: EZ20015 - 600mm CTS | C45: 671.04 | D45: m | E45: 35 | F45: =C45*E45 -> 23486.4
...

Sheet 13-ROLLER DOORS AND SHUTTERS
A1: ROLLER DOORS AND SHUTTERS
A2: Code | B2: Description | C2: Quantity | D2: Unit | E2: Rate | F2: Total
B3: ROLLER DOORS
B5: WAREHOUSE:
B6: DR01: 6000mm H x 6000mm W Roller Door:
B7: DR01 | C7: 1 | D7: item | E7: 9000 | F7: =C7*E7 -> 9000
B8: DR02: 6000mm H x 6000mm W Roller Door:
B9: DR02 | C9: 1 | D9: item | E9: 9000 | F9: =C9*E9 -> 9000
B10: DR03: 8000mm H x 6000mm W Roller Door:
B11: DR03 | C11: 1 | D11: item | E11: 12000 | F11: =C11*E11 -> 12000
B12: DR04: 6000mm H x 6000mm W Roller Door:
B13: DR04 | C13: 1 | D13: item | E13: 9000 | F13: =C13*E13 -> 9000
B14: DR05: 6000mm H x 6000mm W Roller Door:
B15: DR05 | C15: 1 | D15: item | E15: 9000 | F15: =C15*E15 -> 9000
B16: DR06: 6000mm H x 6000mm W Roller Door:
B17: DR06 | C17: 1 | D17: item | E17: 9000 | F17: =C17*E17 -> 9000
B18: DR07: 6000mm H x 8000mm W Roller Door:
B19: DR07 | C19: 1 | D19: item | E19: 12000 | F19: =C19*E19 -> 12000
B21: SPRINKLER PUMP ROOM:
B22: DR08: 2200mm H x 4000mm W Roller Door:
B23: DR08 | C23: 1 | D23: item | E23: 2200 | F23: =C23*E23 -> 2200
B24: Total | F24: =SUM(F2:F23) -> 71200

Sheet 14-SCREENS AND AWNINGS
A1: SCREENS AND AWNINGS
A2: Code | B2: Description | C2: Quantity | D2: Unit | E2: Rate | F2: Total
B3: SUNHOODS & SCREENING
B5: ES1: External Screen.LouvreClad or similar. Jupiter Series ® Performance Louvres on support frame. 55% free open area. Powdercoated Colour (PC1):
B6: ES1 | C6: 214 | D6: m2 | E6: 300 | F6: =C6*E6 -> 64200
B8: FL1: Fixed Louvre (office sunshades) LouvreClad or similar. Caprice Series ® Aluminium Louvres with H capping in powder coat finish. Fixed to above and below windows, with mounting channel in colour to match louvre. Powdercoat Colours PC3:
B9: FL1 | C9: 12 | D9: item | E9: 1500 | F9: =C9*E9 -> 18000
B10: Total | F10: =SUM(F2:F9) -> 82200

Sheet 15-FENCES & GATES
A1: FENCES & GATES
A2: Code | B2: Description | C2: Quantity | D2: Unit | E2: Rate | F2: Total
B3: FENCES & GATES
B5: FENCES
B6: FT1: 1800mm H Heavy Duty Chainwire infill fence, comprising of electrification and back to base monitoring capability.
B7: FT1 | C7: 941.68 | D7: m | E7: 200 | F7: =C7*E7 -> 188336
B9: GATES
B10: GT1: 10000mm W Sliding Gate to Front Entry
B11: GT1 | C11: 1 | D11: item | E11: 12500 | F11: =C11*E11 -> 12500
B12: GT2: 1200mm W x 1800mm H Personal Access Gate
B13: GTx | C13: 1 | D13: item | E13: 1800 | F13: =C13*E13 -> 1800
B14: Total | F14: =SUM(F2:F13) -> 202636

Sheet 16-TACTILES
A1: TACTILES
A2: Code | B2: Description | C2: Quantity | D2: Unit | E2: Rate | F2: Total
B3: TACTILE INDICATORS
B5: Stainless Steel Tactile indicator | C5: 11.574 | D5: m2 | E5: 600 | F5: =C5*E5 -> 6944.4
B6: Total | F6: =SUM(F2:F5) -> 6944.4

Sheet 17-BICYCLE RACKS
A1: BICYCLE RACKS
A2: Code | B2: Description | C2: Quantity | D2: Unit | E2: Rate | F2: Total
B3: BICYCLE RACKS
B5: OFFICE:
B6: BR: Bicyle Parking Railing. Cora of similar design. Stainless Steel Finish
B7: BR | C7: 2 | D7: no | E7: 350 | F7: =C7*E7 -> 700
B8: Total | F8: =SUM(F2:F7) -> 700

Sheet 18-LETTER BOXES
A1: LETTER BOXES
A2: Code | B2: Description | C2: Quantity | D2: Unit | E2: Rate | F2: Total
B3: LETTERBOXES
B5: OFFICE:
B6: Letter boxes fixed to wall | C6: 1 | D6: no | E6: 350 | F6: =C6*E6 -> 350
B7: Total | F7: =SUM(F2:F6) -> 350

Sheet 19-LOCKERS
A1: LOCKERS
A2: Code | B2: Description | C2: Quantity | D2: Unit | E2: Rate | F2: Total
B3: STORAGE LOCKERS
B5: OFFICE:
B6: LKS: Lockers Kirkbuild or approved equivalent. Invincible 1A- HMR-LS Dims: 500mm D x 1800mm H with high base. 2 lockers high with bench in front. Key lockable. 16mm double sided white board HMR carcass 16mm MR MDF laminate doors
B7: LKS | C7: 52 | D7: item | E7: 250 | F7: =C7*E7 -> 13000
B8: Total | F8: =SUM(F2:F7) -> 13000

Sheet 20-WHEELSTOPS
A1: WHEELSTOPS
A2: Code | B2: Description | C2: Quantity | D2: Unit | E2: Rate | F2: Total
B3: WHEEL STOPS
B5: CARPARK:
B6: Approved wheel stop fixed to concrete slab | C6: 46 | D6: no | E6: 75 | F6: =C6*E6 -> 3450
B7: Total | F7: =SUM(F2:F6) -> 3450

Sheet 21-BOLLARDS
A1: BOLLARDS
A2: Code | B2: Description | C2: Quantity | D2: Unit | E2: Rate | F2: Total
B3: BOLLARDS
B5: DISABLED BOLLARDS
B6: 230mm Dia x 1000 mm High galvanised steel bollard complete fixed to slab | C6: 1 | D6: no | E6: 750 | F6: =C6*E6 -> 750
B8: CAST IN BOLLARDS
B9: 230mm Dia x 1000 mm High galvanised steel bollard cast into slab | C9: 115 | D9: no | E9: 350 | F9: =C9*E9 -> 40250
B10: Detailed Excavation | C10: 13.9725 | D10: m3 | E10: 70 | F10: =C10*E10 -> 978.075
B11: N32MPa Concrete - Supply | C11: 20.056 | D11: m3 | E11: 122.5 | F11: =C11*E11 -> 2456.86
B12: N32MPa Concrete - Wastage | C12: 2.0056 | D12: m3 | E12: 122.5 | F12: =C12*E12 -> 245.686
B13: Installation of Bollard and Corefilling | C13: 115 | D13: item | E13: 112.5 | F13: =C13*E13 -> 12937.5
B14: Removal of Fill | C14: 16.068375 | D14: m3 | E14: 20 | F14: =C14*E14 -> 321.3675
B15: Acid Sulphate Treatment - 5kg/m3 | C15: 16.068375 | D15: m3 | E15: 10 | F15: =C15*E15 -> 160.68375
B16: Paint Bollard | C16: 115 | D16: item | E16: 150 | F16: =C16*E16 -> 17250
B17: Total | F17: =SUM(F2:F16) -> 75350.172

Sheet 22-DOWNPIPE GUARDS
A1: DOWNPIPE GUARDS
A2: Code | B2: Description | C2: Quantity | D2: Unit | E2: Rate | F2: Total
B3: DOWNPIPE GUARDS
B4: Downpipe Guards | C4: 27 | D4: no | E4: 425 | F4: =C4*E4 -> 11475
B5: Total | F5: =SUM(F2:F4) -> 11475

Sheet 23-CONVEX SAFETY MIRRORS
A1: CONVEX SAFETY MIRRORS
A2: Code | B2: Description | C2: Quantity | D2: Unit | E2: Rate | F2: Total
B3: CONVEX SAFETY MIRRORS
A4: 1310.8 | B4: Safety mirror complete including frame fixed to column or wall | C4: 2 | D4: no | E4: 450 | F4: =C4*E4 -> 900
B5: Total | F5: =SUM(F2:F4) -> 900

Sheet 24-GUARD RAIL
A1: GUARD RAIL
A2: Code | B2: Description | C2: Quantity | D2: Unit | E2: Rate | F2: Total
B3: GUARD RAIL
B5: DRIVEWAY:
B6: Armco Barrier | C6: 85.25 | D6: m | E6: 300 | F6: =C6*E6 -> 25575
B7: Total | F7: =SUM(F2:F6) -> 25575

Sheet 25-SIGNAGE
A1: SIGNAGE
A2: Code | B2: Description | C2: Quantity | D2: Unit | E2: Rate | F2: Total
B3: SIGNAGE
B5: Traffic Signage
B6: Rate per traffic sign | C6: 9 | D6: item | E6: 450 | F6: =C6*E6 -> 4050
B8: Additional Signage:
B9: Wayfinding Signage | C9: 1 | D9: item | E9: 750 | F9: =C9*E9 -> 750
B11: Statutory Signage:
B12: SN01 - Unisex Toilet and Shower (accessible) | C12: 1 | D12: item | E12: 100 | F12: =C12*E12 -> 100
B13: SN02 - Lunchroom | C13: 1 | D13: item | E13: 100 | F13: =C13*E13 -> 100
B14: SN03 - Female Ambulant Toilets and Showers | C14: 1 | D14: item | E14: 100 | F14: =C14*E14 -> 100
B15: SN04 - Male Ambulant Toilets and Showers | C15: 1 | D15: item | E15: 100 | F15: =C15*E15 -> 100
B16: SN08 - Cleaner | C16: 1 | D16: item | E16: 100 | F16: =C16*E16 -> 100
B17: SN08 - Comms | C17: 1 | D17: item | E17: 100 | F17: =C17*E17 -> 100
B18: SN10 - Fire Safety Doors | C18: 11 | D18: item | E18: 100 | F18: =C18*E18 -> 1100
B19: SN10 - Fire Hose Reel | C19: 1 | D19: item | E19: 100 | F19: =C19*E19 -> 100
B20: SN13 - Fire Indicator Panel | C20: 1 | D20: item | E20: 100 | F20: =C20*E20 -> 100
B21: Total | F21: =SUM(F2:F20) -> 6700

Sheet 26-ALUMINIUM FRAMED WINDOWS AND
A1: ALUMINIUM FRAMED WINDOWS AND DOORS
A2: Code | B2: Description | C2: Quantity | D2: Unit | E2: Rate | F2: Total
B3: ALUMINIUM FRAMED GLAZING & DOORS
B5: ALUMINIUM FRAMED GLAZING
B6: W01. 1100mm W x 2600mm H. U Value: 5.2. SHGC Value: 0.69. Rw Value: 35 | C6: 2.86 | D6: m2 | E6: 550 | F6: =C6*E6 -> 1573
B7: W02. 1100mm W x 2600mm H. U Value: 5.2. SHGC Value: 0.69. Rw Value: 35 | C7: 2.86 | D7: m2 | E7: 550 | F7: =C7*E7 -> 1573
B8: W03. 4000mm W x 2600mm H. U Value: 5.2. SHGC Value: 0.69. Rw Value: 35 | C8: 10.4 | D8: m2 | E8: 550 | F8: =C8*E8 -> 5720
B9: W04. 4550mm W x 1800mm H. U Value: 5.2. SHGC Value: 0.69. Rw Value: 35 | C9: 8.19 | D9: m2 | E9: 550 | F9: =C9*E9 -> 4504.5
B10: W05. 4550mm W x 1800mm H. U Value: 5.2. SHGC Value: 0.69. Rw Value: 35 | C10: 8.19 | D10: m2 | E10: 550 | F10: =C10*E10 -> 4504.5
B11: W06. 1100mm W x 2600mm H. U Value: 5.2. SHGC Value: 0.69. Rw Value: 35 | C11: 2.86 | D11: m2 | E11: 550 | F11: =C11*E11 -> 1573
B12: W08. 5450mm W x 1800mm H. U Value: 5.2. SHGC Value: 0.69. Rw Value: 35 | C12: 9.81 | D12: m2 | E12: 550 | F12: =C12*E12 -> 5395.5
B13: W09. 7250mm W x 1800mm H. U Value: 5.2. SHGC Value: 0.69. Rw Value: 35 | C13: 13.05 | D13: m2 | E13: 550 | F13: =C13*E13 -> 7177.5
B14: W10. 7250mm W x 1800mm H. U Value: 5.2. SHGC Value: 0.69. Rw Value: 35 | C14: 13.05 | D14: m2 | E14: 550 | F14: =C14*E14 -> 7177.5
B15: W11. 7250mm W x 1800mm H. U Value: 5.2. SHGC Value: 0.69. Rw Value: 35 | C15: 13.05 | D15: m2 | E15: 550 | F15: =C15*E15 -> 7177.5
B16: W12. 2750mm W x 1800mm H. U Value: 5.2. SHGC Value: 0.69. Rw Value: 35 | C16: 4.95 | D16: m2 | E16: 550 | F16: =C16*E16 -> 2722.5
B17: W13. 2795mm W x 2600mm H. U Value: 5.2. SHGC Value: 0.69. Rw Value: 35 | C17: 7.267 | D17: m2 | E17: 550 | F17: =C17*E17 -> 3996.85
... B20: W16. 900mm W x 2100mm H. U Value: 5.2. SHGC Value: 0.69. Rw Value: 35 | C20: 1.89 | D20: m2 | E20: 550 | F20: =C20*E20 -> 1039.5
B22: ALUMINIUM FRAMED DOORS
B23: D30. 2050mm W x 2650mm H Glazed Double Door. U Value: 5.2. SHGC Value: 0.69. Rw Value: 35 | C23: 1 | D23: item | E23: 3531.125 | F23: =C23*E23 -> 3531.125
B24: D31. 2050mm W x 2650mm H Glazed Double Door. U Value: 5.2. SHGC Value: 0.69. Rw Value: 35 | C24: 1 | D24: item | E24: 3531.125 | F24: =C24*E24 -> 3531.125
B25: Total | F25: =SUM(F2:F24) -> 63276.1

Sheet 27-WINDOW FURNISHINGS
A1: WINDOW FURNISHINGS
A2: Code | B2: Description | C2: Quantity | D2: Unit | E2: Rate | F2: Total
B3: WINDOW FURNISHINGS
B5: OFFICE:
B6: BL: Roller Blinds. Single Manual Operated Roller Blinds. Solar View Material. Colour: Charcoal
B7: BL | C7: 125 | D7: m2 | E7: 95 | F7: =C7*E7 -> 11875
B8: Total | F8: =SUM(F2:F7) -> 11875

Sheet 28-SHOWER SCREENS, MIRRORS AND 
A1: SHOWER SCREENS, MIRRORS AND ROBE DOORS
A2: Code | B2: Description | C2: Quantity | D2: Unit | E2: Rate | F2: Total
B3: MIRRORS
B5: MR1: Custom mirror with SS surround and concealed fixings. Dims: 1860mm W x 1000mm H
B6: MR1 | C6: 2 | D6: item | E6: 465 | F6: =C6*E6 -> 930
B7: Total | F7: =SUM(F2:F6) -> 930

Sheet 29-DOORS & FRAME SUPPLY & FIX
A1: DOORS & FRAME SUPPLY & FIX
A2: Code | B2: Description | C2: Quantity | D2: Unit | E2: Rate | F2: Total
B3: DOORS
B5: SOLIDCORE DOORS
B6: Type C Doors: Dims: 920mm W x 2040mm H
B7: D01 | C7: 1 | D7: item | E7: 1545 | F7: =C7*E7 -> 1545
B8: D02 | C8: 1 | D8: item | E8: 1545 | F8: =C8*E8 -> 1545
B9: D03 | C9: 1 | D9: item | E9: 1545 | F9: =C9*E9 -> 1545
B10: D04 | C10: 1 | D10: item | E10: 1545 | F10: =C10*E10 -> 1545
B11: D05 | C11: 1 | D11: item | E11: 1545 | F11: =C11*E11 -> 1545
B12: D06 | C12: 1 | D12: item | E12: 1545 | F12: =C12*E12 -> 1545
B13: D07 | C13: 1 | D13: item | E13: 1545 | F13: =C13*E13 -> 1545
B14: D08 | C14: 1 | D14: item | E14: 1545 | F14: =C14*E14 -> 1545
B15: D09 | C15: 1 | D15: item | E15: 1545 | F15: =C15*E15 -> 1545
B16: D20 | C16: 1 | D16: item | E16: 1545 | F16: =C16*E16 -> 1545
B17: D21 | C17: 1 | D17: item | E17: 1545 | F17: =C17*E17 -> 1545
B18: D32 | C18: 1 | D18: item | E18: 1545 | F18: =C18*E18 -> 1545
... B33: D47 | C33: 1 | D33: item | E33: 1545 | F33: =C33*E33 -> 1545
B35: EXTRA OVERS
B36: Deliveries | C36: 1 | D36: item | E36: 150 | F36: =C36*E36 -> 150
B37: Total | F37: =SUM(F2:F36) -> 41865

Sheet 30-SUNDRY HARDWARE FIX
A1: SUNDRY HARDWARE FIX
A2: Code | B2: Description | C2: Quantity | D2: Unit | E2: Rate | F2: Total
B3: SUNDRY HARDWARE
B5: HARDWARE:
B6: GR1: Grab Rail Type 1. Britex adjustable polyurethane back rest with combination rear rail and RHS rail with 90 degree extension
B7: GR1 | C7: 1 | D7: no | E7: 560 | F7: =C7*E7 -> 560
B8: GR2: Grab Rail Type 2. Britex 90° ambulant grab rail #304 stainless steel.
B9: GR2 | C9: 4 | D9: no | E9: 210 | F9: =C9*E9 -> 840
B10: GR3: Grab Rail Type 3. Britex straight grab rail, #304 stainless steel, 750mm long.
B11: GR3 | C11: 1 | D11: no | E11: 160 | F11: =C11*E11 -> 160
B12: MR2: PWD Mirror. JD MacDonald Mirror, stainless steel inter-lok angle frame, vinyl backed- plate glass.
B13: MR2 | C13: 1 | D13: no | E13: 290 | F13: =C13*E13 -> 290
B14: PTD: Paper Towel Dispenser. Bradley Surface mounted stainless steel paper towel dispenser and waste receptacle.
B15: PTD | C15: 3 | D15: no | E15: 240 | F15: =C15*E15 -> 720
B16: RH: Robe Hook. Bobrick Bobrick B.6717 ST ST flange.
B17: RH | C17: 8 | D17: no | E17: 50 | F17: =C17*E17 -> 400
B18: SD: Soap Dispenser. Metlam Horizontal soap dispenser with black ABS pump button, #304 stainless steel.
B19: SD | C19: 3 | D19: no | E19: 240 | F19: =C19*E19 -> 720
B20: SH3: Soap Dish. Bradley. Surface mount regent soap dish.
B21: SH3 | C21: 3 | D21: no | E21: 183.34 | F21: =C21*E21 -> 550.02
B22: SH4: Folding Seat (PWD). Caroma Virtu comfort shower seat. Dims: 960 x 400mm.
B23: SH4 | C23: 1 | D23: no | E23: 310 | F23: =C23*E23 -> 310
B24: SH5: Curtain Rail (PWD): Metlam shower curtain system, A 1100mm x B 1600mm installed at 2100 AFFL.
B25: SH5 | C25: 1 | D25: no | E25: 380 | F25: =C25*E25 -> 380
B26: SH6: Shower Seat Kirkbuild Kirkbuild compact laminate bench seat in L2 finish. Stainless steel support frame. 600mm W x 300mm D.
B27: SH6 | C27: 2 | D27: no | E27: 310 | F27: =C27*E27 -> 620
B28: TRH1: Ambulant toilet roll holder. Bradley. Toilet roll holder- 2 rolls. Side-by-side. Stainless steel.
B29: TRH1 | C29: 5 | D29: no | E29: 176.67 | F29: =C29*E29 -> 883.35
B31: EXTRA OVERS
B32: Deliveries | C32: 1 | D32: item | E32: 150 | F32: =C32*E32 -> 150
B33: Total | F33: =SUM(F2:F32) -> 6583.37

Sheet 31-JOINERY SUPPLY & FIX
A1: JOINERY SUPPLY & FIX
A2: Code | B2: Description | C2: Quantity | D2: Unit | E2: Rate | F2: Total
B3: JOINERY SUPPLY & FIX
B5: OFFICE:
B6: JF01: Kitchenette
B7: JF01 | C7: 1 | D7: item | E7: 7750 | F7: =C7*E7 -> 7750
B8: RST: Kitchenette Joinery Benchtop. Caesarstone Caesar stone benchtop (mitred corner) 40mm. Colour: Atlantic Salt™ 6270.
B9: RST | C9: 4.34 | D9: m2 | E9: 540 | F9: =C9*E9 -> 2343.6
B10: JF02: Male Amenities Benchtop
B11: JF0x | C11: 1 | D11: item | E11: 2375 | F11: =C11*E11 -> 2375
B12: JF03: Female Amenities Benchtop
B13: JF0x | C13: 1 | D13: item | E13: 2375 | F13: =C13*E13 -> 2375
B14: Total | F14: =SUM(F2:F13) -> 14843.6

Sheet 32-ROOFING
A1: ROOFING
A2: Code | B2: Description | C2: Quantity | D2: Unit | E2: Rate | F2: Total
B3: ROOFING
B5: SUBCONTRACTOR PRELIMINARIES
B6: Access Equipment | C6: 4 | D6: week | E6: 5000 | F6: =C6*E6 -> 20000
B7: Crane Hire and Erection | C7: 1 | D7: hire | E7: 1500 | F7: =C7*E7 -> 1500
B8: Handrails | C8: 1768.97 | D8: m | E8: 15 | F8: =C8*E8 -> 26534.55
B10: WAREHOUSE | OFFICE
B11: METAL DECK ROOFING
B12: MRS: Stramit Speed Deck Ultra 0.48BMT. Finish- Colorbond Ultra Surfmist
B13: MRS | C13: 7106.56 | D13: m2 | E13: 95 | F13: =C13*E13 -> 675123.2
B14: 60mm THK Anticon Blancket | C14: 7106.56 | D14: m2 | E14: 12 | F14: =C14*E14 -> 85278.72
B15: TRS: Ampelite Webglas GC 3660 Opal
B16: TRS | C16: 278.92 | D16: m2 | E16: 150 | F16: =C16*E16 -> 41838
B17: METAL WALL CLADDING
B18: MWC1: Stramit Speed Deck Ultra 0.48BMT
B19: MWC1 | C19: 2935.56 | D19: m2 | E19: 95 | F19: =C19*E19 -> 278878.2
B20: FLASHINGS
B21: Ridge Capping | C21: 104.87 | D21: m | E21: 55 | F21: =C21*E21 -> 5767.85
B22: Barge Capping | C22: 310.05 | D22: m | E22: 45 | F22: =C22*E22 -> 13952.25
B23: Gutter Flashing | C23: 280.89 | D23: m | E23: 65 | F23: =C23*E23 -> 18257.85
B24: GUTTERS & BOXED GUTTERS
B25: 350mm W Colourbond Gutter | C25: 281.18 | D25: m | E25: 65 | F25: =C25*E25 -> 18276.7
B26: 650 mm Wide prefabricated box gutter complete including gutter, profiled metal sheeting as gutter board and flashings | C26: 104.59 | D26: m | E26: 220 | F26: =C26*E26 -> 23009.8
B27: Extra over for sump complete including all supports as required | C27: 14 | D27: no | E27: 300 | F27: =C27*E27 -> 4200
B28: DOWNPIPES
B29: DP1: 230mm Dia Colourbond Downpipes | C29: 42 | D29: item | E29: 832 | F29: =C29*E29 -> 34944
B30: DP2: 150mm Dia Stainless Steel Downpipes - Office | C30: 6 | D30: item | E30: 405 | F30: =C30*E30 -> 2430
B32: SPRINKLER PUMP ROOM
B33: METAL DECK ROOFING
B34: MRS: Stramit Speed Deck Ultra 0.48BMT. Finish- Colorbond Ultra Surfmist
B35: MRS | C35: 42.33 | D35: m2 | E35: 95 | F35: =C35*E35 -> 4021.35
B36: FLASHINGS
B37: Barge Capping | C37: 18.6 | D37: m | E37: 45 | F37: =C37*E37 -> 837
B38: Gutter Flashing | C38: 7.15 | D38: m | E38: 65 | F38: =C38*E38 -> 464.75
B39: GUTTERS & BOXED GUTTERS
B40: 350mm W Colourbond Gutter | C40: 7.15 | D40: m | E40: 65 | F40: =C40*E40 -> 464.75
B41: DOWNPIPES
B42: DP1: 230mm Dia Colourbond Downpipes | C42: 2 | D42: item | E42: 260 | F42: =C42*E42 -> 520
B60: Total | F60: =SUM(F2:F59) -> 1256299

Sheet 33-ROOF SAFETY SYSTEM
A1: ROOF SAFETY SYSTEM
A2: Code | B2: Description | C2: Quantity | D2: Unit | E2: Rate | F2: Total
B3: ROOF ACCESS SYSTEMS & WALKWAYS
B5: WAREHOUSE ROOF:
B6: Allowance for Roof Safety System | C6: 6746.95 | D6: m2 | E6: 3 | F6: =C6*E6 -> 20240.85
B8: OFFICE ROOF:
B9: Allowance for Roof Safety System | C9: 759.52 | D9: m2 | E9: 3 | F9: =C9*E9 -> 2278.56
B10: Total | F10: =SUM(F2:F9) -> 22519.41

Sheet 34-BIRD PROOFING
A1: BIRD PROOFING
A2: Code | B2: Description | C2: Quantity | D2: Unit | E2: Rate | F2: Total
B3: BIRD PROOFING
B5: WAREHOUSE AWNINGS
B6: Allowance for Bird Proofing safety mesh | C6: 784.197 | D6: m2 | E6: 15 | F6: =C6*E6 -> 11762.955
B7: Total | F7: =SUM(F2:F6) -> 11762.955

Sheet 35-SANITARY FIXTURES SUPPLY
A1: SANITARY FIXTURES SUPPLY
A2: Code | B2: Description | C2: Quantity | D2: Unit | E2: Rate | F2: Total
B3: SANITARY FIXTURES & FITTINGS
B5: BC1: Zip Industries. Hydrotap BC60
B6: BC1 | C6: 1 | D6: item | E6: 4500 | F6: =C6*E6 -> 4500
B7: BM1: Caroma. Skandic Basin Mixer
B8: BM1 | C8: 4 | D8: item | E8: 500 | F8: =C8*E8 -> 2000
B9: BM2: Basin Mixer (PWD). Caroma. Skandic Care Mixer
B10: BM2 | C10: 1 | D10: item | E10: 500 | F10: =C10*E10 -> 500
B11: BT: Bottle Trap. Caroma. Eco Bottle Trap
B12: BT | C12: 1 | D12: item | E12: 200 | F12: =C12*E12 -> 200
B13: CS: Cleaners Sink. Caroma. Cleaners sink with heavy duty bucket grate
B14: CS | C14: 1 | D14: item | E14: 850 | F14: =C14*E14 -> 850
B15: CSM: Cleaner's sink mixer. Caroma Metro wall sink set
B16: CSM | C16: 1 | D16: item | E16: 350 | F16: =C16*E16 -> 350
B17: ESH: Emergency eyewash and shower. Enware Combination Emergency Showers Eye Face Hand/Foot Operated - Stainless Steel. Powder Coated Finish – WHITE
B18: ESH | C18: 2 | D18: item | E18: 1500 | F18: =C18*E18 -> 3000
B19: FW: Floor waste gully. Stormtech Square Floor Drain. 103mm x 103mm. 316 grade stainless steel
B20: FW | C20: 11 | D20: item | E20: 200 | F20: =C20*E20 -> 2200
B21: HB1: Surface mounted basin. Caroma CARBONI II ABOVE COUNTER BASIN. 3L Capacity to overflow. White plug & chrome flush fitting waste included. Note: Flexible sealant only should be used between the basin rim and benchtop.
B22: HB1 | C22: 4 | D22: item | E22: 750 | F22: =C22*E22 -> 3000
B23: HB2: Wall mounted basin with integral shelf. Caroma Cube extension wall basin with 1 taphole. Chrome flush fitting plug and waste Anti-Vandal
B24: HB2 | C24: 1 | D24: item | E24: 750 | F24: =C24*E24 -> 750
B25: SH1: Shower rail (PWD). Caroma. Virtu Plus 2 accessible shower set with inverted 900m grab rail.
B26: SH1 | C26: 1 | D26: item | E26: 450 | F26: =C26*E26 -> 450
B27: SH2: Shower mixer (standard). Caroma. Skandic bath/shower mixer.
B28: SH2 | C28: 3 | D28: item | E28: 450 | F28: =C28*E28 -> 1350
B29: SH8: Shower head (standard). Caroma Flow fixed wall shower. WELS 4 stars Rated, 9L/ min.
B30: SH8 | C30: 2 | D30: item | E30: 450 | F30: =C30*E30 -> 900
B31: SK1: Kitchen Sink. Reece. Posh Solus MK3 Double bowl undermount sink, no taphole, stainless steel. Posh Solus MK3 drainer tray stainless steel undermounot.
B32: SK1 | C32: 1 | D32: item | E32: 450 | F32: =C32*E32 -> 450
B33: SM1: Sink mixer. Caroma. Skandic Sink Mixer.
B34: SM1 | C34: 1 | D34: item | E34: 450 | F34: =C34*E34 -> 450
B35: UR1: Urinal. Caroma. Cube 0.8L electronic urinal suite with internal flush sensor. WELS 6 Star Rated. Flush Size - 0.8L
B36: UR1 | C36: 2 | D36: item | E36: 2250 | F36: =C36*E36 -> 4500
B37: WC1: Ambulant Toilet Suite. Caroma. Urbane Cleanflush® Wall Faced Toilet Suite Installed to AS1428.1
B38: WC1 | C38: 4 | D38: item | E38: 1250 | F38: =C38*E38 -> 5000
B39: WC2: PWD Toilet Suite. Caroma. CARE 800 CLEANFLUSH® WALL FACED SUITE. Installed to AS1428.1
B40: WC2 | C40: 1 | D40: item | E40: 1500 | F40: =C40*E40 -> 1500
B41: Total | F41: =SUM(F2:F40) -> 31950

Sheet 36-CEILINGS & PARTITIONS
A1: CEILINGS & PARTITIONS
A2: Code | B2: Description | C2: Quantity | D2: Unit | E2: Rate | F2: Total
B3: CEILINGS
B4: OFFICE:
B5: Suspended Plasterboard Ceiling and Bulkheads.
B6: CL3: 13mm set plasterboard suspended ceiling fixed on and including concealed suspension system
B7: 2700mm AFFL | C7: 23.9 | D7: m2 | E7: 73 | F7: =C7*E7 -> 1744.7
B8: CL2: 13mm set moisture resistant plasterboard suspended ceiling fixed on and including concealed suspension system
B9: 2400mm AFFL | C9: 59.59 | D9: m2 | E9: 77 | F9: =C9*E9 -> 4588.43
B10: Suspended Acoustic Tile Ceiling.
B11: CL1: Suspended acoustic tile ceiling system comprising 1200x600x16mm thick 'Armstrong Dune Tegular edge' ceiling tile:
B12: 2700mm AFFL | C12: 381.31 | D12: m2 | E12: 58.1 | F12: =C12*E12 -> 22154.111
B13: Ceiling Pelmets;
B14: 13 mm thick plasterboard window pelmet to perimeter of building including all necessary framing;
B15: "L"-shaped recessed window/blind pelmet approx. 290x270mm deep. | C15: 46.1 | D15: m | E15: 160 | F15: =C15*E15 -> 7376
B16: Cornice, Trims and Mouldings;
B17: P50 shadowline | C17: 98.95 | D17: m | E17: 24.5 | F17: =C17*E17 -> 2424.275
B18: Ceiling Access Panels;
B19: AP: 600 x 600mm access panel | C19: 5 | D19: item | E19: 303 | F19: =C19*E19 -> 1515
B21: PARTITIONS
B22: OFFICE:
B23: Plasterboard Partitions
B24: Noggings
B25: Allow for the provision of the necessary noggings to support all necessary fittings and fixtures. | C25: 1 | D25: item | E25: 470 | F25: =C25*E25 -> 470
B26: P1: 13/64/13: 13mm thk Plasterboard on 64mm Studs, with Acoustic Insulation 11kg/m3. 3600mm H
B27: P1 | C27: 557.244 | D27: m2 | E27: 161 | F27: =C27*E27 -> 89716.284
B28: Skirting: 100mm H | C28: 309.58 | D28: m | E28: 20 | F28: =C28*E28 -> 6191.6
B29: Glazed Partitions
B30: G01: Glazed Partitions and Panels: xxxmm Glass
B31: G01 | C31: 20.088 | D31: m2 | E31: 300 | F31: =C31*E31 -> 6026.4
B32: Total | F32: =SUM(F2:F31) -> 142206.8

Sheet 37-EXTERNAL CLADDING
A1: EXTERNAL CLADDING
A2: Code | B2: Description | C2: Quantity | D2: Unit | E2: Rate | F2: Total
B3: EXTERNAL CLADDING
B5: FC: Office roof ceiling soffit. Proprietary framed FC soffit & bulkhead. Painted fibre cement sheet 9mm thickness Panel joints to be flush.
B6: FC | C6: 228.48637 | D6: m2 | E6: 195 | F6: =C6*E6 -> 44554.842
B7: CFC: CFC wall, soffit and parapet lining. CSR- ‘Cemintel’ lining sheet system Painted fibre cement sheet 9mm thickness Panel joints to be expressed
B8: CFC | C8: 298.79552 | D8: m2 | E8: 255 | F8: =C8*E8 -> 76192.858
B9: Total | F9: =SUM(F2:F8) -> 120747.7

Sheet 38-TOILET PARTITIONS
A1: TOILET PARTITIONS
A2: Code | B2: Description | C2: Quantity | D2: Unit | E2: Rate | F2: Total
B3: TOILET SCREENS
B5: TP01: Toilet Partition
B6: TP01 | C6: 6 | D6: item | E6: 1150 | F6: =C6*E6 -> 6900
B7: UR01: Urinal Fin
B8: UR01 | C8: 2 | D8: item | E8: 350 | F8: =C8*E8 -> 700
B9: Total | F9: =SUM(F2:F8) -> 7600

Sheet 39-TILE SUPPLY & FIX
A1: TILE SUPPLY & FIX
A2: Code | B2: Description | C2: Quantity | D2: Unit | E2: Rate | F2: Total
B3: TILING SUPPLY & FIX
B5: OFFICE
B6: WALL TILING
B7: WT1: Beaumont Tiles. 200mm x 200mm white ceramic wall tile installed as per internal elevations. Tiles to be laid in soldier bond patter.
B8: WT1 | C8: 159.852 | D8: m2 | E8: 150 | F8: =C8*E8 -> 23977.8
B9: WT1 - Wastage | C9: 15.9852 | D9: m2 | E9: 25 | F9: =C9*E9 -> 399.63
B10: Epoxy Grout | C10: 159.852 | D10: m2 | E10: 35 | F10: =C10*E10 -> 5594.82
B11: Waterproofing | C11: 76.12 | D11: m | E11: 34 | F11: =C11*E11 -> 2588.08
B12: WT1: Splashback. Beaumont Tiles. 200mm x 200mm white ceramic wall tile installed as per internal elevations. Tiles to be laid in soldier bond patter.
B13: WT1 | C13: 1.61 | D13: m2 | E13: 150 | F13: =C13*E13 -> 241.5
B14: WT1 - Wastage | C14: 0.161 | D14: m2 | E14: 25 | F14: =C14*E14 -> 4.025
B15: Epoxy Grout | C15: 1.61 | D15: m2 | E15: 35 | F15: =C15*E15 -> 56.35
B16: Waterproofing | C16: 1.61 | D16: m2 | E16: 34 | F16: =C16*E16 -> 54.74
B17: FLOOR TILING
B18: WT1: Beaumont Tiles. 200mm x 200mm white ceramic wall tile installed as per internal elevations. Tiles to be laid in soldier bond patter.
B19: WT1 | C19: 82.39938 | D19: m2 | E19: 150 | F19: =C19*E19 -> 12359.907
B20: WT1 - Wastage | C20: 8.239938 | D20: m2 | E20: 25 | F20: =C20*E20 -> 205.99845
B21: Epoxy Grout | C21: 82.39938 | D21: m2 | E21: 35 | F21: =C21*E21 -> 2883.9783
B22: Waterproofing | C22: 82.39938 | D22: m2 | E22: 34 | F22: =C22*E22 -> 2801.5789
B23: DIVISION STRIPS
B24: 3mm Angle :[9 no] | C24: 13.57082 | D24: m | E24: 25 | F24: =C24*E24 -> 339.2705
B26: TILE EXTRA OVERS
B27: Deliveries | C27: 1 | D27: item | E27: 150 | F27: =C27*E27 -> 150
B28: Total | F28: =SUM(F2:F27) -> 51657.678

Sheet 40-VINYL FLOOR FINISHES
A1: VINYL FLOOR FINISHES
A2: Code | B2: Description | C2: Quantity | D2: Unit | E2: Rate | F2: Total
B3: VINYL SUPPLY & FIX
B5: OFFICE:
B6: FLOOR PREPARATION
B7: Floor preparation to receive resilient flooring | C7: 69.36 | D7: m2 | E7: 20 | F7: =C7*E7 -> 1387.2
B8: VINYL FLOORING
B9: SHV01: Polyflor. Palletone PUR. Welded sheet. Fixing: as per manufacturers written directions.
B10: SHV01 | C10: 57.82 | D10: m2 | E10: 90 | F10: =C10*E10 -> 5203.8
B11: SHV02: Anti Static Vinyl. Polyflor. Palletone SD. Welded sheet. Fixing: as per manufacturers written directions. Static dissipative properties. Engineered for ESD protection. BRE Global Generic A+ rating.
B12: SHV02 | C12: 11.54 | D12: m2 | E12: 120 | F12: =C12*E12 -> 1384.8
B13: DIVISION STRIPS
B14: Allowance for division strips :[3 no] | C14: 3.05 | D14: m | E14: 20 | F14: =C14*E14 -> 61
B15: Total | F15: =SUM(F2:F14) -> 8036.8

Sheet 41-CARPET FLOOR FINISHES
A1: CARPET FLOOR FINISHES
A2: Code | B2: Description | C2: Quantity | D2: Unit | E2: Rate | F2: Total
B3: CARPET SUPPLY & FIX
B5: OFFICE
B6: FLOOR PREPARATION
B7: Floor preparation to receive resilient flooring | C7: 315.91235 | D7: m2 | E7: 20 | F7: =C7*E7 -> 6318.247
B8: CARPET FLOORING
B9: CPT1: Office Carpet Ontera. WATER YULUDARLA Guunu
B10: CPT1 | C10: 315.91235 | D10: m2 | E10: 45 | F10: =C10*E10 -> 14216.056
B11: DIVISION STRIPS
B12: Allowance for division strips :[1 no] | C12: 0.92 | D12: m | E12: 20 | F12: =C12*E12 -> 18.4
B13: Total | F13: =SUM(F2:F12) -> 20552.703

Sheet 42-ENTRY MATS
A1: ENTRY MATS
A2: Code | B2: Description | C2: Quantity | D2: Unit | E2: Rate | F2: Total
B3: ENTRY MATS
B5: OFFICE:
B6: FM1: Office recessed floor matt. Birrus Matting Systems Ultramat – closed construction
B7: FM1 | C7: 2.27173 | D7: m2 | E7: 900 | F7: =C7*E7 -> 2044.557
B8: Total | F8: =SUM(F2:F7) -> 2044.557

Sheet 43-EPOXY FLOORING
A1: EPOXY FLOORING
A2: Code | B2: Description | C2: Quantity | D2: Unit | E2: Rate | F2: Total
B3: EPOXY FLOORING
B5: WAREHOUSE:
B6: EPX01: Concrete Sealer to Warehouse Floor
B7: EPX01 | C7: 5500 | D7: m2 | E7: 5 | F7: =C7*E7 -> 27500
B8: Total | F8: =SUM(F2:F7) -> 27500

Sheet 44-LINEMARKING
A1: LINEMARKING
A2: Code | B2: Description | C2: Quantity | D2: Unit | E2: Rate | F2: Total
B3: LINEMARKING
B4: Linemarking | C4: 244.96 | D4: m | E4: 2 | F4: =C4*E4 -> 489.92
B5: Zebra Hatching | C5: 126.37 | D5: m2 | E5: 10 | F5: =C5*E5 -> 1263.7
B6: PWD/Disabled Logo | C6: 1 | D6: item | E6: 30 | F6: =C6*E6 -> 30
B7: Directional Arrow - Single | C7: 2 | D7: item | E7: 30 | F7: =C7*E7 -> 60
B8: Total | F8: =SUM(F2:F7) -> 1843.62

Sheet 45-HYDRAULIC SERVICES
A1: HYDRAULIC SERVICES
A2: Code | B2: Description | C2: Quantity | D2: Unit | E2: Rate | F2: Total
B3: HYDRAULIC SERVICES
B4: Building GFA | C4: 6000 | D4: m2 | E4: 50 | F4: =C4*E4 -> 300000
B6: LIVE CONNECTION WORKS
B7: Live Water Connection Works | C7: 1 | D7: item | E7: 30000 | F7: =C7*E7 -> 30000
B8: Live Sewer Connection Works | C8: 1 | D8: item | E8: 30000 | F8: =C8*E8 -> 30000
B10: FIRE HYDRANT SERVICES
B11: Building GFA | C11: 6000 | D11: m2 | E11: 25 | F11: =C11*E11 -> 150000
B13: BUILDER'S WORK IN CONNECTION
B14: Allow for builders work in connection | C14: 0.01 | D14: % | E14: 510000 | F14: =C14*E14 -> 5100
B15: Total | F15: =SUM(F2:F14) -> 515100

Sheet 46-ELECTRICAL SERVICES
A1: ELECTRICAL SERVICES
A2: Code | B2: Description | C2: Quantity | D2: Unit | E2: Rate | F2: Total
B3: ELECTRICAL SERVICES
B4: Building GFA | C4: 6000 | D4: m2 | E4: 125 | F4: =C4*E4 -> 750000
B6: SECURITY AND CCTV
B7: Allowance for security and CCTV to carpark | C7: 6000 | D7: m2 | E7: 5 | F7: =C7*E7 -> 30000
B9: BUILDER'S WORK IN CONNECTION
B10: Allow for builder's work in connection | C10: 0.01 | D10: % | E10: 780000 | F10: =C10*E10 -> 7800
B11: Total | F11: =SUM(F2:F10) -> 787800

Sheet 47-MECHANICAL SERVICES
A1: MECHANICAL SERVICES
A2: Code | B2: Description | C2: Quantity | D2: Unit | E2: Rate | F2: Total
B3: MECHANICAL SERVICES
B4: Building GFA | C4: 500 | D4: m2 | E4: 400 | F4: =C4*E4 -> 200000
B6: BUILDERS WORK IN CONNECTION
B7: Allowance for builders work in connection | C7: 0.01 | D7: % | E7: 200000 | F7: =C7*E7 -> 2000
B8: Total | F8: =SUM(F2:F7) -> 202000

Sheet 48-FIRE SERVICES
A1: FIRE SERVICES
A2: Code | B2: Description | C2: Quantity | D2: Unit | E2: Rate | F2: Total
B3: FIRE SERVICES
B5: FIRE ALARMS
B6: Fire services alarms and detection | C6: 500 | D6: m2 | E6: 30 | F6: =C6*E6 -> 15000
B8: FIRE SPRINKLERS
B9: Fire services sprinklers | C9: 5500 | D9: m2 | E9: 100 | F9: =C9*E9 -> 550000
B11: EXTINGISHERS
B12: Allowance for fire extinguisher | C12: 7 | D12: no | E12: 300 | F12: =C12*E12 -> 2100
B14: BUILDERS WORK IN CONNECTION
B15: Allowance for builders work in connection | C15: 0.01 | D15: % | E15: 567100 | F15: =C15*E15 -> 5671
B16: Total | F16: =SUM(F2:F15) -> 572771

Sheet 49-RETAINING WALLS
A1: RETAINING WALLS
A2: Code | B2: Description | C2: Quantity | D2: Unit | E2: Rate | F2: Total
B3: RETAINING WALL
B5: SUBCONTRACTOR PRELIMINARIES
B6: Site Establishment & Prelims | C6: 1 | D6: item | E6: 10000 | F6: =C6*E6 -> 10000
B7: Engineering, Form 15 & 16 | C7: 1 | D7: item | E7: 7500 | F7: =C7*E7 -> 7500
B9: RTW01: Allowance for a 20KPa Retaining Wall. 2000mm H
B10: RTW01 | C10: 1168 | D10: m2 | E10: 500 | F10: =C10*E10 -> 584000
B11: Total | F11: =SUM(F2:F10) -> 601500

Sheet 50-GANTRY CRANE
A1: GANTRY CRANE
A2: Code | B2: Description | C2: Quantity | D2: Unit | E2: Rate | F2: Total
B3: GANTRY CRANE
B5: 5 Tonne Gantry Crane
B6: Crane | C6: 1 | D6: item | E6: 65000 | F6: =C6*E6 -> 65000
B8: 10 Tonne Gantry Crane
B9: Crane | C9: 1 | D9: item | E9: 95000 | F9: =C9*E9 -> 95000
B10: Total | F10: =SUM(F2:F9) -> 160000

Sheet 51-SPRAY BOOTHES
A1: SPRAY BOOTHES
A2: Code | B2: Description | C2: Quantity | D2: Unit | E2: Rate | F2: Total
B3: SPRAY BOOTHES
B5: CF-14000: Cross Flow Spray Booth 6m wide by 6m high by 14m deep (internal) XFLAM INSULATED PANEL with filtered doors
B6: CF-14000 | C6: 1 | D6: item | E6: 103279 | F6: =C6*E6 -> 103279
B8: CF-24000: Cross Flow Spray Booth 6m wide by 6m high by 24m deep (internal) XFLAM INSULATED PANEL with filtered doors
B9: CF-24000 | C9: 1 | D9: item | E9: 137301 | F9: =C9*E9 -> 137301
B10: Total | F10: =SUM(F2:F9) -> 240580

Sheet 52-KERBING
A1: KERBING
A2: Code | B2: Description | C2: Quantity | D2: Unit | E2: Rate | F2: Total
B3: B1: KERB & CHANNEL
B4: B1 | C4: 1127.21 | D4: m | E4: 35 | F4: =C4*E4 -> 39452.35
B5: Concrete Supply | C5: 152.17335 | D5: m3 | E5: 165 | F5: =C5*E5 -> 25108.603
B6: Concrete Wastage | C6: 22.826003 | D6: m3 | E6: 165 | F6: =C6*E6 -> 3766.2904
B7: Aggi Drainage | C7: 1127.21 | D7: m | E7: 25 | F7: =C7*E7 -> 28180.25
B8: Total | F8: =SUM(F2:F7) -> 96507.493

Sheet 53-STORMWATER DRAINAGE
A1: STORMWATER DRAINAGE
A2: Code | B2: Description | C2: Quantity | D2: Unit | E2: Rate | F2: Total
B3: STORMWATER DRAINAGE
B5: REINFORCED CONCRETE PIPES
B6: 300mm diameter pipe laid in trench. Ave. 1.25m deep.
B7: 300mm Dia Pipe | C7: 92.242 | D7: m | E7: 245 | F7: =C7*E7 -> 22599.29
B8: Detailed Excavation | C8: 103.77225 | D8: m3 | E8: 20 | F8: =C8*E8 -> 2075.445
B9: Removal of Fill | C9: 59.669044 | D9: m3 | E9: 20 | F9: =C9*E9 -> 1193.3809
B10: Acid Sulphate Treatment | C10: 59.669044 | D10: m3 | E10: 10 | F10: =C10*E10 -> 596.69044
B11: Backfilling | C11: 59.669044 | D11: m3 | E11: 25 | F11: =C11*E11 -> 1491.7261
B12: 375mm diameter pipe laid in trench. Ave. 1.50m deep.
B13: 375mm Dia Pipe | C13: 241.396 | D13: m | E13: 290 | F13: =C13*E13 -> 70004.84
B14: Detailed Excavation | C14: 353.04165 | D14: m3 | E14: 20 | F14: =C14*E14 -> 7060.833
B15: Removal of Fill | C15: 202.99895 | D15: m3 | E15: 20 | F15: =C15*E15 -> 4059.979
B16: Acid Sulphate Treatment | C16: 202.99895 | D16: m3 | E16: 10 | F16: =C16*E16 -> 2029.9895
B17: Backfilling | C17: 202.99895 | D17: m3 | E17: 25 | F17: =C17*E17 -> 5074.9737
B18: 450mm diameter pipe laid in trench. Ave. 1.75m deep.
B19: 450mm Dia Pipe | C19: 78.741 | D19: m | E19: 325 | F19: =C19*E19 -> 25590.825
B20: Detailed Excavation | C20: 144.68659 | D20: m3 | E20: 20 | F20: =C20*E20 -> 2893.7317
B21: Removal of Fill | C21: 83.194788 | D21: m3 | E21: 20 | F21: =C21*E21 -> 1663.8958
B22: Acid Sulphate Treatment | C22: 83.194788 | D22: m3 | E22: 10 | F22: =C22*E22 -> 831.94788
B23: Backfilling | C23: 83.194788 | D23: m3 | E23: 25 | F23: =C23*E23 -> 2079.8697
B24: 525mm diameter pipe laid in trench. Ave. 1.75m deep.
B25: 525mm Dia Pipe | C25: 452.066 | D25: m | E25: 350 | F25: =C25*E25 -> 158223.1
B26: Detailed Excavation | C26: 890.00494 | D26: m3 | E26: 20 | F26: =C26*E26 -> 17800.099
B27: Removal of Fill | C27: 511.75284 | D27: m3 | E27: 20 | F27: =C27*E27 -> 10235.057
B28: Acid Sulphate Treatment | C28: 511.75284 | D28: m3 | E28: 10 | F28: =C28*E28 -> 5117.5284
B29: Backfilling | C29: 511.75284 | D29: m3 | E29: 25 | F29: =C29*E29 -> 12793.821
B30: 610mm diameter pipe laid in trench. Ave. 1.75m deep.
B31: 610mm Dia Pipe | C31: 65.332 | D31: m | E31: 375 | F31: =C31*E31 -> 24499.5
B32: Detailed Excavation | C32: 138.34051 | D32: m3 | E32: 20 | F32: =C32*E32 -> 2766.8102
B33: Removal of Fill | C33: 79.545793 | D33: m3 | E33: 20 | F33: =C33*E33 -> 1590.9159
B34: Acid Sulphate Treatment | C34: 79.545793 | D34: m3 | E34: 10 | F34: =C34*E34 -> 795.45793
B35: Backfilling | C35: 79.545793 | D35: m3 | E35: 25 | F35: =C35*E35 -> 1988.6448
B36: 675mm diameter pipe laid in trench. Ave. 1.75m deep.
B37: 610mm Dia Pipe | C37: 11.56 | D37: m | E37: 375 | F37: =C37*E37 -> 4335
B38: Detailed Excavation | C38: 25.79325 | D38: m3 | E38: 20 | F38: =C38*E38 -> 515.865
B39: Removal of Fill | C39: 14.831119 | D39: m3 | E39: 20 | F39: =C39*E39 -> 296.62237
B40: Acid Sulphate Treatment | C40: 14.831119 | D40: m3 | E40: 10 | F40: =C40*E40 -> 148.31119
B41: Backfilling | C41: 14.831119 | D41: m3 | E41: 25 | F41: =C41*E41 -> 370.77797
...

Sheet 54-STORMWATER TREATMENT
A1: STORMWATER TREATMENT
A2: Code | B2: Description | C2: Quantity | D2: Unit | E2: Rate | F2: Total
B3: STORMWATER TREATMENT
B5: Enviro Australis E75 in line Stormwater Quality Treatment Device.
B6: Treatment Device | C6: 3 | D6: item | E6: 35000 | F6: =C6*E6 -> 105000
B7: Installation | C7: 3 | D7: item | E7: 2260 | F7: =C7*E7 -> 6780
B8: Total | F8: =SUM(F2:F7) -> 111780

Sheet 55-FINAL CLEAN
A1: FINAL CLEAN
A2: Code | B2: Description | C2: Quantity | D2: Unit | E2: Rate | F2: Total
B3: FINAL CLEAN
B4: Office | C4: 500 | D4: m2 | E4: 2.5 | F4: =C4*E4 -> 1250
B5: Warehouse | C5: 5500 | D5: m2 | E5: 2 | F5: =C5*E5 -> 11000
B6: Total | F6: =SUM(F2:F5) -> 12250

Sheet 56-PROVISIONAL SUMS
A1: PROVISIONAL SUMS
A2: Code | B2: Description | C2: Quantity | D2: Unit | E2: Rate | F2: Total
B3: PROVISIONAL SUMS
B4: PS01: Soft Landscaping | C4: 1 | D4: item | E4: 40000 | F4: =C4*E4 -> 40000
B5: PS02: Rainwater tank supply & install | C5: 1 | D5: item | E5: 10000 | F5: =C5*E5 -> 10000
B6: PS03: Solar system supply & install | C6: 1 | D6: item | E6: 50000 | F6: =C6*E6 -> 50000
B7: Total | F7: =SUM(F2:F6) -> 100000
