Workbook
Name B17_05___015: #REF!
Name B17_05___015: #REF!
Name B17_05___015: #REF!
Name B17_05___017: 'Register '!$B$25

Sheet Data Entry
A1: Input Data
B2: Job No: | C2: Q7 to Q15
B3: Client: | C3: CSTC
B4: Project Name | C4: Office Fitout
B5: Project Address Line 1 | C5: 17 Commercial St
C6: Brisbane
B7: Site Contact Name | C7: Gavin Wong
B8: Mobile Number | C8: 0412 186 872
B9: Name of Orderer | C9: Gavin Wong
B10: Mobile Number | C10: 0412 186 872
B12: IMPORTANT NOTE
B13: When creating a new purchase order: | C13: Copy the template and rename the sheet according to the purchase order number in the register. Once done, the sheet will display the data entered in the register for Purchase Order Number
C14: ie, for purchase order number P00-001 the sheet would have to be named 001.
C15: Also, all sheets must have 3 digits in its name ie, 001, 050, 100.

Sheet Register 
B5: Project №: | C5: ='Data Entry'!C2 -> Q7 to Q15
B6: Client: | C6: ='Data Entry'!C3 -> CSTC
B7: Project: | C7: ='Data Entry'!C4 -> Office Fitout
B8: Address: | C8: ='Data Entry'!C5 -> 17 Commercial St
C9: ='Data Entry'!C5 -> 17 Commercial St
B11: PO No. | C11: Subcontractor / Supplier | D11: Date Sent | E11: Created By | F11: SCA ref:
A12: 001 | B12: =$C$5&" - "&A12 -> Q7 to Q15 - 001 | C12: Bunnings | D12: 26.04.2018 | E12: GW
A13: 002 | B13: =$C$5&" - "&A13 -> Q7 to Q15 - 002 | C13: Bunnings | D13: 26.04.2018 | E13: GW
A14: 003 | B14: =$C$5&" - "&A14 -> Q7 to Q15 - 003
A15: 004 | B15: =$C$5&" - "&A15 -> Q7 to Q15 - 004
A16: 005 | B16: =$C$5&" - "&A16 -> Q7 to Q15 - 005
A17: 006 | B17: =$C$5&" - "&A17 -> Q7 to Q15 - 006
A18: 007 | B18: =$C$5&" - "&A18 -> Q7 to Q15 - 007
A19: 008 | B19: =$C$5&" - "&A19 -> Q7 to Q15 - 008
A20: 009 | B20: =$C$5&" - "&A20 -> Q7 to Q15 - 009
A21: 009 | B21: =$C$5&" - "&A21 -> Q7 to Q15 - 009
A22: 010 | B22: =$C$5&" - "&A22 -> Q7 to Q15 - 010
A23: 011 | B23: =$C$5&" - "&A23 -> Q7 to Q15 - 011
A24: 012 | B24: =$C$5&" - "&A24 -> Q7 to Q15 - 012
A25: 013 | B25: =$C$5&" - "&A25 -> Q7 to Q15 - 013
... A55: 043 | B55: =$C$5&" - "&A55 -> Q7 to Q15 - 043
A56: 044
A57: 045
A64: 052
A65: 053
A66: 054
A67: 055
A68: 056
A69: 057
A70: 058
A71: 059
A72: 060
A73: 061
... A1011: 999

Sheet Template
A5: Gavin Wong Projects | E5: Telephone: | F5: 0412 186 872
A6: ABN: | E6: Fax:
A8: PO Box 47 | E8: Email: | F8: gavintwong@hotmail.com
A9: Morningside QLD 4170 | E9: Web:
A11: TO: | B11: Bunnimgs
A12: ATTENTION: | G12: DATE: | H12: 26.04.2018
A13: EMAIL:
A14: PHONE: | G14: PURCHASE ORDER NO.
G15: PO-
A16: PROJECT: | B16: ='Register '!C7 -> Office Fitout
A17: ADDRESS: | B17: ='Register '!C8 -> 17 Commercial St
A20: QTY | B20: UNIT | C20: DESCRIPTION | G20: UNIT COST | H20: TOTAL
A45: N.B. GWP projects are long sleeve, long pants, ankle high lace up boots and hard hat sites. Please ensure your personnel comply with this requirement when arriving to site to commence work.
A48: Delivery Required (day/date/time): | G48: Subtotal (excl GST): | H48: =SUM(H21:H44) -> 0
A49: NA | G49: GST Total: | H49: =10%*H48 -> 0
A50: Delivery Instructions: | G50: TOTAL: | H50: =H49+H48 -> 0
A51: NA
A53: SITE CONTACT: | B53: ='Data Entry'!C7 -> Gavin Wong | D53: MOBILE: | E53: ='Data Entry'!C8 -> 0412 186 872
A54: NAME: | B54: ='Data Entry'!C9 -> Gavin Wong | D54: MOBILE: | E54: ='Data Entry'!C10 -> 0412 186 872 | G54: SIGNATURE:
A55: IMPORTANT: All original invoices must be forwarded to 126 Plucks Road Arana Hills Q 4054, or alternatively emailed to gavintwong@hotmail.com no later than the 5th day of the month**. ** Following the month in which the goods or services are provided.

Sheet 001
A5: Gavin Wong Projects | E5: Telephone: | F5: 0412 186 872
A6: ABN: | E6: Fax:
A8: PO Box 47 | E8: Email: | F8: gavintwong@hotmail.com
A9: Morningside QLD 4170 | E9: Web:
A11: TO: | B11: Bunnimgs
A12: ATTENTION: | G12: DATE: | H12: 26.04.2018
A13: EMAIL:
A14: PHONE: | G14: PURCHASE ORDER NO.
G15: PO-001
A16: PROJECT: | B16: ='Register '!C7 -> Office Fitout
A17: ADDRESS: | B17: ='Register '!C8 -> 17 Commercial St
A20: QTY | B20: UNIT | C20: DESCRIPTION | G20: UNIT COST | H20: TOTAL
A21: 39 | B21: each | C21: Gyprock CSR 3600 x 1200 x 13 mm Plasterboard Fyrchek | G21: 49.96 | H21: 1948.44
A22: 109 | B22: each | C22: Gyprock CSR 3600 x 1200 x 10 mm | G22: 22.36 | H22: 2437.24
A45: N.B. GWP projects are long sleeve, long pants, ankle high lace up boots and hard hat sites. Please ensure your personnel comply with this requirement when arriving to site to commence work.
A48: Delivery Required (day/date/time): | G48: Subtotal (excl GST): | H48: =SUM(H21:H44) -> 4385.68
A49: NA | G49: GST Total: | H49: =10%*H48 -> 438.568
A50: Delivery Instructions: | G50: TOTAL: | H50: =H49+H48 -> 4824.248
A51: NA
A53: SITE CONTACT: | B53: ='Data Entry'!C7 -> Gavin Wong | D53: MOBILE: | E53: ='Data Entry'!C8 -> 0412 186 872
A54: NAME: | B54: ='Data Entry'!C9 -> Gavin Wong | D54: MOBILE: | E54: ='Data Entry'!C10 -> 0412 186 872 | G54: SIGNATURE:
A55: IMPORTANT: All original invoices must be forwarded to 126 Plucks Road Arana Hills Q 4054, or alternatively emailed to gavintwong@hotmail.com no later than the 5th day of the month**. ** Following the month in which the goods or services are provided.

Sheet 002
A5: Gavin Wong Projects | E5: Telephone: | F5: 0412 186 872
A6: ABN: | E6: Fax:
A8: PO Box 47 | E8: Email: | F8: gavintwong@hotmail.com
A9: Morningside QLD 4170 | E9: Web:
A11: TO: | B11: Bunnimgs
A12: ATTENTION: | G12: DATE: | H12: 26.04.2018
A13: EMAIL:
A14: PHONE: | G14: PURCHASE ORDER NO.
G15: PO-002
A16: PROJECT: | B16: ='Register '!C7 -> Office Fitout
A17: ADDRESS: | B17: ='Register '!C8 -> 17 Commercial St
A20: QTY | B20: UNIT | C20: DESCRIPTION | G20: UNIT COST | H20: TOTAL
A21: 8 | B21: each | C21: Hume Door 2040 x 820 x 35 Primecoat Honeycomb Flush Door | G21: 26.14 | H21: 209.09
A22: 42 | B22: m | C22: 92 x 18 door jamb | G22: 10.55 | H22: 443.1
A23: 42 | B23: m | C23: 18 x 18 door stop | G23: 2.91 | H23: 122.22
A24: 83 | B24: m | C24: 75 x 12 architrave | G24: 5.82 | H24: 483.06
A25: 8 | B25: each | C25: lane security SS Bal Privacy | G25: 20.88 | H25: 167.04
A26: 24 | B26: each | C26: lane security SS hinges 100mm | G26: 6.14 | H26: 147.36
A27: 8 | B27: each | C27: door retainer | G27: 10.81 | H27: 86.48
A28: 8 | B28: each | C28: skirting door stop | G28: 1.59 | H28: 12.72
A29: 143 | B29: m | C29: skirting door stop | G29: 5.86 | H29: 837.98
A45: N.B. GWP projects are long sleeve, long pants, ankle high lace up boots and hard hat sites. Please ensure your personnel comply with this requirement when arriving to site to commence work.
A48: Delivery Required (day/date/time): | G48: Subtotal (excl GST): | H48: =SUM(H21:H44) -> 2509.05
A49: NA | G49: GST Total: | H49: =10%*H48 -> 250.905
A50: Delivery Instructions: | G50: TOTAL: | H50: =H49+H48 -> 2759.955
A51: NA
A53: SITE CONTACT: | B53: ='Data Entry'!C7 -> Gavin Wong | D53: MOBILE: | E53: ='Data Entry'!C8 -> 0412 186 872
A54: NAME: | B54: ='Data Entry'!C9 -> Gavin Wong | D54: MOBILE: | E54: ='Data Entry'!C10 -> 0412 186 872 | G54: SIGNATURE:
A55: IMPORTANT: All original invoices must be forwarded to 126 Plucks Road Arana Hills Q 4054, or alternatively emailed to gavintwong@hotmail.com no later than the 5th day of the month**. ** Following the month in which the goods or services are provided.
