Workbook

Sheet Version history
B2: DATE | C2: VERSION
B3: 1st May 2023 | C3: 1.0

Sheet Discrepancies
B2: PROJECT | C2: 123 ABC Residential street, QLD
B3: DATE COMPLETED | C3: 45051
B4: COMPLETED BY | C4: 45051
C6: DISCREPANCY | D6: REASONS FOR DISCREPANCY | E6: HOW TO GET BACK ON TRACK
B7: LABOUR COSTS
B8: Superannuation | C8: =Estimated!C4-Actual!F4 -> 0 | D8: nil | E8: N/A
B9: Payroll | C9: =Estimated!C5-Actual!F5 -> 0
B10: Leaves | C10: =Estimated!C6-Actual!F6 -> 0
B11: Training | C11: =Estimated!C7-Actual!F7 -> 0
B12: Development | C12: =Estimated!C8-Actual!F8 -> 0
B13: Demolition labour | C13: =Estimated!C9-Actual!F9 -> 0
B14: Kitchen Labour | C14: =Estimated!C10-Actual!F10 -> 0
B15: Butlers Pantry Labour | C15: =Estimated!C11-Actual!F11 -> 0
B16: Laundry Labour | C16: =Estimated!C12-Actual!F12 -> 0
B17: Plumbing | C17: =Estimated!C13-Actual!F13 -> 0
B18: Electrical | C18: =Estimated!C14-Actual!F14 -> 0
B19: Tiling Labour | C19: =Estimated!C15-Actual!F15 -> 0
B20: Butlers Pantry - Fixed Glass Window Labour | C20: =Estimated!C16-Actual!F16 -> 0
... B24: TOTAL | C24: =Estimated!C20-Actual!F20 -> 0
C25: =Estimated!C21-Actual!F21 -> 0
B26: MATERIAL COSTS | C26: =Estimated!C22-Actual!F22 -> 0
B27: Purchasing | C27: =Estimated!C23-Actual!F23 -> 0
B28: Transportation | C28: =Estimated!C24-Actual!F24 -> 0
B29: Storage | C29: =Estimated!C25-Actual!F25 -> 0
B30: Plant rental | C30: =Estimated!C26-Actual!F26 -> 0
B31: Equipment rental | C31: =Estimated!C27-Actual!F27 -> 0
B32: TOTAL | C32: =Estimated!C28-Actual!F28 -> 0

Sheet Actual
D2: MONTH 1 | E2: MONTH 2 | F2: TOTAL
B3: LABOUR COSTS
B4: Superannuation | C4: 1575 | D4: =C4*60% -> 945 | E4: =C4*40% -> 630 | F4: =SUM(D4:E4) -> 1575
B5: Payroll | C5: 13425 | D5: =C5*60% -> 8055 | E5: =C5*40% -> 5370 | F5: =SUM(D5:E5) -> 13425
B6: Leaves | D6: =C6*60% -> 0 | E6: =C6*40% -> 0 | F6: =SUM(D6:E6) -> 0
B7: Training | D7: =C7*60% -> 0 | E7: =C7*40% -> 0 | F7: =SUM(D7:E7) -> 0
B8: Development | D8: =C8*60% -> 0 | E8: =C8*40% -> 0 | F8: =SUM(D8:E8) -> 0
B9: Demolition labour | C9: 6800 | D9: =C9*60% -> 4080 | E9: =C9*40% -> 2720 | F9: =SUM(D9:E9) -> 6800
B10: Kitchen Labour | C10: 8305 | D10: =C10*60% -> 4983 | E10: =C10*40% -> 3322 | F10: =SUM(D10:E10) -> 8305
B11: Butlers Pantry Labour | C11: 1745 | D11: =C11*60% -> 1047 | E11: =C11*40% -> 698 | F11: =SUM(D11:E11) -> 1745
B12: Laundry Labour | C12: 2000 | D12: =C12*60% -> 1200 | E12: =C12*40% -> 800 | F12: =SUM(D12:E12) -> 2000
B13: Plumbing | C13: 2500 | D13: =C13*60% -> 1500 | E13: =C13*40% -> 1000 | F13: =SUM(D13:E13) -> 2500
B14: Electrical | C14: 3200 | D14: =C14*60% -> 1920 | E14: =C14*40% -> 1280 | F14: =SUM(D14:E14) -> 3200
B15: Tiling Labour | C15: 7930 | D15: =C15*60% -> 4758 | E15: =C15*40% -> 3172 | F15: =SUM(D15:E15) -> 7930
B16: Butlers Pantry - Fixed Glass Window Labour | C16: 160 | D16: =C16*60% -> 96 | E16: =C16*40% -> 64 | F16: =SUM(D16:E16) -> 160
B17: French Doors - Triple Slider Labour | C17: 240 | D17: =C17*60% -> 144 | E17: =C17*40% -> 96 | F17: =SUM(D17:E17) -> 240
B18: Dining Room Slider - Reverse Opening Labour | C18: 400 | D18: =C18*60% -> 240 | E18: =C18*40% -> 160 | F18: =SUM(D18:E18) -> 400
B19: Removal of Debris | C19: 600 | D19: =C19*60% -> 360 | E19: =C19*40% -> 240 | F19: =SUM(D19:E19) -> 600
B20: TOTAL | C20: =SUM(C4:C19) -> 48880 | D20: =C20*60% -> 29328 | E20: =C20*40% -> 19552 | F20: =SUM(D20:E20) -> 48880
D21: =C21*60% -> 0 | E21: =C21*40% -> 0 | F21: =SUM(D21:E21) -> 0
B22: MATERIAL COSTS | D22: =C22*60% -> 0 | E22: =C22*40% -> 0 | F22: =SUM(D22:E22) -> 0
B23: Purchasing | C23: 92440 | D23: =C23*60% -> 55464 | E23: =C23*40% -> 36976 | F23: =SUM(D23:E23) -> 92440
B24: Transportation | C24: 2300 | D24: =C24*60% -> 1380 | E24: =C24*40% -> 920 | F24: =SUM(D24:E24) -> 2300
B25: Storage | D25: =C25*60% -> 0 | E25: =C25*40% -> 0 | F25: =SUM(D25:E25) -> 0
B26: Plant rental | C26: 820 | D26: =C26*60% -> 492 | E26: =C26*40% -> 328 | F26: =SUM(D26:E26) -> 820
B27: Equipment rental | C27: 5270 | D27: =C27*60% -> 3162 | E27: =C27*40% -> 2108 | F27: =SUM(D27:E27) -> 5270
B28: TOTAL | C28: =SUM(C23:C27) -> 100830 | D28: =C28*60% -> 60498 | E28: =C28*40% -> 40332 | F28: =SUM(D28:E28) -> 100830

Sheet Estimated
C2: ESTIMATED
B3: LABOUR COSTS
B4: Superannuation | C4: 1575
B5: Payroll | C5: 13425
B6: Leaves
B7: Training
B8: Development
B9: Demolition labour | C9: 6800
B10: Kitchen Labour | C10: 8305
B11: Butlers Pantry Labour | C11: 1745
B12: Laundry Labour | C12: 2000
B13: Plumbing | C13: 2500
B14: Electrical | C14: 3200
B15: Tiling Labour | C15: 7930
B16: Butlers Pantry - Fixed Glass Window Labour | C16: 160
B17: French Doors - Triple Slider Labour | C17: 240
B18: Dining Room Slider - Reverse Opening Labour | C18: 400
B19: Removal of Debris | C19: 600
B20: TOTAL | C20: =SUM(C4:C19) -> 48880
B22: MATERIAL COSTS
B23: Purchasing | C23: 92440
B24: Transportation | C24: 2300
B25: Storage
B26: Plant rental | C26: 820
B27: Equipment rental | C27: 5270
B28: TOTAL | C28: =SUM(C23:C27) -> 100830
