Workbook

Sheet Summary
A1: 02 PRELIMINARIES
A3: Code | B3: Description | C3: Total
B4: PRELIMINARIES
A5: 01.1 | B5: SUPERVISION / LABOUR COSTS | C5: =SUM('5-SUPERVISION LABOUR COSTS'!F40) -> 802844
A6: 01.2 | B6: AUTHORITY FEES & INSURANCES | C6: =SUM('6-AUTHORITY FEES & INSURANCES'!F11) -> 221112.54
A7: 01.3 | B7: CONSUMABLES & DOCUMENT CONTROL | C7: =SUM('7-CONSUMABLES & DOCUMENT CONTRO'!F20) -> 11823.6
A8: 01.4 | B8: HOARDINGS, GANTRIES AND FENCING | C8: =SUM('8-HOARDINGS, GANTRIES AND FENCI'!F48) -> 41219.58
A9: 01.5 | B9: SITE ACCOMODATION | C9: =SUM('9-SITE ACCOMODATION'!F53) -> 24500.4
A10: 01.6 | B10: TEMPORARY SERVICES | C10: =SUM('10-TEMPORARY SERVICES'!F19) -> 12238.4
A11: 01.7 | B11: CLEANING AND BINS | C11: =SUM('11-CLEANING AND BINS'!F28) -> 24215
A12: 01.8 | B12: SURVEYING & TRAFFIC MANAGEMENT | C12: =SUM('12-SURVEYING & TRAFFIC MANAGEME'!F54) -> 41252.8
A13: 01.9 | B13: SITE SECURITY | C13: =SUM('13-SITE SECURITY'!F18) -> 495
A14: 01.10 | B14: SMALL TOOLS, EQUIPMENT & PLANT | C14: =SUM('14-SMALL TOOLS, EQUIPMENT & PLA'!F124) -> 5210
A15: 01.11 | B15: CRANAGE, HOISTS & SCAFFOLD | C15: =SUM('15-CRANAGE, HOISTS & SCAFFOLD'!F146) -> 3200
B17: TOTAL | C17: =SUM(C4:C15) -> 1188111.3

Sheet 5-SUPERVISION   LABOUR COSTS
A1: SUPERVISION / LABOUR COSTS
A2: Code | B2: Description | C2: Quantity | D2: Unit | E2: Rate | F2: Total
B3: ## DESIGN DEVELOPMENT ##
B4: Design Manager | C4: 10 | D4: week | E4: 4500 | F4: 27000
B5: Project Manager | C5: 10 | D5: week | E5: 5500 | F5: 0
B6: Contracts Administrator 1 | C6: 10 | D6: week | E6: 4000 | F6: 0
B7: Contracts Administrator 2 | C7: 10 | D7: week | E7: 4000 | F7: 0
B8: Team Leader | C8: 10 | D8: week | E8: 6500 | F8: 0
B9: xxxxxx | C9: 10 | D9: week | E9: 0 | F9: =C9*E9 -> 0
B10: xxxxxx | C10: 10 | D10: week | E10: 0 | F10: =C10*E10 -> 0
B12: ## PROCUREMENT | LETTING ##
B13: Design Manager | C13: 9 | D13: week | E13: 4500 | F13: 0
B14: Project Manager | C14: 9 | D14: week | E14: 5500 | F14: 24750
B15: Contracts Administrator 1 | C15: 9 | D15: week | E15: 4000 | F15: =C15*E15 -> 36000
B16: Contracts Administrator 2 | C16: 9 | D16: week | E16: 4000 | F16: 0
B17: Team Leader | C17: 9 | D17: week | E17: 6500 | F17: 0
B18: xxxxxx | C18: 9 | D18: week | E18: 0 | F18: =C18*E18 -> 0
B19: xxxxxx | C19: 9 | D19: week | E19: 0 | F19: =C19*E19 -> 0
B21: ## CONSTRUCTION ##
B22: Design Manager | C22: 33.4 | D22: week | E22: 4500 | F22: 0
B23: Project Manager | C23: 33.4 | D23: week | E23: 5500 | F23: 91850
B24: Contracts Administrator 1 | C24: 33.4 | D24: week | E24: 4000 | F24: =C24*E24 -> 133600
B25: Contracts Administrator 2 | C25: 33.4 | D25: week | E25: 3000 | F25: 50100
B26: Team Leader | C26: 33.4 | D26: week | E26: 6500 | F26: 0
B27: Site Manager 1 | C27: 33.4 | D27: week | E27: 5000 | F27: =C27*E27 -> 167000
B28: Site Manager 2 | C28: 33.4 | D28: week | E28: 5000 | F28: 0
B29: Structural Foreman 1 | C29: 33.4 | D29: week | E29: 4500 | F29: =C29*E29 -> 150300
B30: Structural Foreman 2 | C30: 33.4 | D30: week | E30: 4500 | F30: 0
B31: Finishes Foreman 1 | C31: 33.4 | D31: week | E31: 4500 | F31: 0
B32: Finishes Foreman 2 | C32: 33.4 | D32: week | E32: 4500 | F32: 0
B33: Structural Leading Hand 1 | C33: 33.4 | D33: week | E33: 4100 | F33: 0
B34: Structural Leading Hand 2 | C34: 33.4 | D34: week | E34: 4100 | F34: 0
B35: Site HSEQ Officer | C35: 33.4 | D35: week | E35: 4800 | F35: 32064
B36: Site Official - Bananas | C36: 33.4 | D36: week | E36: 5700 | F36: 0
B37: Labourer 1 - Skilled | C37: 33.4 | D37: week | E37: 4500 | F37: 90180
B38: Labourer 2 - Skilled | C38: 33.4 | D38: week | E38: 4500 | F38: 0
B39: Peggy | C39: 33.4 | D39: week | E39: 5000 | F39: 0
B40: Total | F40: =SUM(F2:F39) -> 802844

Sheet 6-AUTHORITY FEES & INSURANCES
A1: AUTHORITY FEES & INSURANCES
A2: Code | B2: Description | C2: Quantity | D2: Unit | E2: Rate | F2: Total
B3: ## FEES & INSURANCES ##
B4: Contract works, third party liability and professional indemnity insurance (Gross project value) | C4: 1 | D4: item | E4: 104943.75 | F4: =C4*E4 -> 104943.75
B5: Portable long service levy | Q Leave | C5: 1 | D5: item | E5: 104060.79 | F5: =C5*E5 -> 104060.79
B6: Legal fee's | C6: 1 | D6: item | E6: 2500 | F6: 0
B8: ## INSURANCE BONDS / BANK GUARANTEES ##
B9: Insurance bonds | C9: 1 | D9: item | E9: 0 | F9: =C9*E9 -> 0
B10: Bank guarantees | C10: 1 | D10: item | E10: 12108 | F10: =C10*E10 -> 12108
B11: Total | F11: =SUM(F2:F10) -> 221112.54

Sheet 7-CONSUMABLES & DOCUMENT CONTRO
A1: CONSUMABLES & DOCUMENT CONTROL
A2: Code | B2: Description | C2: Quantity | D2: Unit | E2: Rate | F2: Total
B3: ## SITE PURCHASES ##
B4: First Aid Box | C4: 1 | D4: item | E4: 250 | F4: =C4*E4 -> 250
B5: First Aid Supplies | C5: 33.4 | D5: week | E5: 10 | F5: =C5*E5 -> 334
B6: Office equipment and maintenance | C6: 33.4 | D6: week | E6: 30 | F6: =C6*E6 -> 1002
B7: Office stationary and supplies | C7: 33.4 | D7: week | E7: 30 | F7: =C7*E7 -> 1002
B8: Site Consumables | C8: 33.4 | D8: week | E8: 40 | F8: =C8*E8 -> 1336
B9: Safety Consumables | C9: 33.4 | D9: week | E9: 40 | F9: =C9*E9 -> 1336
B10: Carparking | C10: 1 | D10: item | E10: 10000 | F10: 0
B12: ## TELEPHONES | COMMUNICATIONS ##
B13: 2 Ways radios | C13: 1 | D13: item | E13: 2500 | F13: 0
B14: Temporary mobile; telephones and intercom | C14: 33.4 | D14: week | E14: 100 | F14: 0
B15: Time Lapse Camera | C15: 1 | D15: item | E15: 6563.6 | F15: =C15*E15 -> 6563.6
B17: ## ACONEX | DOCUMENT CONTROL & ISSUING ##
B18: Document reproduction / distribution | C18: 33.4 | D18: week | E18: 20 | F18: 0
B19: Couriers and mail expenses | C19: 33.4 | D19: week | E19: 30 | F19: 0
B20: Total | F20: =SUM(F2:F19) -> 11823.6

Sheet 8-HOARDINGS, GANTRIES AND FENCI
A1: HOARDINGS, GANTRIES AND FENCING
A2: Code | B2: Description | C2: Quantity | D2: Unit | E2: Rate | F2: Total
B3: ## HARDSTAND (CRUSH ROCK BASES) ##
B4: Office Compound | C4: 500 | D4: m2 | E4: 12 | F4: =C4*E4 -> 6000
B5: Temporary Roads | C5: 0 | D5: m2 | E5: 60 | F5: =C5*E5 -> 0
B7: ## HOARDINGS | SITE WORKS ##
B8: Plywood Hoardings (including framing, plywood and painting (black)) - Supply & Install | C8: 0 | D8: m | E8: 200 | F8: =C8*E8 -> 0
B9: Gates | C9: 0 | D9: item | E9: 500 | F9: =C9*E9 -> 0
B11: ## GANTRIES ##
B12: Gantry allowance (30 weeks) | C12: 150 | D12: m | E12: 1750 | F12: 0
B13: Additional hire | C13: 3.4 | D13: week | E13: 765 | F13: 0
B15: ## TEMPORARY FENCE HIRE ##
B16: Temp Fencing (0-3 Months) | C16: 0 | D16: m | E16: 8.5 | F16: =C16*E16 -> 0
B17: Temp Fencing (0-6 Months) | C17: 0 | D17: m | E17: 9 | F17: =C17*E17 -> 0
B18: Temp Fencing (0-9 Months) | C18: 1223.39 | D18: m | E18: 12 | F18: =C18*E18 -> 14680.68
B19: Temp Fencing (0-12 Months) | C19: 0 | D19: m | E19: 15 | F19: =C19*E19 -> 0
B20: Temp Fencing (0-18 Months) | C20: 0 | D20: m | E20: 21 | F20: =C20*E20 -> 0
B21: Un-Branded Shade Cloth | C21: 0 | D21: m | E21: 4 | F21: =C21*E21 -> 0
B22: Branded Shade Cloth | C22: 1223.39 | D22: m | E22: 10.04087 | F22: =C22*E22 -> 12283.9
B24: ## TEMPORARY HOARDING HIRE ##
B25: Hoarding Panels (0-3 Months) | C25: 0 | D25: m | E25: 13 | F25: =C25*E25 -> 0
B26: Hoarding Panels (0-6 Months) | C26: 0 | D26: m | E26: 14 | F26: =C26*E26 -> 0
B27: Hoarding Panels (0-9 Months) | C27: 0 | D27: m | E27: 17 | F27: =C27*E27 -> 0
B28: Hoarding Panels (0-12 Months) | C28: 0 | D28: m | E28: 20 | F28: =C28*E28 -> 0
B29: Hoarding Panels (0-18 Months) | C29: 0 | D29: m | E29: 27.5 | F29: =C29*E29 -> 0
B31: ## SIGNAGE ##
B32: Site Signage | C32: 6 | D32: item | E32: 40 | F32: =C32*E32 -> 240
B33: Safety Signage | C33: 6 | D33: item | E33: 40 | F33: =C33*E33 -> 240
B34: Project Signboard | C34: 2 | D34: item | E34: 250 | F34: =C34*E34 -> 500
B36: ## MISCELLANEOUS ##
B37: Make Good Pavements | C37: 80 | D37: m2 | E37: 80 | F37: =C37*E37 -> 6400
B38: Temporary Crossovers | C38: 0 | D38: m2 | E38: 80 | F38: =C38*E38 -> 0
B40: ## PROTECTION ##
B41: Floor protection - black plastic | C41: 0 | D41: m2 | E41: 1 | F41: =C41*E41 -> 0
B42: Floor protection - woven plastic | C42: 500 | D42: m2 | E42: 1.75 | F42: =C42*E42 -> 875
B43: Floor protection - coreflute | C43: 0 | D43: m2 | E43: 2.5 | F43: =C43*E43 -> 0
B44: Floor protection - hardboard | C44: 0 | D44: m2 | E44: 8 | F44: =C44*E44 -> 0
B45: Lift protection (Plywood Fitout) | C45: 0 | D45: item | E45: 1280.4 | F45: =C45*E45 -> 0
B46: Bathroom protection | C46: 0 | D46: item | E46: 1750 | F46: =C46*E46 -> 0
B47: Aircon - return air filters - 2 to 4 per floor | C47: 0 | D47: item | E47: 45 | F47: =C47*E47 -> 0
...

Sheet 9-SITE ACCOMODATION
A1: SITE ACCOMODATION
A2: Code | B2: Description | C2: Quantity | D2: Unit | E2: Rate | F2: Total
B3: ## HUTS, SHEDS & OFFICES ##
B4: First Aid Room
B5: First Aid Room 4.8m x 3.0m | C5: 33.4 | D5: week | E5: 84 | F5: =C5*E5 -> 2805.6
B6: First Aid Room 6.0m x 3.0m | C6: 33.4 | D6: week | E6: 105 | F6: 0
B7: Change Room Delivery/Collection | C7: 1 | D7: drop | E7: 530 | F7: =C7*E7 -> 530
B9: Meals/Mess Rooms
B10: Meal Room 6.0m x 3.0 m | C10: 33.4 | D10: week | E10: 70 | F10: 0
B11: Meal Room 9.6m x 3.0m | C11: 33.4 | D11: week | E11: 98 | F11: 0
B12: Meal Room 12.0m x 3.0m | C12: 33.4 | D12: week | E12: 105 | F12: =C12*E12 -> 3507
B13: Meal/Mess 6.0m/9.6m Delivery/Collection | C13: 0 | D13: drop | E13: 530 | F13: =C13*E13 -> 0
B14: Meal/Mess 12.0m Delivery/Collection | C14: 1 | D14: drop | E14: 840 | F14: =C14*E14 -> 840
B16: Offices
B17: Office 3.6m x 2.4m | C17: 33.4 | D17: week | E17: 63 | F17: 0
B18: Office 3.6m x 3.0m | C18: 33.4 | D18: week | E18: 63 | F18: 0
B19: Office 4.8m x 2.4m | C19: 33.4 | D19: week | E19: 63 | F19: 0
B20: Office 6.0m x 3.0m | C20: 33.4 | D20: week | E20: 70 | F20: 0
B21: Office 9.6m x 3.0m | C21: 33.4 | D21: week | E21: 98 | F21: 0
B22: Office 12.0m x 3.0m | C22: 33.4 | D22: week | E22: 105 | F22: =C22*E22 -> 3507
B23: Office 3.6m/4.8m/6.0m Delivery/Collection | C23: 0 | D23: drop | E23: 530 | F23: =C23*E23 -> 0
B24: Office 9.0m Delivery/Collection | C24: 0 | D24: drop | E24: 750 | F24: =C24*E24 -> 0
B25: Office 12.0m Delivery/Collection | C25: 1 | D25: drop | E25: 840 | F25: =C25*E25 -> 840
B27: Site Storage Containers
B28: Container 3.0m x 2.4m | C28: 33.4 | D28: week | E28: 24.5 | F28: 0
B29: Container 6.0m x 2.4m | C29: 33.4 | D29: week | E29: 24.5 | F29: 0
B30: Container Delivery/Pickup | C30: 0 | D30: drop | E30: 530 | F30: =C30*E30 -> 0
B32: Toilets | Abulution Blocks
B33: Abulution Block 2.4 x 2.4m - 2 Pan | C33: 33.4 | D33: week | E33: 91 | F33: 0
B34: Abulution Block 3.6 x 2.4m - 3 Pan | C34: 33.4 | D34: week | E34: 105 | F34: 0
B35: Abulution Block 4.8 x 3.0m - 4 Pan | C35: 33.4 | D35: week | E35: 105 | F35: 0
B36: Abulution Block 6.0 x 3.0m - 5 Pan | C36: 33.4 | D36: week | E36: 112 | F36: =C36*E36 -> 3740.8
B37: Abulution Block 7.2 x 3.0m - 6 Pan | C37: 33.4 | D37: week | E37: 175 | F37: 0
B38: Abulution Block 12.0 x 3.0m - 10 Pan | C38: 33.4 | D38: week | E38: 182 | F38: 0
B39: Waste Tank. 3600 - 4800mm x 2400mm | C39: 33.4 | D39: week | E39: 63 | F39: 0
B40: Waste Tank. 6000mm x 2400mm | C40: 33.4 | D40: week | E40: 70 | F40: 0
B41: Abulution Servicing - Fortnightly | C41: 16.7 | D41: fort | E41: 250 | F41: 0
B42: Abulution Block Delivery/Collection | C42: 1 | D42: drop | E42: 530 | F42: =C42*E42 -> 530
B43: Portaloo incl weekly service | C43: 33.4 | D43: week | E43: 70 | F43: 0
B45: Purpose Built
...

Sheet 10-TEMPORARY SERVICES
A1: TEMPORARY SERVICES
A2: Code | B2: Description | C2: Quantity | D2: Unit | E2: Rate | F2: Total
B3: ## ELECTRICAL ##
B4: Power Usage - Low Usage Site | C4: 33.4 | D4: week | E4: 50 | F4: 0
B5: Power Usage - Medium Usage Site | C5: 33.4 | D5: week | E5: 125 | F5: =C5*E5 -> 4175
B6: Power Usage - High Usage Site | C6: 33.4 | D6: week | E6: 250 | F6: 0
B7: Temp Power Boards | C7: 0 | D7: item | E7: 1000 | F7: =C7*E7 -> 0
B8: Temp Power Pole. Including Pole, O/H 80Amp, install/remove and minium 12 weeks period. | C8: 1 | D8: item | E8: 850 | F8: =C8*E8 -> 850
B9: Temp Power Pole. Additional weekly hire after 12 weeks | C9: 21.4 | D9: week | E9: 41 | F9: =C9*E9 -> 877.4
B11: ## HYDRAULICS ##
B12: Water Usage - Low Usage Site | C12: 33.4 | D12: week | E12: 40 | F12: =C12*E12 -> 1336
B13: Water Usage - Medium Usage Site | C13: 33.4 | D13: week | E13: 120 | F13: 0
B14: Water Usage - High Usage Site | C14: 33.4 | D14: week | E14: 240 | F14: 0
B16: ## SEWER ##
B17: Sewer line to connect into existing | C17: 100 | D17: m | E17: 50 | F17: =C17*E17 -> 5000
B18: Allowance for authorities, design and connections | C18: 1 | D18: item | E18: 10000 | F18: 0
B19: Total | F19: =SUM(F2:F18) -> 12238.4

Sheet 11-CLEANING AND BINS
A1: CLEANING AND BINS
A2: Code | B2: Description | C2: Quantity | D2: Unit | E2: Rate | F2: Total
B3: ## FINAL CLEAN ##
B4: Building Common Areas | C4: 0 | D4: m2 | E4: 1.5 | F4: =C4*E4 -> 0
B5: Façade - Residential | C5: 0 | D5: m2 | E5: 5.33 | F5: =C5*E5 -> 0
B6: Apartments / Hotel Rooms | C6: 0 | D6: room | E6: 399 | F6: =C6*E6 -> 0
B7: Road cleaning | C7: 0 | D7: m2 | E7: 8 | F7: =C7*E7 -> 0
B9: ## PROGRESSIVE CLEAN ##
B10: Cleaner to clean / tidy up general amentities & work site - 4 Hours per week | C10: 33.4 | D10: hour/week | E10: 60 | F10: 4008
B12: ## BIN HIRE ##
B13: 3m3 | C13: 33.4 | D13: no/week | E13: 200 | F13: 0
B14: 4m3 | C14: 33.4 | D14: no/week | E14: 270 | F14: 0
B15: 6m3 | C15: 33.4 | D15: no/week | E15: 375 | F15: 0
B16: 8m3 | C16: 33.4 | D16: no/week | E16: 520 | F16: 0
B17: 12m3 | C17: 33.4 | D17: no/week | E17: 605 | F17: =C17*E17 -> 20207
B18: 15m3 | C18: 33.4 | D18: no/week | E18: 705 | F18: 0
B20: ## 660 LITRE BIN HIRE ##
B21: 660 Litre Bin Hire | C21: 33.4 | D21: no/week | E21: 5 | F21: 0
B22: 660 Litre Bin Empty | C22: 33.4 | D22: no/week | E22: 50 | F22: 0
B24: ## RUBBISH CHUTE ##
B25: Hire - per m section | C25: 33.4 | D25: m/week | E25: 50 | F25: 0
B26: Erect & Dismantle | C26: 1 | D26: item | E26: 3000 | F26: 0
B27: Transport | C27: 1 | D27: item | E27: 600 | F27: 0
B28: Total | F28: =SUM(F2:F27) -> 24215

Sheet 12-SURVEYING & TRAFFIC MANAGEME
A1: SURVEYING & TRAFFIC MANAGEMENT
A2: Code | B2: Description | C2: Quantity | D2: Unit | E2: Rate | F2: Total
B3: ## SURVEYING ##
B4: Identification Survey of Boundaries
B5: Field Work | C5: 8 | D5: hour | E5: 150 | F5: =C5*E5 -> 1200
B6: Office Work | C6: 4 | D6: hour | E6: 150 | F6: =C6*E6 -> 600
B7: Initial Site Establishment inclusive of survey control and RLs
B8: Field Work | C8: 8 | D8: hour | E8: 150 | F8: =C8*E8 -> 1200
B9: Office Work | C9: 4 | D9: hour | E9: 150 | F9: =C9*E9 -> 600
B10: Setout of Piles/Bored Piers/Ground Improvements
B11: Field Work | C11: 8 | D11: hour | E11: 150 | F11: =C11*E11 -> 1200
B12: Office Work | C12: 4 | D12: hour | E12: 150 | F12: =C12*E12 -> 600
B13: Calculations of Building Elements from Architectural, Structural, Services and Civil Drawings
B14: Architechural
B15: Field Work | C15: 16 | D15: hour | E15: 150 | F15: =C15*E15 -> 2400
B16: Office Work | C16: 8 | D16: hour | E16: 150 | F16: =C16*E16 -> 1200
B17: Structural
B18: Field Work | C18: 32 | D18: hour | E18: 150 | F18: =C18*E18 -> 4800
B19: Office Work | C19: 16 | D19: hour | E19: 150 | F19: =C19*E19 -> 2400
B20: Services
B21: Field Work | C21: 8 | D21: hour | E21: 150 | F21: =C21*E21 -> 1200
B22: Office Work | C22: 4 | D22: hour | E22: 150 | F22: =C22*E22 -> 600
B23: Civil
B24: Field Work | C24: 40 | D24: hour | E24: 150 | F24: =C24*E24 -> 6000
B25: Office Work | C25: 20 | D25: hour | E25: 150 | F25: =C25*E25 -> 3000
B26: As Constructed Survey (BAC AS CON SURVEY)
B27: Field Work | C27: 20 | D27: hour | E27: 150 | F27: =C27*E27 -> 3000
B28: Office Work | C28: 20 | D28: hour | E28: 150 | F28: =C28*E28 -> 3000
B30: ## TRAFFIC MANAGEMENT ##
B31: Days per week | C31: 5 | D31: day
B32: Hours per day | C32: 8 | D32: hour
B33: No of Controllers | C33: 2 | D33: each
B34: Weeks | C34: 1 | D34: week
B35: Traffic Controllers
B36: Day Rate - Non Bananas | C36: 80 | D36: hour | E36: 61.91 | F36: =C36*E36 -> 4952.8
B37: Night Rate - Non Bananas | C37: 80 | D37: hour | E37: 88.58 | F37: 0
B38: Day Rate - Bananas | C38: 80 | D38: hour | E38: 110.4 | F38: 0
B39: Night Rate - Bananas | C39: 80 | D39: hour | E39: 169.48 | F39: 0
B40: Vechicles and Equipment
B41: Traffic Control Vehicle – Fully Equipped | C41: 40 | D41: hour | E41: 20 | F41: =C41*E41 -> 800
...

Sheet 13-SITE SECURITY
A1: SITE SECURITY
A2: Code | B2: Description | C2: Quantity | D2: Unit | E2: Rate | F2: Total
B3: ## SITE SECURITY ##
B4: Security System | C4: 1 | D4: item | E4: 3000 | F4: 0
B5: Monitoring | C5: 33.4 | D5: week | E5: 12 | F5: 0
B6: Call outs to last | C6: 16.7 | D6: no/weeks | E6: 120 | F6: 0
B7: Watchman | C7: 16.7 | D7: no/weeks | E7: 1000 | F7: 0
B8: Security Guard | C8: 16.7 | D8: no/weeks | E8: 2737 | F8: 0
B10: ## CHAINS & PADLOCKS ##
B11: Delivery | C11: 1 | D11: drop | E11: 25 | F11: =C11*E11 -> 25
B12: Abus Square Chain. 8mm x 400mm L | C12: 5 | D12: item | E12: 22 | F12: =C12*E12 -> 110
B13: Gen 6 Padlock | C13: 5 | D13: item | E13: 55 | F13: =C13*E13 -> 275
B14: Gen 6 Keys | C14: 5 | D14: item | E14: 17 | F14: =C14*E14 -> 85
B16: ## SITE SECURITY CAMERA ##
B17: Camera | C17: 1 | D17: item | E17: 3935 | F17: 0
B18: Total | F18: =SUM(F2:F17) -> 495

Sheet 14-SMALL TOOLS, EQUIPMENT & PLA
A1: SMALL TOOLS, EQUIPMENT & PLANT
A2: Code | B2: Description | C2: Quantity | D2: Unit | E2: Rate | F2: Total
B3: ## SMALL TOOLS AND EQUIPMENT ##
B4: Small tools and equipment - Small Site | C4: 33.4 | D4: week | E4: 150 | F4: =C4*E4 -> 5010
B5: Small tools and equipment - Medium Site | C5: 33.4 | D5: week | E5: 250 | F5: 0
B6: Small tools and equipment - Large Site | C6: 33.4 | D6: week | E6: 400 | F6: 0
B8: ## JOB BOX ##
B9: Allowance to re-stock existing Job Box with Provisions | C9: 1 | D9: item | E9: 200 | F9: =C9*E9 -> 200
B10: Allowance for new Job Box & Provisions | C10: 1 | D10: item | E10: 750 | F10: 0
B12: ## MOBILE SCAFFOLD ##
B13: Scaffold Tower: 2.0m H | C13: 4 | D13: week | E13: 81.2 | F13: 0
B14: Scaffold Tower: 2.0m - 3.0m H | C14: 4 | D14: week | E14: 122.5 | F14: 0
B15: Scaffold Tower: 3.0m - 4.0m H | C15: 4 | D15: week | E15: 163.1 | F15: 0
B16: Scaffold Tower: 4.0m - 5.0m H | C16: 4 | D16: week | E16: 209.3 | F16: 0
B17: Scaffold Tower: 5.0m - 6.0m H | C17: 4 | D17: week | E17: 245 | F17: 0
B18: Scaffold Tower: 6.0m - 7.0m H | C18: 4 | D18: week | E18: 280 | F18: 0
B19: Scaffold Tower: 7.0m - 8.0m H | C19: 4 | D19: week | E19: 315 | F19: 0
B20: Scaffold Tower: 8.0m - 9.0m H | C20: 4 | D20: week | E20: 364 | F20: 0
B22: ## ACCESS EQUIPMENT ##
B23: Manlift
B24: 2.7m - 4.5m Electric | C24: 0 | D24: week | E24: 350 | F24: =C24*E24 -> 0
B25: 4.6m - 6.6m Electric | C25: 0 | D25: week | E25: 385 | F25: =C25*E25 -> 0
B26: 6.7m - 7.9m Electric | C26: 0 | D26: week | E26: 546 | F26: =C26*E26 -> 0
B27: Delivery/Pickup allowance | C27: 0 | D27: drop | E27: 310 | F27: =C27*E27 -> 0
B28: Knuckle Booms
B29: 9.1m - 10.6m Electric | C29: 0 | D29: week | E29: 735 | F29: =C29*E29 -> 0
B30: 9.1m - 10.6m Diesel | C30: 0 | D30: week | E30: 735 | F30: =C30*E30 -> 0
B31: 12.1m - 15.0m Diesel | C31: 0 | D31: week | E31: 770 | F31: =C31*E31 -> 0
B32: 18.0m Diesel | C32: 0 | D32: week | E32: 1120 | F32: =C32*E32 -> 0
B33: 24.3m Diesel | C33: 0 | D33: week | E33: 1365 | F33: =C33*E33 -> 0
B34: 41.1m Diesel | C34: 0 | D34: week | E34: 2240 | F34: =C34*E34 -> 0
B35: Fuel allowance | C35: 0 | D35: week | E35: 200 | F35: =C35*E35 -> 0
B36: Delivery/Pickup allowance | C36: 0 | D36: drop | E36: 480 | F36: =C36*E36 -> 0
B37: Straight Booms
B38: 12.1m - 14.0m Diesel | C38: 0 | D38: week | E38: 770 | F38: =C38*E38 -> 0
B39: 18.0m - 20.1m Diesel | C39: 0 | D39: week | E39: 1120 | F39: =C39*E39 -> 0
B40: 24.3m - 26.8m Diesel | C40: 0 | D40: week | E40: 1379 | F40: =C40*E40 -> 0
B41: Fuel allowance | C41: 0 | D41: week | E41: 200 | F41: =C41*E41 -> 0
B42: Delivery/Pickup allowance | C42: 0 | D42: drop | E42: 480 | F42: =C42*E42 -> 0
B43: Scissor Lifts
...

Sheet 15-CRANAGE, HOISTS & SCAFFOLD
A1: CRANAGE, HOISTS & SCAFFOLD
A2: Code | B2: Description | C2: Quantity | D2: Unit | E2: Rate | F2: Total
B3: ## MOBILE CRANES ##
B4: Site Establishment
B5: Site Mobilisation (Site Sheds etc) - 25 Tonne Franna + 1 Dogman | C5: 8 | D5: hour | E5: 200 | F5: =C5*E5 -> 1600
B6: Site De-mobilisation (Site Sheds etc) - 25 Tonne Franna + 1 Dogman | C6: 8 | D6: hour | E6: 200 | F6: =C6*E6 -> 1600
B7: Structural Lifts
B8: Basement Lifts
B9: Basement Lifts - 25 Tonne Franna + 1 Dogman | C9: 8 | D9: hour | E9: 200 | F9: 0
B10: Ground Lifts
B11: In-Ground Bored Piers/Pad Footings etc - 25 Tonne Franna + 1 Dogman | C11: 6 | D11: hour | E11: 200 | F11: 0
B12: Ground Floor Formwork - 25 Tonne Franna + 1 Dogman | C12: 4 | D12: hour | E12: 200 | F12: 0
B13: Ground Floor Reinforcement - 25 Tonne Franna + 1 Dogman | C13: 4 | D13: hour | E13: 200 | F13: 0
B14: Ground Floor Column Formwork/Reinforcement - 25 Tonne Franna + 1 Dogman | C14: 4 | D14: hour | E14: 200 | F14: 0
B15: First Floor Lifts
B16: Formwork Deck Lift Up - 60 tonne slew + 2 dogman | C16: 4 | D16: hour | E16: 425 | F16: 0
B17: Reinforcement Bottom Layer - 60 tonne slew + 2 dogman | C17: 4 | D17: hour | E17: 425 | F17: 0
B18: PTs Lift Up - 60 tonne slew + 2 dogman | C18: 4 | D18: hour | E18: 425 | F18: 0
B19: Reinforcement Top Layer - 60 tonne slew + 2 dogman | C19: 4 | D19: hour | E19: 425 | F19: 0
B20: Concrete Gear Lift Up - 60 tonne slew + 2 dogman | C20: 4 | D20: hour | E20: 425 | F20: 0
B21: Concrete Gear Lift Down - 60 tonne slew + 2 dogman | C21: 4 | D21: hour | E21: 425 | F21: 0
B22: Scaffold/Formwork Lift Down - 60 tonne slew + 2 dogman | C22: 4 | D22: hour | E22: 425 | F22: 0
B23: Columns/RC Walls Formwork/Reinforcement Lift Up - 60 tonne slew + 2 dogman | C23: 4 | D23: hour | E23: 425 | F23: 0
B24: PT Machine Lift Up - 60 tonne slew + 2 dogman | C24: 4 | D24: hour | E24: 425 | F24: 0
B25: Second Floor Lifts
B26: Formwork Deck Lift Up - 80 tonne slew + 2 dogman | C26: 4 | D26: hour | E26: 470 | F26: 0
B27: Reinforcement Bottom Layer - 80 tonne slew + 2 dogman | C27: 4 | D27: hour | E27: 470 | F27: 0
B28: PTs Lift Up - 80 tonne slew + 2 dogman | C28: 4 | D28: hour | E28: 470 | F28: 0
B29: Reinforcement Top Layer - 80 tonne slew + 2 dogman | C29: 4 | D29: hour | E29: 470 | F29: 0
B30: Concrete Gear Lift Up - 80 tonne slew + 2 dogman | C30: 4 | D30: hour | E30: 470 | F30: 0
B31: Concrete Gear Lift Down - 80 tonne slew + 2 dogman | C31: 4 | D31: hour | E31: 470 | F31: 0
B32: Scaffold/Formwork Lift Down - 80 tonne slew + 2 dogman | C32: 4 | D32: hour | E32: 470 | F32: 0
B33: Columns/RC Walls Formwork/Reinforcement Lift Up - 80 tonne slew + 2 dogman | C33: 4 | D33: hour | E33: 470 | F33: 0
B34: PT Machine Lift Up - 80 tonne slew + 2 dogman | C34: 4 | D34: hour | E34: 470 | F34: 0
B36: ## TOWER CRANE ##
B37: Crane 1 - M220DX - Luffing max 55m Boom length, max load 18t @ 17.5m
B38: Signage
B39: Engineered sign to tower crane machine deck with mounting brackets | C39: 2 | D39: item | E39: 10000 | F39: 0
B40: Crane Hire
B41: Tower section to accommodate erection free standing height | C41: 42 | D41: week | E41: 4000 | F41: 0
...
