Workbook
Name Certs: 'Pick List'!$G$66:$G$70
Name ContractAS2124: 'Pick List'!$C$4:$G$4
Name ContractAS2124TradePackage: 'Pick List'!#REF!
Name ContractAS4122: 'Pick List'!#REF!
Name ContractAS4300: 'Pick List'!$C$5:$G$5
Name ContractAS4300_2Stage: 'Pick List'!$C$6:$G$6
Name ContractAS4305: 'Pick List'!#REF!
Name ContractMedWorks: 'Pick List'!$C$7:$G$7
Name ContractMedWorksTradePackage: 'Pick List'!#REF!
Name ContractTypes: 'Pick List'!$A$4:$A$7
Name LocalContractAS2124: 'Pick List'!$C$18:$F$18
Name LocalContractAS2124TradePackage: 'Pick List'!$C$23:$F$23
Name LocalContractAS4122: 'Pick List'!$C$19:$F$19
Name LocalContractAS4300: 'Pick List'!$C$20:$F$20
Name LocalContractAS4300_2Stage: 'Pick List'!$C$21:$F$21
Name LocalContractAS4305: 'Pick List'!#REF!
Name LocalContractMedWorks: 'Pick List'!$C$22:$F$22
Name LocalContractMedWorksTradePackage: 'Pick List'!$C$24:$F$24
Name LocalList: 'Pick List'!$A$10:$A$15
Name pricecriteria: 'Pick List'!$A$53:$A$58

Sheet Introduction
E1: Department of Housing and Public Works QBuild
E4: =IF($C$20="","",VLOOKUP($C$20,'Pick List'!$A$4:$B$7,2,FALSE)) -> ContractAS4300
C6: Dear Tenderer, QBuild, encourages your participation in this tender and urges you to review the documentation suite in it's entirety and submit an offer.
C7: Please complete all Blue coloured fields where applicable. If you have any questions or queries in relation to this tender please use the tender contact information below.
C8: Tenderer Name: | E8: Tenderer ABN:
C9: A.Gabrielli Constructions Pty Ltd | E9: 29 088 090 279
C11: Privacy Statement: The Principal is collecting the personal information on this Tender Workbook for the purposes of tender evaluation and any subsequent contract that may arise. The information may be used in accordance with the provisions of the Tender Documents. Any personal information included on this Tender Workbook may be disclosed to the Tender evaluation panel and their advisors but will not be disclosed to any other third party without the Tenderer’s consent unless authorised or required by law or stipulated in the Tender Documents.
C13: Project
C14: Tender Phone: | D14: Tender Email:
C15: 0474 860 642 | D15: QBuild.NQ.Tenders@epw.qld.gov.au
C16: Project Number: | D16: Project Name:
C17: 93378DC1 | D17: Document & Construct - 9x1 Bed, , 4 x2 Bed Unit Complex ,8 Miles Ave &1265 Riverway Drive, Kelso, Townsville QLD 4815
C19: Non-Pricing Schedule Detailed Instructions & Contract Particulars
C20: Tender Evaluation for AS 4300 General Conditions of Contract
C21: Tenderers to Note: It is a requirement that the non-price responses (including any attachments) do not contain any price elements (unless requested). The responses to each criterion should be limited to stated maximum word limit excluding any supporting documents. Where stated, tenderer is to provide all requested additional documents as this will form part of evaluation of tender. Where requested to provide project personnel details as part of response, any changes to the proposed individuals included with your response must be raised with QBuild and agreed in writing. QBuild also reserves the right to reject any proposed individuals and may seek for alternative individuals to be nominated as part of the delivery of the project. Definitions Social Enterprise - Led by an economic, social, cultural or environmental mission consistent with public or community benefits. Trade to fulfil their mission and derive a substantial portion of their income from trade. Reinvest most of their profit/surplus into the fulfilment of their mission. Aboriginal and Torres Strait Islander Business - One that is at least 50 per cent owned by an Aboriginal person/s and/or a Torres Strait Islander person/s.

Sheet Mandatory Requirements
H1: Department of Housing and Public Works QBuild
I4: =Introduction!$E$4 -> ContractAS4300
B5: =IF(Introduction!$C$20="","Contract Type",Introduction!$C$20) -> Tender Evaluation for AS 4300 General Conditions of Contract | H5: ="Project: "&Introduction!$C$17&" - "&Introduction!$D$17 -> Project: 93378DC1 - Document & Construct - 9x1 Bed, , 4 x2 Bed Unit Complex ,8 Miles Ave &1265 Riverway Drive, Kelso, Townsville QLD 4815
B6: ="Tenderer Name: "&Introduction!$C$9&" "&"ABN: "&Introduction!$E$9 -> Tenderer Name: A.Gabrielli Constructions Pty Ltd ABN: 29 088 090 279
B8: Statement
B9: Where required, this section of the workbook requests documented evidence of the items stated. All tenderers are to provide the supporting documentation with their tender response. Where nothing is stated, a response is not required by the tenderer.
B11: 1. Insurances
B12: Ref. | C12: Insurance | D12: Description | G12: Provide Details and attach Certificate of Currency
B13: 1.1 | C13: Public Liability | D13: =IF(C13="","",VLOOKUP(C13,'Pick List'!$A$66:$B$70,2,FALSE)) -> Policy No: Name of Insurer: Expiry Date: Insured Value: Outstanding Claims (if any): | G13: Please see attached PDF
B14: 1.2 | C14: Workers compensation or Self Employed Insurance | D14: =IF(C14="","",VLOOKUP(C14,'Pick List'!$A$66:$B$70,2,FALSE)) -> Policy No: Name of Insurer: Expiry Date: | G14: Please see attached PDF
B15: 1.3 | C15: Professional Indemnity | D15: =IF(C15="","",VLOOKUP(C15,'Pick List'!$A$66:$B$70,2,FALSE)) -> Policy No: Name of Insurer: Expiry Date: Insured Value: Outstanding Claims (if any): | G15: Please see attached PDF
B17: 2. Licencing and Registration
B18: Ref. | C18: Licencing and Registration | D18: Description | G18: Provide Details
B19: 2.2 | C19: QBCC Builder's Licence | D19: =IF(C19="","",VLOOKUP(C19,'Pick List'!$D$66:$E$70,2,FALSE)) -> Please confirm builder's licence type. Licence number is to be listed on the Offer Form. | G19: Please see attached PDF
B20: 2.2 | C20: Queensland Government Prequalification (PQC) System | D20: =IF(C20="","",VLOOKUP(C20,'Pick List'!$D$66:$E$70,2,FALSE)) -> PQC number to be specified on the Offer Form. | G20: Please see attached PDF
B22: 3. Certifications
B23: Ref. | C23: Certifications | D23: Description | G23: Attached Evidence of Certification
B24: 3.1 | C24: NA | D24: =IF(C24="","",VLOOKUP(C24,'Pick List'!$G$66:$H$70,2,FALSE)) -> Not Applicable
B25: 3.2 | C25: NA | D25: =IF(C25="","",VLOOKUP(C25,'Pick List'!$G$66:$H$70,2,FALSE)) -> Not Applicable
B26: 3.3 | C26: NA | D26: =IF(C26="","",VLOOKUP(C26,'Pick List'!$G$66:$H$70,2,FALSE)) -> Not Applicable
B28: Particulars
B29: 2 | C29: Requirement | E29: 3 | F29: Requirement | H29: 4 | I29: Requirement
C30: Workplace Health and Safety Plan | F30: NA | I30: NA
C31: =IFERROR(VLOOKUP(C30,'Pick List'!$A$53:$B$60,2,FALSE),"") -> Robust safety management processes/practices in place – tenderers are to provide a template of their Safety Management Plan and information regarding the methodology to be used in preparing a site/project specific Safety Management Plan (and submitting when required) should they be awarded the works. | F31: =IFERROR(VLOOKUP(F30,'Pick List'!$A$53:$B$60,2,FALSE),"") -> Not Applicable | I31: =IFERROR(VLOOKUP(I30,'Pick List'!$A$53:$B$60,2,FALSE),"") -> Not Applicable
B33: 2.1 | C33: Tenderer Response | E33: 3.1 | F33: Tenderer Response | H33: 4.1 | I33: Tenderer Response
C34: Please see attached PDF
B36: End of worksheet

Sheet Weighted Non-Price Criteria
C1: Criteria | G1: Department of Housing and Public Works QBuild
C3: =IF($C$14="Not Applicable","Weighted Non-Price Criteria - Local and Social","Weighted Non-Price Criteria") -> Weighted Non-Price Criteria
G4: =Introduction!$E$4 -> ContractAS4300
B5: =IF(Introduction!$C$20="","Contract Type",Introduction!$C$20) -> Tender Evaluation for AS 4300 General Conditions of Contract | G5: ="Project: "&Introduction!$C$17&" - "&Introduction!$D$17 -> Project: 93378DC1 - Document & Construct - 9x1 Bed, , 4 x2 Bed Unit Complex ,8 Miles Ave &1265 Riverway Drive, Kelso, Townsville QLD 4815
B6: ="Tenderer Name: "&Introduction!$C$9&" "&"ABN: "&Introduction!$E$9 -> Tenderer Name: A.Gabrielli Constructions Pty Ltd ABN: 29 088 090 279
B8: Statement
B9: =IF($C$3="Weighted Non-Price Criteria",'Pick List'!I13,'Pick List'!I14) -> This section of the workbook details the weighted non-price criteria particulars associated with this project. It also requires you to respond in detail how your organisation meets or exceeds the selection criteria based on the descriptions provided. While attachments are allowed to support your responses i.e. CV's, Program, Previous work experience etc., we request that your response here provides a detailed overview of how you meet or exceed each individual criterion. Any and all attachments provided in addition to your responses below should support your overall statement ONLY and should be limited in size and pages.
B11: Non-Price | F11: Price
B12: Ref. | C12: Weighted Criteria | D12: Weight | F12: Weighting
B13: L1 | C13: Local Benefits | D13: 4 | F13: 70
B14: R1 | C14: Workplace Health and Safety | D14: 8
B15: R2 | C15: Resources | D15: 10 | F15: Evaluation Methodology
B16: R3 | C16: Methodology and Program | D16: 8 | F16: Method
B17: R4 | C17: Not Applicable | F17: Price Quality Method
D18: =IF(SUM(D13:D17,F13)>100,"Weighting exceeds 100 ("&SUM(D13:D17,F13)&")"&" please re-adjust","Weighting - NPC:"&SUM(D13:D17)&" - PC:"&SUM(F13)&" ("&SUM(D13:D17,F13)&")") -> Weighting - NPC:30 - PC:70 (100)
B19: =IF(C14="","(select criteria)",C14) -> Workplace Health and Safety | F19: =IF(C15="","(select criteria)",C15) -> Resources
B20: R1 | F20: R2 | G20: Description
B21: ="NPC:"&CHAR(10)&D14 -> NPC: 8 | C21: =IFERROR(VLOOKUP($G$4&C14,'Pick List'!$A$28:$E$46,5,FALSE),"") -> Provide evidence and details of the safety systems in place to ensure comprehensive safety management, and relevant experience on projects similar to this project, where you have successfully managed the safety of your Trade-staff, Subcontractors and Consultants, particularly on housing construction sites, including but not limited to the following identified risks; electrical safety, working in ceiling spaces, working at heights, maintaining exclusion zones around the work area, housekeeping, etc. | F21: ="NPC:"&CHAR(10)&D15 -> NPC: 10 | G21: =IFERROR(VLOOKUP($G$4&C15,'Pick List'!$A$28:$E$46,5,FALSE),"") -> The expertise of key personnel will be addressed against the following in evaluating this Criteria: • Who are the key managerial and supervisory personnel? • Key team members proposed for this project including resumes/curricula vitae. • Management structures, roles, and reporting relationships. • Consultant companies and their key personnel proposed for this project, where applicable. • Previous experience and performance on similar projects. • Personnel backup strategy.
B23: R1.1 | C23: Tenderer Response | F23: R2.1 | G23: Tenderer Response
C24: Please see attached PDF | G24: Please see attached PDF
B26: =IF(C16="","(select criteria)",C16) -> Methodology and Program | F26: =IF(C17="","(select criteria)",C17) -> Not Applicable
B27: R3 | C27: Description | F27: R4 | G27: Description
B28: ="NPC:"&CHAR(10)&D16 -> NPC: 8 | C28: =IFERROR(VLOOKUP($G$4&C16,'Pick List'!$A$28:$E$46,5,FALSE),"") -> Tenderers should demonstrate their methodology to achieve the following: • Effective management of the overall project • Effective management of the construction including appropriate focus on coordinating and completing the design and/or construction within the required timeframes and safety in construction • Advance planning (e.g. identification of activities with long lead time, task requiring shop drawings, product nominations or samples, approvals and inspections required) • Risk management - what might go wrong with what consequence and what contingency plans might be adopted if it does? • Compliance with all statutory requirements including workplace health and safety. • Timely contract management – all contractual correspondence, RFIs, EOTs, site meetings, etc stakeholder management, communication management, defects resolution, and project handover activities are planned and managed to ensure high project outcomes. Tenderer to provide a Gantt Chart type program for the project, demonstrating capacity to complete design and/or construction. The program should detail the tenderer’s ability to plan and deliver the project within the required critical timeframes and key milestones and identify key issues. | F28: ="NPC:"&CHAR(10)&D17 -> NPC: | G28: =IFERROR(VLOOKUP($G$4&C17,'Pick List'!$A$28:$E$46,5,FALSE),"") -> This cell purposely left blank
B30: R3.1 | C30: Tenderer Response | F30: R4.1 | G30: Tenderer Response
C31: Please see attached PDF
B33: =IF(C13="","(select Local criteria)",C13) -> Local Benefits
B34: L1 | C34: Description
B35: ="NPC:"&CHAR(10)&D13 -> NPC: 4 | C35: =IFERROR(VLOOKUP($G$4&C13,'Pick List'!$A$28:$E$46,5,FALSE),"") -> The Principal aims to encourage, stimulate and promote local industry engagement through application of a local benefits test. Tenderers are to demonstrate how they will engage the local area community to maximise their involvement on this project. In this regard, the Tenderer is to demonstrate in supplying the following: • Location of office in which project will be delivered including actual address • Details of direct workers (full time and/or part time employees) usual place of employment including: • tenderers total number of direct workers (employees) e.g. 100 full time employees and 28 part time employees • number of direct workers (employees) involved in project e.g. 15 full time employees • % of direct workers that reside within Local Zone (refer to Local Zone table) e.g. 75% within zone 1, 25% within zone 2 • Proposed number of jobs for local community members (including subcontractors and suppliers) that will be supported or utilised in providing the requirements of the contract - full time or project specific e.g. 30 staff. • Proposed level of usage of local trade subcontractors for the contract in accordance with “Amendment to clause 9.2 Subcontracting Sub Contractors shall be local suppliers” detailing each trade/consultancy and their Local Zone in accordance with the Local Zone table descriptions. • Proposed level of involvement of local suppliers, manufacturers and other local businesses in the supply chain and their Local Zone in accordance with the Local Zone table descriptions • Tenderers required to provide a submission on whether/how the tenderers meet the following requirements: • certainty of hours (i.e. weekly hours/roster) for direct workers. • compliance with applicable awards, agreements and other industrial relations instruments (i.e. fair wages and conditions) including superannuation and workers compensation payments for direct workers. • How the tenderer provides a safe job for direct employees where workplace health and safety is paramount. • Workplace and working conditions giving regard to workers having their say and respect for rights of workers regarding union representation and involvement. Local Zone Table Description Zone 1 - We will prioritise suppliers that maintain a workforce whose usual place of residency is located within a 125km radius of where the goods or services are to be supplied. Zone 2 - If a suitable local supplier does not exist within 125km, consideration will be given to suppliers within the local region. Zone 3 - If a suitable supplier does not exist within the local region, consideration will be extended to suppliers within Queensland. Zone 4 - If a suitable supplier does not exist within Queensland, consideration will be extended to suppliers within Australia and New Zealand.
B37: L1.1 | C37: Tenderer Response
C38: Please see attached PDF
B40: End of worksheet

Sheet SubContractors
G4: =Introduction!$E$4 -> ContractAS4300
B5: =IF(Introduction!$C$20="","Contract Type",Introduction!$C$20) -> Tender Evaluation for AS 4300 General Conditions of Contract
B6: ="Tenderer Name: "&Introduction!$C$9&" "&"ABN: "&Introduction!$E$9 -> Tenderer Name: A.Gabrielli Constructions Pty Ltd ABN: 29 088 090 279
B8: Statement
B9: This section requires a listing of the proposed sub-contractor locations and the potential values of the works they may be awarded. We understand that you will not know any or all subcontractors that will be engaged at this time however, we do require nomination of the zones they will be engaged from. Social Enterprises and Aboriginal and Torres Strait Islander Business - As part of the governments strategy to generate social benefits as detailed in the Qld Procurement Policy and Qld Indigenous Procurement Policy please detail below if any of the subcontractors will be either a Social Enterprise or Aboriginal and Torres Strait Islander Business (for definitions see Introduction Tab - Contract Particulars)
D10: Queensland Procurement Policy
B11: Subcontractors
B12: Ref. | C12: For subcontractors (includes services, consultants and suppliers)
C13: Business Name of the proposed Subcontractors | D13: ABN | E13: Description of works or goods to be subcontracted i.e. design consultant; mechanical subcontractor; supply of Air-Conditioning etc) | F13: Local Subcontractor Region - indicate: within 125km radius; within Local Region; within Queensland; outside Queensland | G13: Social Enterprise and/or Indigenous Business
C14: Tenderer Response
B15: A | C15: Mite Constructions | D15: 44 010 111 010 | E15: Site Preparation & Earthworks | F15: Townsville | G15: N/A
B16: B | C16: PJ Walsh | D16: 50 147 432 577 | E16: Concrete Slabs, Pathways, Driveways and Crossovers | F16: Townsville | G16: N/A
B17: C | C17: Mascrete | D17: 79 639 697 269 | E17: Blockwork & Rendering | F17: Townsville | G17: N/A
B18: D | C18: MST Constructions Pty Ltd | D18: 96 647 397 206 | E18: Cladding/ Carpentry | F18: Townsville | G18: N/A
B19: E | C19: JS Welding Services | D19: 83 601 986 538 | E19: Structural Steel | F19: Townsville | G19: N/A
B20: F | C20: Moduline | D20: 82 009 766 741 | E20: Joinery | F20: Townsville | G20: N/A
B21: G | C21: VP Roofing | D21: 31 151 450 896 | E21: Roofing/ Insulaton | F21: Townsville | G21: N/A
B22: H | C22: MST Constructions Pty Ltd | D22: 96 647 397 206 | E22: Ceiling & linings | F22: Townsville | G22: N/A
B23: I | C23: G James | D23: 53 010 828 056 | E23: Windows/ Glazed Doors | F23: Townsville | G23: N/A
B24: J | C24: Jim Roberts Locksmiths | D24: 76 116 629 193 | E24: Doors & Hardware | F24: Townsville | G24: N/A
B25: K | C25: Danlaid Contracting | D25: 77 637 993 474 | E25: Waterproofing | F25: Townsville | G25: N/A
B26: L | C26: Jerry and the tilemakers | D26: 90 609 242 480 | E26: Vinyl & Ceramic tiling | F26: Townsville | G26: N/A
... B28: N | C28: Norfab | D28: 62 119 330 853 | E28: Metalwork | F28: Townsville | G28: N/A
C29: Queensland Signange Solutions | D29: 29 954 056 571 | E29: Signage | F29: Townsville | G29: Indigenous
B30: P | C30: GV&JK Carroll Painting | D30: 24 057 622 410 | E30: Painting | F30: Townsville | G30: N/A
C31: Jendata | D31: 33 160 113 780 | E31: Security and Communications Services / System | F31: Townsville | G31: N/A
C32: Tacoma Plumbing | D32: 52 080 104 927 | E32: Hydraulics Services/ System | F32: Townsville | G32: N/A
C33: Waltlec Industries | D33: 64 318 069 071 | E33: Electrical Services/ System | F33: Townsville | G33: N/A
C34: Peak Air-conditioning Refrigeration & Electrical | D34: 37 116 714 446 | E34: Mechanical Services/ System | F34: Townsville | G34: N/A
C35: Landscaping and Irrigation Specialists | D35: 35 668 808 030 | E35: Soft Landscaping | F35: Townsville | G35: N/A
C36: Secure Fencing | D36: 35 083 983 180 | E36: Fencing, Gates and Screening | F36: Townsville | G36: N/A
C37: Premier Fire | D37: 61 085 589 591 | E37: Fire Hydrant Services | F37: Townsville | G37: N/A
B38: Q
B40: End of worksheet

Sheet Pick List
A1: Non-price Criteria Lists
A2: Contract Type and NPC Titles - Lookup use
A3: Contract Type | B3: Contract ID | C3: NPC Titles
A4: Tender Evaluation for AS 2124 General Conditions of Contract | B4: ContractAS2124 | C4: (select criteria) | D4: Methodology and Program | E4: Resources | F4: Workplace Health and Safety | G4: Not Applicable
A5: Tender Evaluation for AS 4300 General Conditions of Contract | B5: ContractAS4300 | C5: (select criteria) | D5: Methodology and Program | E5: Resources | F5: Workplace Health and Safety | G5: Not Applicable
A6: Tender Evaluation for AS 4300 (2 Stage) General Conditions of Contract | B6: ContractAS4300_2Stage | C6: (select criteria) | D6: Methodology and Program | E6: Resources | F6: Workplace Health and Safety | G6: Not Applicable
A7: Tender Evaluation for Medium Works General Conditions of Contract | B7: ContractMedWorks | C7: (select criteria) | D7: Methodology and Program | E7: Resources | F7: Workplace Health and Safety | G7: Not Applicable
A9: Local Types
A10: (select if Local is applied)
A11: Local not applied
A12: Local Benefits | I12: Statement for Weighted Criteria
A13: Local Benefits (construct) | H13: Standard | I13: This section of the workbook details the weighted non-price criteria particulars associated with this project. It also requires you to respond in detail how your organisation meets or exceeds the selection criteria based on the descriptions provided. While attachments are allowed to support your responses i.e. CV's, Program, Previous work experience etc., we request that your response here provides a detailed overview of how you meet or exceed each individual criterion. Any and all attachments provided in addition to your responses below should support your overall statement ONLY and should be limited in size and pages.
A14: Local Benefits (design and construct) | H14: Local Benefits | I14: This section of the workbook details the weighted local non-price criteria associated with this project. It also requires you to respond in detail how your organisation meets or exceeds this selection criterion based on the description provided. While attachments are allowed to support your response, we request that your response here provides a detailed overview of how you meet or exceed the local criterion. Any and all attachments provided in addition to your response below should support your overall statement ONLY and should be limited in size and pages.
A15: Support for Local Industry
A17: Contract Type | B17: Contract ID | C17: NPC Titles
A18: Tender Evaluation for AS 2124 General Conditions of Contract | B18: ContractAS2124 | C18: (select if Local is applied) | D18: Local Benefits | E18: Local not applied
A19: Tender Evaluation for AS 4122 General Conditions of Contract | B19: ContractAS4122 | C19: (select if Local is applied) | D19: Local Benefits | E19: Support for Local Industry | F19: Local not applied
A20: Tender Evaluation for AS 4300 General Conditions of Contract | B20: ContractAS4300 | C20: (select if Local is applied) | D20: Local Benefits | E20: Local not applied
A21: Tender Evaluation for AS 4300 (2 Stage) General Conditions of Contract | B21: ContractAS4300_2Stage | C21: (select if Local is applied) | D21: Local Benefits | E21: Local not applied
A22: Tender Evaluation for Medium Works General Conditions of Contract | B22: ContractMedWorks | C22: (select if Local is applied) | D22: Local Benefits | E22: Local not applied
A23: Tender Evaluation for AS 2124 Trade Package Special Conditions of Contract and Annexure | B23: ContractAS2124TradePackage | C23: (select if Local is applied) | D23: Local Benefits | E23: Local not applied
A24: Tender Evaluation for Medium Works Trade Package General Conditions of Contract | B24: ContractMedWorksTradePackage | C24: (select if Local is applied) | D24: Local Benefits | E24: Local not applied
A27: ID | B27: Contract Type | C27: Contract Type Description | D27: NPC Titles | E27: NPC Descriptions | F27: NPC Methodology | G27: Weightings | H27: Selection 1 | I27: Selection 2
A28: =B28&D28 -> ContractAS2124Workplace Health and Safety | B28: ContractAS2124 | C28: Tender Evaluation for AS 2124 General Conditions of Contract | D28: Workplace Health and Safety | E28: Provide evidence and details of the safety systems in place to ensure comprehensive safety management, and relevant experience on projects similar to this project, where you have successfully managed the safety of your Trade-staff, Subcontractors and Consultants, particularly on housing construction sites, including but not limited to the following identified risks; electrical safety, working in ceiling spaces, working at heights, maintaining exclusion zones around the work area, housekeeping, etc.
A29: =B29&D29 -> ContractAS2124Methodology and Program | B29: ContractAS2124 | C29: Tender Evaluation for AS 2124 General Conditions of Contract | D29: Methodology and Program | E29: Tenderers should demonstrate their methodology to achieve the following: • Effective management of the overall project • Effective management of the construction including appropriate focus on coordinating and completing the design and/or construction within the required timeframes and safety in construction • Advance planning (e.g. identification of activities with long lead time, task requiring shop drawings, product nominations or samples, approvals and inspections required) • Risk management - what might go wrong with what consequence and what contingency plans might be adopted if it does? • Compliance with all statutory requirements including workplace health and safety. • Timely contract management – all contractual correspondence, RFIs, EOTs, site meetings, etc stakeholder management, communication management, defects resolution, and project handover activities are planned and managed to ensure high project outcomes. Tenderer to provide a Gantt Chart type program for the project, demonstrating capacity to complete design and/or construction. The program should detail the tenderer’s ability to plan and deliver the project within the required critical timeframes and key milestones and identify key issues.
A30: =B30&D30 -> ContractAS2124Resources | B30: ContractAS2124 | C30: Tender Evaluation for AS 2124 General Conditions of Contract | D30: Resources | E30: The expertise of key personnel will be addressed against the following in evaluating this Criteria: • Who are the key managerial and supervisory personnel? • Key team members proposed for this project including resumes/curricula vitae. • Management structures, roles, and reporting relationships. • Consultant companies and their key personnel proposed for this project, where applicable. • Previous experience and performance on similar projects. • Personnel backup strategy.
A31: =B31&D31 -> ContractAS2124Local Benefits | B31: ContractAS2124 | C31: Tender Evaluation for AS 2124 General Conditions of Contract | D31: Local Benefits | E31: The Principal aims to encourage, stimulate and promote local industry engagement through application of a local benefits test. Tenderers are to demonstrate how they will engage the local area community to maximise their involvement on this project. In this regard, the Tenderer is to demonstrate in supplying the following: • Location of office in which project will be delivered including actual address • Details of direct workers (full time and/or part time employees) usual place of employment including: • tenderers total number of direct workers (employees) e.g. 100 full time employees and 28 part time employees • number of direct workers (employees) involved in project e.g. 15 full time employees • % of direct workers that reside within Local Zone (refer to Local Zone table) e.g. 75% within zone 1, 25% within zone 2 • Proposed number of jobs for local community members (including subcontractors and suppliers) that will be supported or utilised in providing the requirements of the contract - full time or project specific e.g. 30 staff. • Proposed level of usage of local trade subcontractors for the contract in accordance with “Amendment to clause 9.2 Subcontracting Sub Contractors shall be local suppliers” detailing each trade/consultancy and their Local Zone in accordance with the Local Zone table descriptions. • Proposed level of involvement of local suppliers, manufacturers and other local businesses in the supply chain and their Local Zone in accordance with the Local Zone table descriptions • Tenderers required to provide a submission on whether/how the tenderers meet the following requirements: • certainty of hours (i.e. weekly hours/roster) for direct workers. • compliance with applicable awards, agreements and other industrial relations instruments (i.e. fair wages and conditions) including superannuation and workers compensation payments for direct workers. • How the tenderer provides a safe job for direct employees where workplace health and safety is paramount. • Workplace and working conditions giving regard to workers having their say and respect for rights of workers regarding union representation and involvement. Local Zone Table Description Zone 1 - We will prioritise suppliers that maintain a workforce whose usual place of residency is located within a 125km radius of where the goods or services are to be supplied. Zone 2 - If a suitable local supplier does not exist within 125km, consideration will be given to suppliers within the local region. Zone 3 - If a suitable supplier does not exist within the local region, consideration will be extended to suppliers within Queensland. Zone 4 - If a suitable supplier does not exist within Queensland, consideration will be extended to suppliers within Australia and New Zealand.
A32: =B32&D32 -> ContractAS2124Not Applicable | B32: ContractAS2124 | C32: Tender Evaluation for AS 2124 General Conditions of Contract | D32: Not Applicable | E32: This cell purposely left blank
A33: =B33&D33 -> ContractAS4300Workplace Health and Safety | B33: ContractAS4300 | C33: Tender Evaluation for AS 4300 General Conditions of Contract | D33: Workplace Health and Safety | E33: Provide evidence and details of the safety systems in place to ensure comprehensive safety management, and relevant experience on projects similar to this project, where you have successfully managed the safety of your Trade-staff, Subcontractors and Consultants, particularly on housing construction sites, including but not limited to the following identified risks; electrical safety, working in ceiling spaces, working at heights, maintaining exclusion zones around the work area, housekeeping, etc.
A34: =B34&D34 -> ContractAS4300Methodology and Program | B34: ContractAS4300 | C34: Tender Evaluation for AS 4300 General Conditions of Contract | D34: Methodology and Program | E34: Tenderers should demonstrate their methodology to achieve the following: • Effective management of the overall project • Effective management of the construction including appropriate focus on coordinating and completing the design and/or construction within the required timeframes and safety in construction • Advance planning (e.g. identification of activities with long lead time, task requiring shop drawings, product nominations or samples, approvals and inspections required) • Risk management - what might go wrong with what consequence and what contingency plans might be adopted if it does? • Compliance with all statutory requirements including workplace health and safety. • Timely contract management – all contractual correspondence, RFIs, EOTs, site meetings, etc stakeholder management, communication management, defects resolution, and project handover activities are planned and managed to ensure high project outcomes. Tenderer to provide a Gantt Chart type program for the project, demonstrating capacity to complete design and/or construction. The program should detail the tenderer’s ability to plan and deliver the project within the required critical timeframes and key milestones and identify key issues.
A35: =B35&D35 -> ContractAS4300Resources | B35: ContractAS4300 | C35: Tender Evaluation for AS 4300 General Conditions of Contract | D35: Resources | E35: The expertise of key personnel will be addressed against the following in evaluating this Criteria: • Who are the key managerial and supervisory personnel? • Key team members proposed for this project including resumes/curricula vitae. • Management structures, roles, and reporting relationships. • Consultant companies and their key personnel proposed for this project, where applicable. • Previous experience and performance on similar projects. • Personnel backup strategy.
A36: =B36&D36 -> ContractAS4300Local Benefits | B36: ContractAS4300 | C36: Tender Evaluation for AS 4300 General Conditions of Contract | D36: Local Benefits | E36: The Principal aims to encourage, stimulate and promote local industry engagement through application of a local benefits test. Tenderers are to demonstrate how they will engage the local area community to maximise their involvement on this project. In this regard, the Tenderer is to demonstrate in supplying the following: • Location of office in which project will be delivered including actual address • Details of direct workers (full time and/or part time employees) usual place of employment including: • tenderers total number of direct workers (employees) e.g. 100 full time employees and 28 part time employees • number of direct workers (employees) involved in project e.g. 15 full time employees • % of direct workers that reside within Local Zone (refer to Local Zone table) e.g. 75% within zone 1, 25% within zone 2 • Proposed number of jobs for local community members (including subcontractors and suppliers) that will be supported or utilised in providing the requirements of the contract - full time or project specific e.g. 30 staff. • Proposed level of usage of local trade subcontractors for the contract in accordance with “Amendment to clause 9.2 Subcontracting Sub Contractors shall be local suppliers” detailing each trade/consultancy and their Local Zone in accordance with the Local Zone table descriptions. • Proposed level of involvement of local suppliers, manufacturers and other local businesses in the supply chain and their Local Zone in accordance with the Local Zone table descriptions • Tenderers required to provide a submission on whether/how the tenderers meet the following requirements: • certainty of hours (i.e. weekly hours/roster) for direct workers. • compliance with applicable awards, agreements and other industrial relations instruments (i.e. fair wages and conditions) including superannuation and workers compensation payments for direct workers. • How the tenderer provides a safe job for direct employees where workplace health and safety is paramount. • Workplace and working conditions giving regard to workers having their say and respect for rights of workers regarding union representation and involvement. Local Zone Table Description Zone 1 - We will prioritise suppliers that maintain a workforce whose usual place of residency is located within a 125km radius of where the goods or services are to be supplied. Zone 2 - If a suitable local supplier does not exist within 125km, consideration will be given to suppliers within the local region. Zone 3 - If a suitable supplier does not exist within the local region, consideration will be extended to suppliers within Queensland. Zone 4 - If a suitable supplier does not exist within Queensland, consideration will be extended to suppliers within Australia and New Zealand.
A37: =B37&D37 -> ContractAS4300Not Applicable | B37: ContractAS4300 | C37: Tender Evaluation for AS 4300 General Conditions of Contract | D37: Not Applicable | E37: This cell purposely left blank
A38: =B38&D38 -> ContractAS4300_2StageWorkplace Health and Safety | B38: ContractAS4300_2Stage | C38: Tender Evaluation for AS 4300 (2 Stage) General Conditions of Contract | D38: Workplace Health and Safety | E38: Provide evidence and details of the safety systems in place to ensure comprehensive safety management, and relevant experience on projects similar to this project, where you have successfully managed the safety of your Trade-staff, Subcontractors and Consultants, particularly on housing construction sites, including but not limited to the following identified risks; electrical safety, working in ceiling spaces, working at heights, maintaining exclusion zones around the work area, housekeeping, etc.
A39: =B39&D39 -> ContractAS4300_2StageMethodology and Program | B39: ContractAS4300_2Stage | C39: Tender Evaluation for AS 4300 (2 Stage) General Conditions of Contract | D39: Methodology and Program | E39: Tenderers should demonstrate their methodology to achieve the following: • Effective management of the overall project • Effective management of the construction including appropriate focus on coordinating and completing the design and/or construction within the required timeframes and safety in construction • Advance planning (e.g. identification of activities with long lead time, task requiring shop drawings, product nominations or samples, approvals and inspections required) • Risk management - what might go wrong with what consequence and what contingency plans might be adopted if it does? • Compliance with all statutory requirements including workplace health and safety. • Timely contract management – all contractual correspondence, RFIs, EOTs, site meetings, etc stakeholder management, communication management, defects resolution, and project handover activities are planned and managed to ensure high project outcomes. Tenderer to provide a Gantt Chart type program for the project, demonstrating capacity to complete design and/or construction. The program should detail the tenderer’s ability to plan and deliver the project within the required critical timeframes and key milestones and identify key issues.
... A46: =B46&D46 -> ContractMedWorksNot Applicable | B46: ContractMedWorks | C46: Tender Evaluation for Medium Works General Conditions of Contract | D46: Not Applicable | E46: This cell purposely left blank
A50: Pricing Lists
A52: MANDATORY Criteria | B52: Text to Insert
A53: (select criteria)
A54: Workplace Health and Safety Plan | B54: Robust safety management processes/practices in place – tenderers are to provide a template of their Safety Management Plan and information regarding the methodology to be used in preparing a site/project specific Safety Management Plan (and submitting when required) should they be awarded the works.
...
