Workbook

Sheet REO SUPPLY SUMMARY
D1: REO SUPPLY: MCU Sheet
D3: PO/ ESTIMATE | K3: ACTUALS
A4: AREA | C4: TYPE | D4: QTY | E4: UNIT | F4: COST $ | G4: TOTAL | K4: QTY's | L4: $ | M4: Var Qty | N4: Var $ | O4: Forecast Qty's to GO | P4: Forcast $ TO GO | Q4: SITE Percentage Completed | R4: Percentage of Area Completed
A5: Admin building Reo Supply
A6: Pad Footings | C6: N12 Bar | D6: 0.15 | E6: tonne | F6: 1215 | G6: =D6*F6 -> 182.25 | K6: ='STEEL DOCKET ENTRY'!G52 -> 0 | L6: =SUM(K6*F6) -> 0 | M6: =SUM(K6-D6) -> -0.15 | N6: =SUM(M6*F6) -> -182.25 | O6: =SUM(D6-K6) -> 0.15 | P6: =SUM(G6-L6) -> 182.25 | R6: =IF($G6=0,0,SUM($L6/$G6)) -> 0
A7: Ground Beams | C7: R10 ligs | D7: 1.1892 | E7: tonne | F7: 1315 | G7: =D7*F7 -> 1563.798 | K7: ='STEEL DOCKET ENTRY'!H52 -> 0 | L7: =F7*K7 -> 0 | M7: =SUM(K7-D7) -> -1.1892 | N7: =SUM(M7*F7) -> -1563.798 | O7: =SUM(D7-K7) -> 1.1892 | P7: =SUM(G7-L7) -> 1563.798 | R7: =IF($G7=0,0,SUM($L7/$G7)) -> 0
A8: Ground Beams | C8: Bar | D8: 3.7631 | E8: tonne | F8: 1215 | G8: =D8*F8 -> 4572.1665 | K8: ='STEEL DOCKET ENTRY'!L52 -> 0 | L8: =SUM(K8*F8) -> 0 | M8: =SUM(K8-D8) -> -3.7631 | N8: =SUM(M8*F8) -> -4572.1665 | O8: =SUM(D8-K8) -> 3.7631 | P8: =SUM(G8-L8) -> 4572.1665 | R8: =IF($G8=0,0,SUM($L8/$G8)) -> 0
A9: Retaining Wall | C9: Bar | D9: 1.1047 | E9: tonne | F9: 1215 | G9: =D9*F9 -> 1342.2105 | K9: ='STEEL DOCKET ENTRY'!Q52 -> 0 | L9: =SUM(K9*F9) -> 0 | M9: =SUM(K9-D9) -> -1.1047 | N9: =SUM(M9*F9) -> -1342.2105 | O9: =SUM(D9-K9) -> 1.1047 | P9: =SUM(G9-L9) -> 1342.2105 | R9: =IF($G9=0,0,SUM($L9/$G9)) -> 0
A10: SOG | C10: N16 Bar | D10: 1.8743 | E10: tonne | F10: 1215 | G10: =D10*F10 -> 2277.2745 | K10: ='STEEL DOCKET ENTRY'!V52 -> 0 | L10: =SUM(K10*F10) -> 0 | M10: =SUM(K10-D10) -> -1.8743 | N10: =SUM(M10*F10) -> -2277.2745 | O10: =SUM(D10-K10) -> 1.8743 | P10: =SUM(G10-L10) -> 2277.2745 | R10: =IF($G10=0,0,SUM($L10/$G10)) -> 0
A11: SOG Waffle Pod | C11: 375mm | D11: =(502.36/1.6)*1.15 -> 361.07125 | E11: each | F11: 14 | G11: =D11*F11 -> 5054.9975 | L11: =SUM(K11*F11) -> 0 | M11: =SUM(K11-D11) -> -361.07125 | N11: =SUM(M11*F11) -> -5054.9975 | O11: =SUM(D11-K11) -> 361.07125 | P11: =SUM(G11-L11) -> 5054.9975 | R11: =IF($G11=0,0,SUM($L11/$G11)) -> 0
A12: SOG Waffle Pod | C12: 300mm | D12: =(37.27/1.6)*1.15 -> 26.787812 | E12: each | F12: 9.2 | G12: =D12*F12 -> 246.44787 | L12: =SUM(K12*F12) -> 0 | M12: =SUM(K12-D12) -> -26.787812 | N12: =SUM(M12*F12) -> -246.44787 | O12: =SUM(D12-K12) -> 26.787812 | P12: =SUM(G12-L12) -> 246.44787 | R12: =IF($G12=0,0,SUM($L12/$G12)) -> 0
A13: SOG Waffle Pod | C13: 4 way spacer | D13: 388 | E13: each | F13: 0.9 | G13: =D13*F13 -> 349.2 | L13: =SUM(K13*F13) -> 0 | M13: =SUM(K13-D13) -> -388 | N13: =SUM(M13*F13) -> -349.2 | O13: =SUM(D13-K13) -> 388 | P13: =SUM(G13-L13) -> 349.2 | R13: =IF($G13=0,0,SUM($L13/$G13)) -> 0
A14: SOG Waffle Pod | C14: 2 way spacer | D14: =388/2 -> 194 | E14: each | F14: 0.75 | G14: =D14*F14 -> 145.5 | L14: =SUM(K14*F14) -> 0 | M14: =SUM(K14-D14) -> -194 | N14: =SUM(M14*F14) -> -145.5 | O14: =SUM(D14-K14) -> 194 | P14: =SUM(G14-L14) -> 145.5 | R14: =IF($G14=0,0,SUM($L14/$G14)) -> 0
A15: Stairs | C15: N32 | D15: 0.24 | E15: tonne | F15: 1215 | G15: =D15*F15 -> 291.6 | L15: =SUM(K15*F15) -> 0 | M15: =SUM(K15-D15) -> -0.24 | N15: =SUM(M15*F15) -> -291.6 | O15: =SUM(D15-K15) -> 0.24 | P15: =SUM(G15-L15) -> 291.6 | R15: =IF($G15=0,0,SUM($L15/$G15)) -> 0
A16: Driveway | C16: R10 ligs | D16: =0.05*1.05 -> 0.0525 | E16: tonne | F16: 1315 | G16: =D16*F16 -> 69.0375 | L16: =SUM(K16*F16) -> 0 | M16: =SUM(K16-D16) -> -0.0525 | N16: =SUM(M16*F16) -> -69.0375 | O16: =SUM(D16-K16) -> 0.0525 | P16: =SUM(G16-L16) -> 69.0375 | R16: =IF($G16=0,0,SUM($L16/$G16)) -> 0
A17: Driveway | C17: N12 Bar | D17: =(0.21+0.0256)*1.05 -> 0.24738 | E17: tonne | F17: 1215 | G17: =D17*F17 -> 300.5667 | L17: =SUM(K17*F17) -> 0 | M17: =SUM(K17-D17) -> -0.24738 | N17: =SUM(M17*F17) -> -300.5667 | O17: =SUM(D17-K17) -> 0.24738 | P17: =SUM(G17-L17) -> 300.5667 | R17: =IF($G17=0,0,SUM($L17/$G17)) -> 0
A18: Admin Walkway Reo Supply
A19: Ground Beam | C19: Bar | D19: 1.0101 | E19: tonne | F19: 1215 | G19: =D19*F19 -> 1227.2715 | L19: =SUM(K19*F19) -> 0 | M19: =SUM(K19-D19) -> -1.0101 | N19: =SUM(M19*F19) -> -1227.2715 | O19: =SUM(D19-K19) -> 1.0101 | P19: =SUM(G19-L19) -> 1227.2715 | R19: =IF($G19=0,0,SUM($L19/$G19)) -> 0
A20: SOG Waffle Pod | C20: 225mm | D20: =(186.18/1.6)*1.15 -> 133.81687 | E20: each | F20: 7.7 | G20: =D20*F20 -> 1030.3899 | L20: =SUM(K20*F20) -> 0 | M20: =SUM(K20-D20) -> -133.81687 | N20: =SUM(M20*F20) -> -1030.3899 | O20: =SUM(D20-K20) -> 133.81687 | P20: =SUM(G20-L20) -> 1030.3899 | R20: =IF($G20=0,0,SUM($L20/$G20)) -> 0
A21: SOG Waffle Pod | C21: 395mm | D21: =(23.66/1.6)*1.15 -> 17.005625 | E21: each | F21: 17.5 | G21: =D21*F21 -> 297.59844 | L21: =SUM(K21*F21) -> 0 | M21: =SUM(K21-D21) -> -17.005625 | N21: =SUM(M21*F21) -> -297.59844 | O21: =SUM(D21-K21) -> 17.005625 | P21: =SUM(G21-L21) -> 297.59844 | R21: =IF($G21=0,0,SUM($L21/$G21)) -> 0
A22: SOG Waffle Pod | C22: 4 way spacer | D22: 134 | E22: each | F22: 0.9 | G22: =D22*F22 -> 120.6 | L22: =SUM(K22*F22) -> 0 | M22: =SUM(K22-D22) -> -134 | N22: =SUM(M22*F22) -> -120.6 | O22: =SUM(D22-K22) -> 134 | P22: =SUM(G22-L22) -> 120.6 | R22: =IF($G22=0,0,SUM($L22/$G22)) -> 0
A23: SOG Waffle Pod | C23: 2 way spacer | D23: =D22/2 -> 67 | E23: each | F23: 0.75 | G23: =D23*F23 -> 50.25 | L23: =SUM(K23*F23) -> 0 | M23: =SUM(K23-D23) -> -67 | N23: =SUM(M23*F23) -> -50.25 | O23: =SUM(D23-K23) -> 67 | P23: =SUM(G23-L23) -> 50.25 | R23: =IF($G23=0,0,SUM($L23/$G23)) -> 0
A24: Hall Reo Supply
A25: Pad Footings | C25: N12 Bar | D25: 2.33 | E25: tonne | F25: 1215 | G25: =D25*F25 -> 2830.95 | K25: ='REO SUPPLY ENTRY'!K41 -> 1.768 | L25: =SUM(K25*F25) -> 2148.12 | M25: =SUM(K25-D25) -> -0.562 | N25: =SUM(M25*F25) -> -682.83 | O25: =SUM(D25-K25) -> 0.562 | P25: =SUM(G25-L25) -> 682.83 | R25: =IF($G25=0,0,SUM($L25/$G25)) -> 0.75879828
A26: Ground Beams | C26: R10 ligs | D26: 2.16 | E26: tonne | F26: 1315 | G26: =D26*F26 -> 2840.4 | L26: =SUM(K26*F26) -> 0 | M26: =SUM(K26-D26) -> -2.16 | N26: =SUM(M26*F26) -> -2840.4 | O26: =SUM(D26-K26) -> 2.16 | P26: =SUM(G26-L26) -> 2840.4 | R26: =IF($G26=0,0,SUM($L26/$G26)) -> 0
A27: Ground Beams | C27: Bar | D27: 7.5476 | E27: tonne | F27: 1215 | G27: =D27*F27 -> 9170.334 | L27: =SUM(K27*F27) -> 0 | M27: =SUM(K27-D27) -> -7.5476 | N27: =SUM(M27*F27) -> -9170.334 | O27: =SUM(D27-K27) -> 7.5476 | P27: =SUM(G27-L27) -> 9170.334 | R27: =IF($G27=0,0,SUM($L27/$G27)) -> 0
A28: SOG | C28: N16 Bar | D28: 0.23 | E28: tonne | F28: 1215 | G28: =D28*F28 -> 279.45 | L28: =SUM(K28*F28) -> 0 | M28: =SUM(K28-D28) -> -0.23 | N28: =SUM(M28*F28) -> -279.45 | O28: =SUM(D28-K28) -> 0.23 | P28: =SUM(G28-L28) -> 279.45 | R28: =IF($G28=0,0,SUM($L28/$G28)) -> 0
A29: SOG Waffle Pods | C29: 300mm | D29: 43 | E29: each | F29: 9.2 | G29: =D29*F29 -> 395.6 | L29: =SUM(K29*F29) -> 0 | M29: =SUM(K29-D29) -> -43 | N29: =SUM(M29*F29) -> -395.6 | O29: =SUM(D29-K29) -> 43 | P29: =SUM(G29-L29) -> 395.6 | R29: =IF($G29=0,0,SUM($L29/$G29)) -> 0
A30: SOG Waffle Pods | C30: 375mm | D30: =969.99*1.15 -> 1115.4885 | E30: each | F30: 14 | G30: =D30*F30 -> 15616.839 | L30: =SUM(K30*F30) -> 0 | M30: =SUM(K30-D30) -> -1115.4885 | N30: =SUM(M30*F30) -> -15616.839 | O30: =SUM(D30-K30) -> 1115.4885 | P30: =SUM(G30-L30) -> 15616.839 | R30: =IF($G30=0,0,SUM($L30/$G30)) -> 0
A31: SOG Waffle Pod | C31: 4 way spacer | D31: 1116 | E31: each | F31: 0.9 | G31: =D31*F31 -> 1004.4 | L31: =SUM(K31*F31) -> 0 | M31: =SUM(K31-D31) -> -1116 | N31: =SUM(M31*F31) -> -1004.4 | O31: =SUM(D31-K31) -> 1116 | P31: =SUM(G31-L31) -> 1004.4 | R31: =IF($G31=0,0,SUM($L31/$G31)) -> 0
A32: SOG Waffle Pod | C32: 2 way spacer | D32: =D31/2 -> 558 | E32: each | F32: 0.75 | G32: =D32*F32 -> 418.5 | L32: =SUM(K32*F32) -> 0 | M32: =SUM(K32-D32) -> -558 | N32: =SUM(M32*F32) -> -418.5 | O32: =SUM(D32-K32) -> 558 | P32: =SUM(G32-L32) -> 418.5 | R32: =IF($G32=0,0,SUM($L32/$G32)) -> 0
A33: Driveway | C33: R10 ligs | D33: 0.06 | E33: tonne | F33: 1315 | G33: =D33*F33 -> 78.9 | L33: =SUM(K33*F33) -> 0 | M33: =SUM(K33-D33) -> -0.06 | N33: =SUM(M33*F33) -> -78.9 | O33: =SUM(D33-K33) -> 0.06 | P33: =SUM(G33-L33) -> 78.9 | R33: =IF($G33=0,0,SUM($L33/$G33)) -> 0
A34: Driveway | C34: N12 Bar | D34: 0.27 | E34: tonne | F34: 1215 | G34: =D34*F34 -> 328.05 | L34: =SUM(K34*F34) -> 0 | M34: =SUM(K34-D34) -> -0.27 | N34: =SUM(M34*F34) -> -328.05 | O34: =SUM(D34-K34) -> 0.27 | P34: =SUM(G34-L34) -> 328.05 | R34: =IF($G34=0,0,SUM($L34/$G34)) -> 0
A35: Hall Walkway Reo Supply
A36: Ground Beams | C36: Bar | D36: 0.145 | E36: tonne | F36: 1215 | G36: =D36*F36 -> 176.175 | L36: =SUM(K36*F36) -> 0 | M36: =SUM(K36-D36) -> -0.145 | N36: =SUM(M36*F36) -> -176.175 | O36: =SUM(D36-K36) -> 0.145 | P36: =SUM(G36-L36) -> 176.175 | R36: =IF($G36=0,0,SUM($L36/$G36)) -> 0
A37: SOG | C37: Bar | D37: 0.01 | E37: tonne | F37: 1215 | G37: =D37*F37 -> 12.15 | L37: =SUM(K37*F37) -> 0 | M37: =SUM(K37-D37) -> -0.01 | N37: =SUM(M37*F37) -> -12.15 | O37: =SUM(D37-K37) -> 0.01 | P37: =SUM(G37-L37) -> 12.15 | R37: =IF($G37=0,0,SUM($L37/$G37)) -> 0
A38: SOG Waffle Pod | C38: 225mm | D38: =(1767/1.6)*1.15 -> 1270.0312 | E38: each | F38: 7.7 | G38: =D38*F38 -> 9779.2406 | L38: =SUM(K38*F38) -> 0 | M38: =SUM(K38-D38) -> -1270.0312 | N38: =SUM(M38*F38) -> -9779.2406 | O38: =SUM(D38-K38) -> 1270.0312 | P38: =SUM(G38-L38) -> 9779.2406 | R38: =IF($G38=0,0,SUM($L38/$G38)) -> 0
A39: SOG Waffle Pod | C39: 4 way spacer | D39: 1270 | E39: each | F39: 0.9 | G39: =D39*F39 -> 1143 | L39: =SUM(K39*F39) -> 0 | M39: =SUM(K39-D39) -> -1270 | N39: =SUM(M39*F39) -> -1143 | O39: =SUM(D39-K39) -> 1270 | P39: =SUM(G39-L39) -> 1143 | R39: =IF($G39=0,0,SUM($L39/$G39)) -> 0
A40: SOG Waffle Pod | C40: 2 way spacer | D40: =D39/2 -> 635 | E40: each | F40: 0.75 | G40: =D40*F40 -> 476.25 | L40: =SUM(K40*F40) -> 0 | M40: =SUM(K40-D40) -> -635 | N40: =SUM(M40*F40) -> -476.25 | O40: =SUM(D40-K40) -> 635 | P40: =SUM(G40-L40) -> 476.25 | R40: =IF($G40=0,0,SUM($L40/$G40)) -> 0
A41: Courts Reo Supply
...

Sheet REO SUPPLY SUMMARY (2)
D1: REO SUPPLY: MCU Sheet
D3: PO/ ESTIMATE | H3: ACTUALS
A4: AREA | C4: Status | D4: Budget | H4: QTY's | I4: Var $ | J4: Forcast $ TO GO | K4: SITE Percentage Completed | L4: Percentage of Area Completed
A5: Admin building Reo Supply
A6: Admin building Reo Supply | D6: ='REO SUPPLY ENTRY'!G27 -> 23700.784 | H6: ='REO SUPPLY ENTRY'!Q27 -> 0 | I6: =D6-H6 -> 23700.784 | J6: =F6-I6 -> -23700.784 | L6: =IF(#REF!=0,0,SUM(#REF!/#REF!)) -> #REF!
A7: Admin Walkway Reo Supply | D7: ='REO SUPPLY ENTRY'!G39 -> 5696.6715 | H7: ='REO SUPPLY ENTRY'!Q39 -> 0 | I7: =D7-H7 -> 5696.6715 | J7: =F7-I7 -> -5696.6715 | L7: =IF(#REF!=0,0,SUM(#REF!/#REF!)) -> #REF!
A8: Hall Reo Supply | D8: ='REO SUPPLY ENTRY'!G61 -> 46322.789 | H8: ='REO SUPPLY ENTRY'!Q61 -> 3243.31 | I8: =D8-H8 -> 43079.479 | J8: =F8-I8 -> -43079.479 | L8: =IF(#REF!=0,0,SUM(#REF!/#REF!)) -> #REF!
A9: Hall Walkway Reo Supply | D9: ='REO SUPPLY ENTRY'!G72 -> 1678.125 | H9: ='REO SUPPLY ENTRY'!Q72 -> 0 | I9: =D9-H9 -> 1678.125 | J9: =F9-I9 -> -1678.125 | L9: =IF(#REF!=0,0,SUM(#REF!/#REF!)) -> #REF!
A10: Courts Reo Supply | D10: ='REO SUPPLY ENTRY'!G82 -> 26899.85 | H10: ='REO SUPPLY ENTRY'!Q82 -> 0 | I10: =D10-H10 -> 26899.85 | J10: =F10-I10 -> -26899.85 | L10: =IF(#REF!=0,0,SUM(#REF!/#REF!)) -> #REF!
A11: SUBTOTAL TO DATE | D11: =SUM(D6:F10) -> 104298.22 | H11: =SUM(H6:H10) -> 3243.31 | I11: =SUM(I6:I10) -> 101054.91
A12: Percentage Complete | B12: =H11/D11 -> 0.031096504
A13: Percentage +/- | B13: =(H11/D11)-1 -> -0.9689035
A14: Forecast | B14: =D11 -> 104298.22
A15: Adjusted FFC | B15: =D11-I11 -> 3243.31
A16: FFC Variance to Forecast | B16: =B14-B15 -> 101054.91

Sheet REO SUPPLY ENTRY
D1: REO SUPPLY: MCU Sheet
D3: PO/ ESTIMATE | K3: ACTUALS
A4: AREA | C4: TYPE | D4: QTY | E4: UNIT | F4: COST $ | G4: TOTAL | K4: Delivery 1 | M4: Delivery 2 | O4: Delivery 3 | Q4: Total | R4: Qty Var | S4: $ Var | T4: Invoice No. | U4: Date
K5: QTY's | L5: $ Rate | M5: QTY's | N5: $ Rate | O5: QTY's | P5: $ Rate
A6: Admin building Reo Supply
A7: Pad Footings | C7: N12 Bar | D7: 0.15 | E7: tonne | F7: 1215 | G7: =D7*F7 -> 182.25 | Q7: =K7*L7 -> 0
A8: Ground Beams | C8: R10 ligs | D8: 1.1892 | E8: tonne | F8: 1315 | G8: =D8*F8 -> 1563.798 | Q8: =K8*L8 -> 0
A9: Ground Beams | C9: N12 Bar | D9: 2.0731 | E9: tonne | F9: 1215 | G9: =D9*F9 -> 2518.8165 | Q9: =K9*L9 -> 0
A10: Ground Beams | C10: N16 Bar | D10: 1.69 | E10: tonne | F10: 1215 | G10: =D10*F10 -> 2053.35 | Q10: =K10*L10 -> 0
A11: 200mm Slab Reo | C11: N12 Bar | D11: 0.1542 | E11: tonne | F11: 1215 | G11: =D11*F11 -> 187.353 | Q11: =K11*L11 -> 0
A12: Retaining Wall | C12: N16 Bar | D12: =0.5999+0.1539 -> 0.7538 | E12: tonne | F12: 1215 | G12: =D12*F12 -> 915.867 | Q12: =K12*L12 -> 0
A13: Retaining Wall | C13: N12 Bar | D13: 0.3509 | E13: tonne | F13: 1215 | G13: =D13*F13 -> 426.3435 | Q13: =K13*L13 -> 0
A14: SOG | C14: N16 Bar | D14: 1.7201 | E14: tonne | F14: 1215 | G14: =D14*F14 -> 2089.9215 | Q14: =K14*L14 -> 0
A15: SOG | C15: SL102 | D15: 67 | E15: Sheet | F15: 93.6 | G15: =D15*F15 -> 6271.2 | Q15: =K15*L15 -> 0
A16: SOG | C16: SL72 | D16: 2 | E16: Sheet | F16: 46.8 | G16: =D16*F16 -> 93.6 | Q16: =K16*L16 -> 0
A17: SOG | C17: 3L11TM | D17: 192 | E17: Sheet | F17: 16.9 | G17: =D17*F17 -> 3244.8 | Q17: =K17*L17 -> 0
A18: SOG | Q18: =K18*L18 -> 0
A19: SOG | Q19: =K19*L19 -> 0
A20: SOG | Q20: =K20*L20 -> 0
A21: SOG | Q21: =K21*L21 -> 0
A22: Stairs | C22: N32 | D22: 0.24 | E22: tonne | F22: 1215 | G22: =D22*F22 -> 291.6 | Q22: =K22*L22 -> 0
A23: Driveway | C23: SL82 | D23: 37 | E23: Sheet | F23: 59.8 | G23: =D23*F23 -> 2212.6 | Q23: =K23*L23 -> 0
A24: Driveway | C24: R10 ligs | D24: =0.05*1.05 -> 0.0525 | E24: tonne | F24: 1315 | G24: =D24*F24 -> 69.0375 | Q24: =K24*L24 -> 0
A25: Driveway | C25: N12 Bar | D25: =(0.21+0.0256)*1.05 -> 0.24738 | E25: tonne | F25: 1215 | G25: =D25*F25 -> 300.5667 | Q25: =K25*L25 -> 0
A26: Driveway | C26: DDD 6mm | D26: 172 | E26: each | F26: 7.44 | G26: =D26*F26 -> 1279.68 | Q26: =K26*L26 -> 0
A27: Area Total | G27: =SUM(G7:G26) -> 23700.784 | Q27: =SUM(Q7:Q26) -> 0
A28: Admin Walkway Reo Supply
A29: Ground Beam | C29: N12 Bar | D29: 0.098 | E29: tonne | F29: 1215 | G29: =D29*F29 -> 119.07 | Q29: =K29*L29 -> 0
A30: Ground Beam | C30: N16 Bar | D30: 0.0162 | E30: tonne | F30: 1215 | G30: =D30*F30 -> 19.683 | Q30: =K30*L30 -> 0
A31: Ground Beam | C31: N16 Bar | D31: 0.8959 | E31: tonne | F31: 1215 | G31: =D31*F31 -> 1088.5185 | Q31: =K31*L31 -> 0
A32: Ground Beam | C32: 3L11TM | D32: 82 | E32: Sheet | F32: 16.9 | G32: =D32*F32 -> 1385.8 | Q32: =K32*L32 -> 0
A33: SOG | C33: SL102 | D33: 24 | E33: sheet | F33: 93.6 | G33: =D33*F33 -> 2246.4 | Q33: =K33*L33 -> 0
A34: SOG | C34: SL82 | D34: 14 | E34: sheet | F34: 59.8 | G34: =D34*F34 -> 837.2 | Q34: =K34*L34 -> 0
A35: SOG | Q35: =K35*L35 -> 0
A36: SOG | Q36: =K36*L36 -> 0
A37: SOG | Q37: =K37*L37 -> 0
A38: SOG | Q38: =K38*L38 -> 0
A39: Area Total | G39: =SUM(G29:G38) -> 5696.6715 | Q39: =SUM(Q29:Q38) -> 0
A40: Hall Reo Supply
A41: Pad Footings | C41: N12 Bar | D41: 2.33 | E41: tonne | F41: 1215 | G41: =D41*F41 -> 2830.95 | K41: 1.768 | L41: 1215 | Q41: =SUM(K41,M41,O41)*F41 -> 2148.12 | R41: =D41-K41 -> 0.562 | S41: =G41-Q41 -> 682.83
...

Sheet STEEL DOCKET ENTRY
G2: REO DEL DOCKET ENTRY | Z2: INVOICE ENTRY | AI2: Reo Fix MCU
G3: 1215 | H3: 1315 | K3: 16.9 | L3: 93.6 | M3: 59.8 | N3: 46.8 | V3: 74.57 | Z3: $ | AB3: 115 | AI3: 640 | AJ3: 3 | AK3: 1000 | AL3: 15
B4: ENTER↓ | C4: ↓ | D4: ↓ | E4: ↓ | F4: ↓ | G4: ↓ | H4: ↓ | I4: ↓ | J4: ↓ | K4: ↓ | L4: ↓ | M4: ↓ | N4: ↓ | O4: ↓ | P4: ↓ | Q4: ↓ | R4: ↓ | S4: ↓ | T4: ↓ | U4: ↓ | V4: ↓ | W4: ↓ | X4: ↓ | Z4: ↓ | AA4: ↓ | AB4: ↓ | AD4: ↓ | AE4: ↓
B5: Delivery Date | C5: Doc No | D5: Schedule No | E5: Zone | F5: I.D No. | G5: Qty (t) | H5: Special (t) | I5: L12TM4 | J5: L12TM3 | K5: L11TM3 | L5: Mesh 102 | M5: Mesh 82 | N5: Mesh 72 | O5: 40/50 Deck Chairs/100bg | P5: 50/65 Bar Chairs/100bg | Q5: Tie Wire each | R5: Grey Tape | S5: 180/230 Metal Bases | T5: 150mm Top Deck Chairs | U5: 180mm Top Deck Chairs | V5: Black Plastic | W5: Gal Dowels Round | X5: Gal Dowels Diamond | Y5: Cradles | Z5: Reo Soks | AA5: Extras $ | AB5: Dels | AC5: Total Cost | AD5: Inv. Number | AE5: INV Date | AF5: INV Cost. | AG5: var | AI5: tonne | AJ5: mesh | AK5: columns | AL5: stairs/each landing | AM5: Total | AN5: INV | AO5: INV Date | AP5: Inv total | AQ5: var
AC6: =SUM(G6*$G$3)+(M6*M$3)+(N6*N$3)+(O6*O$3)+(H6*$H$3)+(L6*$L$3)+(P6*$P$3)+(Q6*$Q$3)+(R6*$R$3)+(S6*$S$3)+(T6*$T$3)+(U6*$U$3)+(V6*$V$3)+(W6*$W$3+(X6*$X$3)+(Y6*$Y$3)+AA6+AB6) -> 0 | AF6: 973.9
AC7: =SUM(G7*$G$3)+(H7*$H$3)+(L7*$L$3)+(P7*$P$3)+(Q7*$Q$3)+(V7*$V$3)+(W7*$W$3+(X7*$X$3)+(Y7*$Y$3)+AA7) -> 0 | AF7: 10905.97 | AQ7: =SUM(AP7-AM7-#REF!) -> #REF!
AC23: =SUM(G23*$G$3)+(H23*$H$3)+(L23*$L$3)+(P23*$P$3)+(Q23*$Q$3)+(V23*$V$3)+(W23*$W$3+(X23*$X$3)+(Y23*$Y$3)+AA23)+AB23+(M23*M3) -> 0 | AF23: 1677.41 | AQ23: =AP23-AM23 -> 0
AC24: =SUM(G24*$G$3)+(H24*$H$3)+(L24*$L$3)+(P24*$P$3)+(Q24*$Q$3)+(V24*$V$3)+(W24*$W$3+(X24*$X$3)+(Y24*$Y$3)+AA24) -> 0 | AQ24: =AP24-AM24 -> 0
AQ25: =AP25-AM25 -> 0
AQ26: =AP26-AM26 -> 0
AQ27: =AP27-AM27 -> 0
AQ28: =AP28-AM28 -> 0
AQ29: =AP29-AM29 -> 0
AQ30: =AP30-AM30 -> 0
AQ31: =AP31-AM31 -> 0
AQ32: =AP32-AM32 -> 0
AQ33: =AP33-AM33 -> 0
AQ34: =AP34-AM34 -> 0
AQ35: =AP35-AM35 -> 0
AQ36: =AP36-AM36 -> 0
... AQ49: =AP49-AM49 -> 0
G52: =SUM(G6:G51) -> 0 | H52: =SUM(H6:H51) -> 0 | I52: =SUM(I7:I51) -> 0 | J52: =SUM(J7:J51) -> 0 | K52: =SUM(K7:K51) -> 0 | L52: =SUM(L6:L51) -> 0 | M52: =SUM(M6:M51) -> 0 | N52: =SUM(N6:N51) -> 0 | O52: =SUM(O6:O51) -> 0 | P52: =SUM(P6:P51) -> 0 | Q52: =SUM(Q6:Q51) -> 0 | R52: =SUM(R6:R51) -> 0 | S52: =SUM(S6:S51) -> 0 | ... AB52: =SUM(AB6:AB51) -> 0 | AC52: =SUM(AC7:AC51) -> 0 | AD52: =SUM(AD7:AD51) -> 0 | AE52: =SUM(AE7:AE51) -> 0 | AF52: =SUM(AF7:AF51) -> 12583.38 | AG52: =SUM(AG7:AG51) -> 0 | AI52: =SUM(AI7:AI51) -> 0 | AJ52: =SUM(AJ7:AJ51) -> 0 | AK52: =SUM(AK7:AK51) -> 0 | AL52: =SUM(AL7:AL51) -> 0 | AM52: =SUM(AM7:AM51) -> 0 | AP52: =SUM(AP7:AP51) -> 0 | AR52: TOTAL JAN | AS52: FFC | AT52: =SUM(AT50:AT51)+AP52+#REF!+#REF! -> #REF!
