Workbook
Name Class1: '[1]5. Activity-Risk Lists'!#REF!
Name Class1: '[1]5. Activity-Risk Lists'!#REF!
Name Class1: '5. Activity-Risk Lists'!#REF!
Name Class1: '5. Activity-Risk Lists'!#REF!
Name Class2: '[1]5. Activity-Risk Lists'!#REF!
Name Class2: '[1]5. Activity-Risk Lists'!#REF!
Name Class2: '5. Activity-Risk Lists'!#REF!
Name Class2: '5. Activity-Risk Lists'!#REF!
Name Consequence: '[1]5. Activity-Risk Lists'!#REF!
Name Consequence: '[1]5. Activity-Risk Lists'!#REF!
Name Consequence: '5. Activity-Risk Lists'!#REF!
Name Consequence: '5. Activity-Risk Lists'!#REF!
Name ConsequenceRatings: '[1]5. Activity-Risk Lists'!#REF!
Name ConsequenceRatings: '[1]5. Activity-Risk Lists'!#REF!
Name ConsequenceRatings: '5. Activity-Risk Lists'!#REF!
Name ConsequenceRatings: '5. Activity-Risk Lists'!#REF!
Name Costing: '[1]5. Activity-Risk Lists'!#REF!
Name Costing: '[1]5. Activity-Risk Lists'!#REF!
Name Costing: '5. Activity-Risk Lists'!#REF!
Name Costing: '5. Activity-Risk Lists'!#REF!
Name GenericEnergyHazards: '[2]Lookup Data - Do not Modify'!$J$2:$J$28
Name ImpactDescriptions: #REF!
Name ImpactDescriptions: #REF!
Name ImpactDescriptions: #REF!
Name ImpactDescriptions: #REF!
Name Impacts: #REF!
Name Impacts: #REF!
Name Impacts: #REF!
Name Impacts: #REF!
Name Likelihood: '[1]5. Activity-Risk Lists'!#REF!
Name Likelihood: '[1]5. Activity-Risk Lists'!#REF!
Name Likelihood: '5. Activity-Risk Lists'!#REF!
Name Likelihood: '5. Activity-Risk Lists'!#REF!
Name LikelihoodDescriptions: #REF!
Name LikelihoodDescriptions: #REF!
Name LikelihoodDescriptions: #REF!
Name LikelihoodDescriptions: #REF!
Name Likelihoodratings: '[1]5. Activity-Risk Lists'!#REF!
Name Likelihoodratings: '[1]5. Activity-Risk Lists'!#REF!
Name Likelihoodratings: '5. Activity-Risk Lists'!#REF!
Name Likelihoodratings: '5. Activity-Risk Lists'!#REF!
Name Likelihoods: #REF!
Name Likelihoods: #REF!
Name Likelihoods: #REF!
Name Likelihoods: #REF!
Name ManagedBy: '[1]5. Activity-Risk Lists'!#REF!
Name ManagedBy: '[1]5. Activity-Risk Lists'!#REF!
Name ManagedBy: '5. Activity-Risk Lists'!#REF!
Name ManagedBy: '5. Activity-Risk Lists'!#REF!
Name Phase: '[1]5. Activity-Risk Lists'!#REF!
Name Phase: '[1]5. Activity-Risk Lists'!#REF!
Name Phase: '5. Activity-Risk Lists'!#REF!
Name Phase: '5. Activity-Risk Lists'!#REF!
Name Project: '[1]5. Activity-Risk Lists'!#REF!
Name Project: '[1]5. Activity-Risk Lists'!#REF!
Name Project: '5. Activity-Risk Lists'!#REF!
Name Project: '5. Activity-Risk Lists'!#REF!
Name RiskCategories: #REF!
Name RiskCategories: #REF!
Name RiskCategories: #REF!

Sheet 0. Instructions
B1: Yurika Risk Assessment Template YUR 0002
B3: Step by Step instructions on how to use the Risk Register Template | F3: Table of Contents (TOC) for the Register Template
B4: 1 | C4: Document is READ ONLY - SAVE A COPY TO RELEVANT FOLDER WITH PREFIX YUR 0002 | F4: Worksheet / Hyperlink | G4: Description
B5: 2 | C5: Fill in tab - 1 .Workshop & Revision History | F5: 1.Workshop and Revision History | G5: Summary of the activity to risk assess, including document control register, and scope details
B6: 3 | C6: Become familiar with "2. EQL Risk Matrix" and "4. Risk Definitions". | F6: 1.a HRCW - Detailed Scope | G6: Complete this tab if you are undertaking any High Risk Construction Work Activities
B7: 4 | C7: If you are undertaking any High Risk Construction Work Activities, complete 1a - HRCW Detailed Scope | F7: 2.Risk Matrix | G7: The EQL Risk Matrix used for Risk Assessment. (PROTECTED).
B8: 5 | C8: Fill in, during the risk assessment meeting or workshop, the "3. Risk Register" up to 'ESCALATION' section. | F8: 3. Risk Register | G8: The current Risk Register.
B9: 6 | C9: Update version number of risk register in "1. Workshop & Revision History". | F9: 4. Risk Definitions | G9: Abbreviations and key definitions (Hidden)
B10: 7 | C10: Seek Approval for target risks with proposed mitigation actions as SFAIRP from the relevant level of authority in the "3. Risk Register". | F10: 5. Activity-Risk Lists | G10: Data reference for the Risk Register template. (PROTECTED/HIDDEN).
B11: 8 | C11: Once approved as SFAIRP and actions recorded in SAP, update the SFAIRP approval and action management sections of the "3. Risk Register". | F11: 6. Doc Control Register- template | G11: Check for latest version of the template for use (PROTECTED)
B12: 9 | C12: Save risk register as a new version and update "1. Workshop & Revision History". | F12: 7. Escalation Matrix | G12: The EQL Risk Matrix used for Escalation of Risk. (PROTECTED/HIDDEN)
B13: 10 | C13: Complete the 'REVIEW' section of the "3. Risk Register" when possible and save new versions of the risk register every time substantial changes are made to the risk register.
B15: Important notes | F15: Important documents to read
B16: 1 | C16: It is the responsibility of the Activity Owner to prepare and maintain the risk register for the activity/ies being assessed. | F16: Reference No | G16: Description
B17: 2 | C17: The risk scoring calculation in "3. Risk Register" from the "2. Risk Matrix" must not be altered. | F17: R209 | G17: EQL - Standard 3 Hazard and Risk Management | H17: Ref
B18: 3 | C18: "2. Risk Matrix" is renewed by EQL | F18: P043 | G18: EQL - Risk Management Policy | H18: Policy
B19: 4 | C19: "5. Activity-Risk Lists" must not be changed unless approved by the Yurika HSE Manager | F19: ECM9937852 | G19: EQL - Risk Management Procedure | H19: Procedure
B20: 5 | C20: Risk assessment processses (including risk registers and risk assessment templates) throughout Yurika are reviewed and audited on a regular basis | F20: Q015 | G20: EQL - Risk Appetite | H20: Procedure
B21: 6 | C21: If you have any questions in using the risk management process including the risk assessment template, consult your immediate supervisor or HSE for guidance. | F21: R056 | G21: EQL - Risk Evaluation Matrix | H21: Procedure

Sheet 1.Workshop & Revision History
A1: Activity Description
A2: Activity - Title (provide a title for the activity) | B2: Project Specific HSE Risk Register | D2: Project | E2: Swanbank BESS
A3: Client | B3: CleanCo Queensland Limited | D3: Contractor | E3: Yurika Pty Ltd
A4: Activity Owner (is accountable for making sure the risk assessment process is effectively applied to the proposed activity) | B4: Name: | C4: Brendon Watts | D4: Position: | E4: Project Manager
A5: CCQ DOCUMENT NUMBER | B5: SBK-F-175-2000-022 | D5: YUR DOCUMENT NUMBER | E5: SBK-F-YUR-RSK-REG-0001
A6: CURRENT REVISION | B6: A | D6: WR | E6: WR1853038
A7: Activity - Scope/Description What is the activity aiming to achieve and what needs to be done? Describe if possible the complexity of the activity Describe if possible the value of the activity for Yurika | B7: The Scope of Works for the Swanbank BESS Project is outlined in the Contract (REF: Appendix 1) and referred to in this document and associated plans referred to in the Appendix. The Swanbank BESS (Stage1) and Substation is a 275/33kV substation is to be built within the Swanbank precinct, approximately 10km Southeast of Ipswich QLD.
A8: Yurika Delivery Role | B8: Principal Contractor | D8: Jurisdiction | E8: QLD
A9: Industry / Sector | B9: Other | D9: Wider EQL/Shared Services required? | E9: N/A
A10: Plans required for Project Execution as outlined in contract/scope
A11: Latest WORKSHOP
A12: Venue/Location | B12: Memorial Drive, Swanbank QLD
A13: Date | B13: 45509
A14: Facilitator (Name) | B14: Brendon Watts | D14: Position: | E14: Project Manager
A15: Scribe (Name) | B15: Brendon Watts | D15: Position: | E15: Project Manager
A16: List of Invitees | B16: No | C16: Name | D16: Discipline/Position | E16: Status
B17: 1 | C17: Brendon Watts | D17: Project Manager | E17: Attended
B18: 2 | C18: Sooty Phomsouvanh | D18: Project HSE Specialist | E18: Attended
B19: 3 | C19: Murray Adey | D19: Construction Manager | E19: Attended
B20: 4 | C20: Brad Ayers | D20: Civil Supervisor | E20: Attended
B21: 5 | C21: Fawad Jalil | D21: Civil Engineer | E21: Attended
B22: 6 | E22: Please select
B23: 7 | E23: Please select
B24: 8 | E24: Please select
B25: 9 | E25: Please select
B26: 10 | E26: Please select
A28: Plan requirements as outlined in scope : H&S Plan, Emergency Response Plan, Environment Plan, Audit and Assurance Plan
A29: Health & Safety Management Plan
A30: Construction Environmental Mananagment Plan
A31: Emergency Response Plan
A38: Revision History
A39: Date of Update | B39: Version No | C39: Responsible (Name) | D39: Position | E39: Reasons for changes
A40: 45143 | B40: A | C40: Brendon Watts | D40: Project Manager | E40: Issued for Use

Sheet 1.a HRCW - Detailed Scope
A1: SoW v HRCW | C1: HIGH RISK CONSTRUCTION WORK (HRCW)
A2: Scope of Work (SoW) | B2: By whom? Yurika, Asset Owner, Contractor. | C2: Working at heights | D2: Work on communications towers | E2: Demolition works (Supporting structures) | F2: Asbestos related work | G2: Confined space | H2: Excavation & trenching | I2: Work near pressurised gas mains or piping | J2: Work carried out on or near energised electrical | K2: Hazardous (flammable) atmosphere | L2: Tilt-up or precast concrete | M2: Work on or near roads or railways | N2: Workplace with movement of powered mobile plant | O2: Working in or near water that poses a risk of drowning | P2: Notes if Required | R2: Guidance: Note down any HRCW (High Risk Construction Work) activities outlined in scope of works (if any) in order of scope. You can use this tool to assist in determining any speical requirements as an example simply place an X in the relative column according to the type of work Those listed are EXAMPLES ONLY
A3: Site Establishment | B3: Yurika | N3: x
A4: Civil - laydown, site huts, ameneties, generators etc | B4: Yurika | H4: x | J4: x | N4: x
A5: Civil Works | H5: x | J5: x | N5: x
A6: substation foundation | B6: TBD | H6: x | N6: x
A7: Bulk earthworks - foundations, road, drainage, fences, earth grid, cable conduits etc | B7: TBD | H7: x | J7: x | N7: x
A8: Scope Part 2 | B8: Yurika
U22: Commercial EQL & Yurika | V22: <$2.5M total impact of event <$500,000 total impact of event | W22: >$2.5M to <$10M total impact of event >$500,000 to <$2.5M total impact of event | X22: >$10M to <$20M total impact of event >$2.5M to <$6M total impact of event | Y22: >$20M to <$50M total impact of event >$6M to <$10M total impact of event | Z22: >$50M to <$150M total impact of event >$10M to <$20M total impact of event | AA22: > $150M total impact of event >$20M total impact of event

Sheet 2. Risk Matrix
A1: Yurika Risk Assessment | F1: Return to TOC
A3: EQL Risk Matrix | F3: CONSEQUENCE
F4: Health & Safety | G4: Injury/illness requiring first aid or not requiring treatment (for example, not requiring attention, scratches, bruises), no LTI | H4: Injury or illness requiring medical treatment as an outpatient, recovery in < seven days, no LTI | I4: Injury or Illness requiring medical treatment as an outpatient, full recovery within 3 months, resulting in LTI | J4: Injury / Illness resulting in permanent impairment or requiring admission to hospital, resulting in LTI | K4: Fatality / Incurable fatal illness | L4: Multiple fatalities, serious injuries, or incurable fatal illnesses
F5: Environment / Cultural Heritage | G5: Minor impact to Cultural Heritage value Localised environmental impact | H5: Short term impact to Cultural Heritage value or artefact Material localised environmental impact | I5: Moderate short-term impact to Cultural Heritage value, artefact or environmental | J5: Serious medium-term damage to Cultural Heritage value or artefact Material environmental harm | K5: Serious long-term damage to Cultural Heritage Value or artefact or environment | L5: Extensive permanent damage to Cultural Heritage value or artefact Irreversible, long term or widespread environmental impact
F6: People + Culture | G6: Change or variations to industry norms with isolated impacts to diversity, inclusion, attendance, turnover and employee engagement | H6: Change or variations to industry norms with limited impacts to diversity, inclusion, attendance, turnover and employee engagement | I6: Change or variations to industry norms for diversity, inclusion, attendance, turnover and employee engagement | J6: Adverse change or effects, above industry norms for diversity, inclusion, attendance, turnover and employee engagement | K6: Pronounced change or effects on diversity, inclusion, attendance, turnover and levels of employee engagement | L6: Change or effects well beyond the industry norms for diversity, inclusion, attendance, turnover and employee engagement
F7: Stakeholder + Reputation | G7: External criticism that does not extend to regional/local media, nor directly impact EQL Executive or Stakeholders. Informal response from EQL may be required to resolve | H7: Low levels of adverse attention. Single story, local media reporting | I7: Adverse attention, attracting local media reporting and/or Short-term brand damage to EQL | J7: Adverse attention, attracting widespread regional media reporting and/or Medium-term regional brand damage to EQL | K7: Sustained levels of adverse attention, attracting widespread Queensland media attention and/or Medium to Long-term brand damage to EQL in Queensland | L7: Sustained levels of adverse attention, attracting widespread national media attention and/or Irreversible brand damage to EQL
F8: Customers + Community | G8: Customer or community complaints which can be resolved through BAU resolution processes Outages to < 100 customers or restoration time for impacted customers is outside of safety net requirements. | H8: Customer and/or community dissatisfaction resulting in multiple complaints being made to EQL and/or Regulators relating to a single incident / issue. Outages to localised communities or local critical infrastructure where > 1000 customer are impacted and/or restoration time is outside of safety net requirements. Interruption and/or power quality for small to medium businesses, or inability to meet agreed target for restoration and/or increased supply | I8: Customer and/or community dissatisfaction resulting in reduced Customer and/or Community confidence at a local level. Outages to localised communities or local critical infrastructure where either > 5,000 customers are impacted and/or restoration time is outside of safety net requirements. Interruption, power quality issues and/or inability to meet restoration / increased supply impacts single large-scale business and/or essential service. | J8: Major levels of dissatisfaction resulting in loss of Customer or Community confidence and trust at a regional level. Interruption to supply that impacts >15,000 customers and/or restoration time for impacted customers is outside of safety net requirements. Inability to meet agreed target date, or disruption to multiple large-scale businesses or essential services (e.g. hospitals, sewage) | K8: Severe and widespread levels of dissatisfaction resulting in Sustained loss of Customer, Community confidence and trust on a state wide level Interruption to supply that impacts > 50,000 customers and/or where restoration time for impacted customers is > 3 days. Widespread or substantial damage to customer assets across multiple locations. | L8: Severe and widespread levels of dissatisfaction resulting in Sustained loss of Customer, Community confidence and trust on a national level Interruption to supply that impacts > 70000 customer and/or restoration time for impacted customers is > 1 week. Widespread and substantial damage to multiple major customer assets e.g. large generators, mines, essential services.
F9: Commercial EQL & Yurika | G9: <$2.5M total impact of event <$500,000 total impact of event | H9: >$2.5M to <$10M total impact of event >$500,000 to <$2.5M total impact of event | I9: >$10M to <$20M total impact of event >$2.5M to <$6M total impact of event | J9: >$20M to <$50M total impact of event >$6M to <$10M total impact of event | K9: >$50M to <$150M total impact of event >$10M to <$20M total impact of event | L9: > $150M total impact of event >$20M total impact of event
F10: Compliance, Legal & Regulatory | G10: Breach of internal policy or procedure with mandatory external reporting. Loss of sections of an individual’s personal information | H10: Improvement or penalty infringement Notice/s issued by regulator Public disclosure of whole of sensitive information (individual) | I10: Restriction to an activity level operating licence Enforcement Notice/s issued by regulator Public disclosure of number of retail customer or client information | J10: Restriction of subsidiary level operating licence Public disclosure of a cluster of retail customer or client information | K10: Suspension of subsidiary level operating licence Public disclosure of large section of retail customer or client information | L10: Loss of subsidiary entity operating licence or restrictions made to EQL licence Public disclosure of whole of retail customer or client information
F11: Information / Digital Security | G11: Limited restrictions to access of OT and Telco systems and networks. Possible weakness in relation to ICT, OT or Telco, key systems or devices Loss of access / usability of key organisational systems resulting in minor inconvenience. | H11: Low level impact to EQL business, OTE or Telco systems - can be restored minimal disruption and business impact Vulnerabilities in information security, OT or Telco network, leading to restrictions on ability to control and manage access | I11: Moderate business disruption or loss of control / or functional capability of EQL business systems for ≥ 48 hours due to a cyber security event Moderate or limited loss of access / usability of key organisational systems resulting in serious business disruption | J11: Severe loss of Availability / Integrity / Confidentiality or Control of EQL data resulting in business disruption and adverse information security impacts Significant malicious damage EQL protective security organisation physical assets and / or individuals | K11: Major business disruption or loss of control / or functional capability of EQL business systems Major malicious damage to EQL protective security organisation / physical assets and / or impact on individuals | L11: Unrecoverable loss of protected, in-confidence or critical organisation data Severe loss of Availability / Integrity / Confidentiality or Control of EQL information security.
F12: Network Security and Capability | G12: Inability to appropriately manage and/or remotely control a local portion of the distribution network | H12: Inability to appropriately manage and/or remotely control a bulk supply or zone substation within either Energex or Ergon networks. | I12: Inability to appropriately manage and/or remotely control a significant portion (>10%) of either Energex or Ergon networks | J12: Inability to appropriately manage and/or remotely control a significant (10%-30%) portion of either Energex or Ergon networks; | K12: Inability to appropriately manage and/or remotely control a large portion (30%-50%) of either Energex or Ergon networks | L12: Inability to manage and/or remotely control majority (50%+)of either the Energex or Ergon networks.
A13: LIKELIHOOD | B13: % Certainty | C13: Timeframe | D13: Anticipation | E13: Network Frequency | G13: Very low (1) | H13: Low (2) | I13: Moderate (3) | J13: Major (4) | K13: Significant (5) | L13: Severe (6)
B14: 90%-100% | C14: Less than 3 months | D14: • Historically occurred multiple times in one year (internal or within industry) • Anticipated to occur every 3 months • Is expected to occur regardless of circumstances or scenario | E14: Could occur daily or more often >300 times per year | F14: Almost Certain (6) | G14: Medium 17 | H14: Medium 19 | I14: High 26 | J14: High 28 | K14: Extreme 34 | L14: Extreme 36
B15: 60%-90% | C15: 3-6 months | D15: • Historically occurs at least annually (internal or within industry) • Anticipated to occur every 3 – 6 months • Is anticipated based on a combination of conditions | E15: Could occur as often as weekly > 50 times per year | F15: Likely (5) | G15: Minor 10 | H15: Medium 18 | I15: Medium 21 | J15: High 27 | K15: High 30 | L15: Extreme 35
B16: 30%-60% | C16: 6 months - 1 year | D16: • Historically has occurred from time to time (internal or within industry) • Anticipated to occur every 6 – 12 months • Could occur under most circumstances or scenarios | E16: Could occur as often as monthly >10 times per year | F16: Possible (4) | G16: Minor 9 | H16: Minor 12 | I16: Medium 20 | J16: Medium 23 | K16: High 29 | L16: High 33
B17: >10%-30% | C17: 1 year - < 5 years | D17: • Historically, isolated, random events have occurred over a period of years (internal or within industry) • Anticipated to occur every 1 year - < 5 years • Could occur in a narrow or limited range of circumstances | E17: Could occur as infrequently as once per year | F17: Unlikely (3) | G17: Sustainable 3 | H17: Minor 11 | I17: Minor 13 | J17: Medium 22 | K17: Medium 24 | L17: High 32
B18: >5%-10% | C18: 5 years - 10 years | D18: • Historically, isolated, random events may have occurred over >10-year period (internal or within industry) • Anticipated to occur every 5 years - < 10 years • Could only occur under specific circumstances or scenarios | E18: Could occur as infrequently as once in 10 years | F18: Very Unlikely (2) | G18: Sustainable 2 | H18: Sustainable 5 | I18: Sustainable 7 | J18: Minor 14 | K18: Minor 16 | L18: High 31
B19: 1%-5% | C19: >10 years | D19: • Has not occurred historically (internal or within industry) • Anticipated to less than once in 10 years • The occurrence is plausible / believable /credible, and only in exceptional circumstances. | E19: Could occur as infrequently as once in 100 years or even less | F19: Rare (1) | G19: Sustainable 1 | H19: Sustainable 4 | I19: Sustainable 6 | J19: Sustainable 8 | K19: Minor 15 | L19: Medium 25
D23: Risk Escalation and Reporting Mechanism
D24: The Risk Escalation and Reporting Mechanism provides guidance for when risks must be escalated and reported to various levels of Management, Committee and Boards. The Residual risk level (with current controls in place) is to be used when applying the Mechanism.
D25: For Yurika, risks are to be assessed against all relevant risk impact categories and descriptors and both the EQL and Yurika Commercial risk impact statements. Risk escalation and reporting of Yurika specific risks will be in accordance with the chevrons below.
D26: Please note all risks assessed against the Compliance, Legal & Regulatory impact category should also be notified to General Manager, Risk, Compliance, Insurance, Integrity and Resilience (GM RCIIR) and the Manager – Enterprise Risk, Compliance and Insurance

Sheet 3. Risk Register
A1: Yurika Project Risk Register (YUR 0002)
A2: Document Number
A3: Activity - Title
A4: Activity Ref
A6: IDENTIFY AND ASSESS RISKS | F6: CONTROL RISK | T6: MONITOR & REVIEW
A7: HAZARD IDENTIFICATION | M7: RESIDUAL PLANNED RISK (TARGET RISKS)
A8: Risk Number | B8: Description/Event(s) | C8: Impact(s) | D8: Assumptions | E8: Impact /Risk Category | F8: Control Description * | G8: Current Effectiveness of Control / Response | H8: Consequence | I8: Probability | J8: Current Residual Risk Level | K8: Authority level Notification and reporting | L8: Residual Risk Acceptance | M8: Proposed Response Actions | N8: Proposed Action Due Date | O8: Action Owner | P8: Consequence | Q8: Probability | R8: Residual Planned Risk Level | S8: Authority level Notification and reporting | T8: Sign Off | U8: Risk Review Frequency | V8: Date Last Reviewed
A9: Risk Number | B9: Describe the activity and associated hazard | C9: Potential effect(s) as a result of the hazard becoming uncontrollably released | D9: Assumption made in assessing level of risk | E9: Select the relevant REM impact area. If more than one impact area, identify as a separate risk | F9: Risk controls which are currently in place Provide enough detail for the control to be easily understood | G9: How effective are the nominated controls / Responses at controlling the risk | H9: Consequence score with consideration of existing controls / Responses | I9: Likelihood score with consideration of existing controls / Responses | J9: Residual Risk rating based on risk scores | K9: Details of Authority Level Risk is to be reported to. | L9: Risk Accepted Yes/No | M9: List and rank proposed/future/intended actions to reduce risk (by order of effectiveness from more to less effective) | N9: Date by which the action needs to be closed out | O9: Nominate the suitable person to manage the relevant action | P9: Consequence score with consideration to impact of proposed mitigants | Q9: Likelihood score with consideration to impact of proposed mitigants | R9: Target Risk ratings based on risk score | S9: Details of Authority Level Risk is to be reported to. | T9: Details of Person accepting that risk is closed. | U9: Based on the risk score, e.g. high risks followed up monthly | V9: Indicate the last time risk was reviewed
A10: 1 | B10: Confined Space entry - Stormwater pits and pipes, Duct work | C10: Explosion causing injury / damage | D10: Concentration of flammable airborne contaminant e.g. gas, fuel, explosive dust | E10: Health & Safety | F10: Only suitably qualified Confined Space trained personnel may undertake confined space tasks included risk management processes, hazard control, enter and conduct tasks, perform stand-by role and participate in emergency response. Conduct all works according to a Confined Space Permit. Test the atmosphere prior to entry for unsafe oxygen level, harmful contaminants and any flammable or combustible contaminants. Isolate services connected to the space that may cause harm. Establish mechanical / natural ventilation for the space. Only use intrinsically safe equipment Perform Continuous / Regular / Periodic atmospheric monitoring during works and document on Permit. Ensure Gas monitor is calibrated / challenged / bump tested prior to use. Provide Air-Supplied Breathing Equipment if working within a potentially unsafe atmosphere. Establish fire extinguishers. Keep gas bottles outside the space. Any Hot Work in the space to be conducted under Hot Work Permit. | G10: Good | H10: Major (4) | I10: Rare (1) | J10: =MID(INDEX('2. Risk Matrix'!$G$14:$L$19,MATCH($I10,'2. Risk Matrix'!$F$14:$F$19,0), MATCH($H10,'2. Risk Matrix'!$G$13:$L$13,0)),1,20) -> Sustainable 8 | K10: =MID(INDEX('7. Escalation Matrix'!$G$14:$L$19,MATCH($I10,'7. Escalation Matrix'!$F$14:$F$19,0), MATCH($H10,'7. Escalation Matrix'!$G$13:$L$13,0)),1,300) -> Supervisor/ Front Line Manager | L10: Yes | R10: =MID(INDEX('2. Risk Matrix'!$G$14:$L$19,MATCH($Q10,'2. Risk Matrix'!$F$14:$F$19,0), MATCH($P10,'2. Risk Matrix'!$G$13:$L$13,0)),1,20) -> #N/A | S10: =MID(INDEX('7. Escalation Matrix'!$G$14:$L$19,MATCH($Q10,'7. Escalation Matrix'!$F$14:$F$19,0), MATCH($P10,'7. Escalation Matrix'!$G$13:$L$13,0)),1,300) -> #N/A | U10: Please select
A11: 2 | B11: Confined Space entry - Stormwater pits and pipes, Duct work | C11: Restricted entry or exit causing limitations to Emergency Response | D11: Enclosed or partially enclosed space, not intended primarily for human occupancy | E11: Health & Safety | F11: Only suitably qualified Confined Space trained personnel may undertake confined space tasks included risk management processes, hazard control, enter and conduct tasks, perform stand-by role and participate in emergency response. Confined Space work must only be undertaken under Confined Space Permit conditions. Establish rescue method - e.g. tripod, davit, winch. Position a Confined Space trained stand-by person at the entry point for the duration of the work. Establish and maintain agreed communication with the stand-by person and person/s inside the space. Identify safe access/egress points. Set-up emergency rescue equipment at access point. Ensure buddy system or multiple team members - No work alone. Have First Aider with CPR competency within work crew. | G11: Good | H11: Major (4) | I11: Very Unlikely (2) | J11: =MID(INDEX('2. Risk Matrix'!$G$14:$L$19,MATCH($I11,'2. Risk Matrix'!$F$14:$F$19,0), MATCH($H11,'2. Risk Matrix'!$G$13:$L$13,0)),1,20) -> Minor 14 | K11: =MID(INDEX('7. Escalation Matrix'!$G$14:$L$19,MATCH($I11,'7. Escalation Matrix'!$F$14:$F$19,0), MATCH($H11,'7. Escalation Matrix'!$G$13:$L$13,0)),1,300) -> Area or Dept. Manager | L11: Yes | R11: =MID(INDEX('2. Risk Matrix'!$G$14:$L$19,MATCH($Q11,'2. Risk Matrix'!$F$14:$F$19,0), MATCH($P11,'2. Risk Matrix'!$G$13:$L$13,0)),1,20) -> #N/A | S11: =MID(INDEX('7. Escalation Matrix'!$G$14:$L$19,MATCH($Q11,'7. Escalation Matrix'!$F$14:$F$19,0), MATCH($P11,'7. Escalation Matrix'!$G$13:$L$13,0)),1,300) -> #N/A | U11: Please select
A12: 3 | B12: Confined Space entry - Stormwater pits and pipes, Duct work | C12: Thermal issues - may cause hyperthermia | D12: Enclosed or partially enclosed space, not intended primarily for human occupancy | E12: Health & Safety | F12: Only suitably qualified Confined Space trained personnel may undertake confined space tasks included risk management processes, hazard control, enter and conduct tasks, perform stand-by role and participate in emergency response. Conduct all works according to a Confined Space Permit. Establish mechanical / natural ventilation for the space. Establish and maintain agreed communication with the stand-by person and persons inside the space. Monitor humidity and temperate during works. Provide rest breaks where required. | G12: Good | H12: Moderate (3) | I12: Very Unlikely (2) | J12: =MID(INDEX('2. Risk Matrix'!$G$14:$L$19,MATCH($I12,'2. Risk Matrix'!$F$14:$F$19,0), MATCH($H12,'2. Risk Matrix'!$G$13:$L$13,0)),1,20) -> Sustainable 7 | K12: =MID(INDEX('7. Escalation Matrix'!$G$14:$L$19,MATCH($I12,'7. Escalation Matrix'!$F$14:$F$19,0), MATCH($H12,'7. Escalation Matrix'!$G$13:$L$13,0)),1,300) -> Supervisor/ Front Line Manager | L12: Yes | R12: =MID(INDEX('2. Risk Matrix'!$G$14:$L$19,MATCH($Q12,'2. Risk Matrix'!$F$14:$F$19,0), MATCH($P12,'2. Risk Matrix'!$G$13:$L$13,0)),1,20) -> #N/A | S12: =MID(INDEX('7. Escalation Matrix'!$G$14:$L$19,MATCH($Q12,'7. Escalation Matrix'!$F$14:$F$19,0), MATCH($P12,'7. Escalation Matrix'!$G$13:$L$13,0)),1,300) -> #N/A | U12: Please select
A13: 4 | B13: Confined Space entry - Stormwater pits and pipes, Duct work | C13: Engulfment causing suffocation or drowning. | D13: Potential free-flowing solid or rising level of liquid. | E13: Health & Safety | F13: Only suitably qualified Confined Space trained personnel may undertake confined space tasks including risk management processes, hazard control, enter and conduct tasks, perform stand-by role and participate in emergency response. Conduct all works according to a Confined Space Permit. Double isolation of services connected to the space that may cause harm (e.g. drowning or suffocation). Clean or purge solids or liquids within or connected to the space. Drain or empty vessel of material. Place warning signs and barricades at all access points. Conduct all works according to a Confined Space Permit. | G13: Good | H13: Major (4) | I13: Rare (1) | J13: =MID(INDEX('2. Risk Matrix'!$G$14:$L$19,MATCH($I13,'2. Risk Matrix'!$F$14:$F$19,0), MATCH($H13,'2. Risk Matrix'!$G$13:$L$13,0)),1,20) -> Sustainable 8 | K13: =MID(INDEX('7. Escalation Matrix'!$G$14:$L$19,MATCH($I13,'7. Escalation Matrix'!$F$14:$F$19,0), MATCH($H13,'7. Escalation Matrix'!$G$13:$L$13,0)),1,300) -> Supervisor/ Front Line Manager | L13: Yes | R13: =MID(INDEX('2. Risk Matrix'!$G$14:$L$19,MATCH($Q13,'2. Risk Matrix'!$F$14:$F$19,0), MATCH($P13,'2. Risk Matrix'!$G$13:$L$13,0)),1,20) -> #N/A | S13: =MID(INDEX('7. Escalation Matrix'!$G$14:$L$19,MATCH($Q13,'7. Escalation Matrix'!$F$14:$F$19,0), MATCH($P13,'7. Escalation Matrix'!$G$13:$L$13,0)),1,300) -> #N/A | U13: Please select
A14: 5 | B14: Confined Space entry - Stormwater pits and pipes, Duct work | C14: May cause impairment, loss of consciousness or asphyxiation. | D14: Unsafe oxygen level outside of the safe oxygen range or airborne contaminants. | E14: Health & Safety | F14: Only suitably qualified Confined Space trained personnel may undertake confined space tasks included risk management processes, hazard control, enter and conduct tasks, perform stand-by role and participate in emergency response. Conduct all works according to a Confined Space Permit. Test the atmosphere prior to entry for unsafe oxygen level, Harmful contaminants and any flammable or combustible contaminants. Isolate services connected to the space that may cause harm. Establish mechanical / natural ventilation for the space. Clean or purge solids or liquids within or connected to the space. Place warning signs and barricades at all access points. Secure the confined space each day once the work is completed. Perform Continuous / Regular / Periodic atmospheric monitoring during works and document on Permit. All persons required to enter or supervise work must have completed accredited confined space training. Have First Aider with CPR competency within work crew. Ensure Gas monitor is calibrated / challenged / bump tested prior to use. Keep exhaust gas/fume producing plant away from space. Provide Air-Supplied Breathing Equipment if working within a potentially unsafe atmosphere. Ensure safety harnesses are tested and inspected before use. | G14: Good | H14: Major (4) | I14: Very Unlikely (2) | J14: =MID(INDEX('2. Risk Matrix'!$G$14:$L$19,MATCH($I14,'2. Risk Matrix'!$F$14:$F$19,0), MATCH($H14,'2. Risk Matrix'!$G$13:$L$13,0)),1,20) -> Minor 14 | K14: =MID(INDEX('7. Escalation Matrix'!$G$14:$L$19,MATCH($I14,'7. Escalation Matrix'!$F$14:$F$19,0), MATCH($H14,'7. Escalation Matrix'!$G$13:$L$13,0)),1,300) -> Area or Dept. Manager | L14: Yes | R14: =MID(INDEX('2. Risk Matrix'!$G$14:$L$19,MATCH($Q14,'2. Risk Matrix'!$F$14:$F$19,0), MATCH($P14,'2. Risk Matrix'!$G$13:$L$13,0)),1,20) -> #N/A | S14: =MID(INDEX('7. Escalation Matrix'!$G$14:$L$19,MATCH($Q14,'7. Escalation Matrix'!$F$14:$F$19,0), MATCH($P14,'7. Escalation Matrix'!$G$13:$L$13,0)),1,300) -> #N/A | U14: Please select
A15: 6 | B15: Construction work - General | C15: Environmental impact - Inappropriate disposal of waste | D15: Civil, electrical and facilities waste anticipated | E15: Health & Safety | F15: Waste to be disposed of appropriately; site to be cleared of waste at end of each day; to be disposed of as agreed; regulated waste as legislated; recycling whenever possible. | G15: Good | H15: Low (2) | I15: Very Unlikely (2) | J15: =MID(INDEX('2. Risk Matrix'!$G$14:$L$19,MATCH($I15,'2. Risk Matrix'!$F$14:$F$19,0), MATCH($H15,'2. Risk Matrix'!$G$13:$L$13,0)),1,20) -> Sustainable 5 | K15: =MID(INDEX('7. Escalation Matrix'!$G$14:$L$19,MATCH($I15,'7. Escalation Matrix'!$F$14:$F$19,0), MATCH($H15,'7. Escalation Matrix'!$G$13:$L$13,0)),1,300) -> Supervisor/ Front Line Manager | L15: Yes | R15: =MID(INDEX('2. Risk Matrix'!$G$14:$L$19,MATCH($Q15,'2. Risk Matrix'!$F$14:$F$19,0), MATCH($P15,'2. Risk Matrix'!$G$13:$L$13,0)),1,20) -> #N/A | S15: =MID(INDEX('7. Escalation Matrix'!$G$14:$L$19,MATCH($Q15,'7. Escalation Matrix'!$F$14:$F$19,0), MATCH($P15,'7. Escalation Matrix'!$G$13:$L$13,0)),1,300) -> #N/A | U15: Please select
A16: 7 | B16: Hazardous Chemical Storage Area - Contaminated or flammable atmosphere | C16: Explosion causing injury / damage | D16: Confirmed or anticipated 'hazardous area' | E16: Health & Safety | F16: Access to area to be conducted under asset owner access permit requirements. Identify exclusion areas and set up barriers and warning signs. All personnel must wear approved hazardous area clothing Personal Protective Equipment (PPE). Only natural fibre’s such as cottons or wools to be worn underneath Flame Resistant Clothing. Isolate hazardous contaminant supply - Asset owner authority required. No ignition sources must be present in the hazardous area, unless under a permit e.g. hot work or access permit. Electrical installations or equipment must be designed for specific hazardous area Zone e.g. intrinsically safe. Dilute or ventilate area. Conduct hot works under a permit. Hot work controls include: Removal or Protection of Combustible Materials, Communication systems established, Fire Equipment (Hoses, blankets & extinguishers), Signage & Barricading, Standby person (Firewatcher) in attendance and remain for 30 minute after works completion. Obtain Safety Data Sheet for known gases. Install metallic bond across any proposed cut or break in a conductive gas line, District Regulator Station or Gas Measurement System. All workers must be suitably trained and authorised to conduct work in the hazardous area. Persons not trained or authorised must be accompanied by an authorised person at all times. Monitor weather and wind conditions throughout works. Emergency response plans for uncontrolled release of hazardous contaminant communicated to all personnel and equipment established for fire/explosion. | G16: Good | H16: Major (4) | I16: Very Unlikely (2) | J16: =MID(INDEX('2. Risk Matrix'!$G$14:$L$19,MATCH($I16,'2. Risk Matrix'!$F$14:$F$19,0), MATCH($H16,'2. Risk Matrix'!$G$13:$L$13,0)),1,20) -> Minor 14 | K16: =MID(INDEX('7. Escalation Matrix'!$G$14:$L$19,MATCH($I16,'7. Escalation Matrix'!$F$14:$F$19,0), MATCH($H16,'7. Escalation Matrix'!$G$13:$L$13,0)),1,300) -> Area or Dept. Manager | L16: Yes | R16: =MID(INDEX('2. Risk Matrix'!$G$14:$L$19,MATCH($Q16,'2. Risk Matrix'!$F$14:$F$19,0), MATCH($P16,'2. Risk Matrix'!$G$13:$L$13,0)),1,20) -> #N/A | S16: =MID(INDEX('7. Escalation Matrix'!$G$14:$L$19,MATCH($Q16,'7. Escalation Matrix'!$F$14:$F$19,0), MATCH($P16,'7. Escalation Matrix'!$G$13:$L$13,0)),1,300) -> #N/A | U16: Please select
A17: 8 | B17: Heavy Lifting of equipment, materials or plant - Operating Cranes and lifting | C17: Falling load - Injury/asset damage | D17: Subcontractor cranage operations to lift in substation pre-fab buildings | E17: Health & Safety | F17: Ensure correct crane is selected for the work task e.g. lifting capacity, terrain. Ensure Load Limiting Devices are fitted to cranes. Operate the crane according to the manufacturer's instructions. Include functional test as part of pre-start check. The crane operator must remain at the crane controls while a load is being lifted. A crane operator cannot carry out dual roles, that is crane operator and dogger. Verify that lifting points are designed and certified by qualified engineers. Use designated lifting points when provided. Use tested, tagged and rated lifting equipment, and inspect before use. Loads must be secured. Steady loads with16mm tag lines and keep body parts away from the pinch /crush points. Operate the crane within its Safe Working Load. Never disable load limit alarms/anti-two block/switches etc Conduct work under a lift study when operating a crane at more than 85% of its Safe Working Load (SWL) (Significant Lift) or using multiple cranes in the same lift. Significant Lifts - Perform the lift with licensed doggers and crane operators. Dual lifts - Perform the lift with licensed riggers, doggers and crane operators. A rigger must coordinate the lift. Using an excavator as a crane – to be fitted with visible lifting chart, level indicator and SWL on boom, burst protection (when the RC exceeds 1 tonne) and a closed eye designated lifting point. Monitor weather conditions throughout works: • Wind that may cause lines or load to swing. • Rain that may effect ground conditions. • Lightning that may strike during lifting operation. Re-visit HazChat if whether conditions change. Emergency response plans and equipment established for persons potentially struck by falling objects. Set up exclusion zones around the crane’s operating area. Do not walk under a suspended load. | G17: Good | H17: Significant (5) | I17: Very Unlikely (2) | J17: =MID(INDEX('2. Risk Matrix'!$G$14:$L$19,MATCH($I17,'2. Risk Matrix'!$F$14:$F$19,0), MATCH($H17,'2. Risk Matrix'!$G$13:$L$13,0)),1,20) -> Minor 16 | K17: =MID(INDEX('7. Escalation Matrix'!$G$14:$L$19,MATCH($I17,'7. Escalation Matrix'!$F$14:$F$19,0), MATCH($H17,'7. Escalation Matrix'!$G$13:$L$13,0)),1,300) -> Area or Dept. Manager | L17: Yes | R17: =MID(INDEX('2. Risk Matrix'!$G$14:$L$19,MATCH($Q17,'2. Risk Matrix'!$F$14:$F$19,0), MATCH($P17,'2. Risk Matrix'!$G$13:$L$13,0)),1,20) -> #N/A | S17: =MID(INDEX('7. Escalation Matrix'!$G$14:$L$19,MATCH($Q17,'7. Escalation Matrix'!$F$14:$F$19,0), MATCH($P17,'7. Escalation Matrix'!$G$13:$L$13,0)),1,300) -> #N/A | U17: Please select
A18: 9 | B18: Heavy Lifting of equipment, materials or plant - Operating Cranes and lifting | C18: Collision with other plant and structures when travelling with load - Injury/asset damage | D18: Potentially civil plant also in use during lifting operations | E18: Health & Safety | F18: A dogger (or more than one as required) must walk the load with a 16mm tagline attached. Use two-way, hand signals, lights etc to establish communication when passing other plant or workgroups, and ensure all understand your intent prior to passing. Plant being passed must remain stationary. Passing plant must travel at no more than 5km/hr. Emergency response plans and equipment established for potential traffic accident and collision. | G18: Good | H18: Major (4) | I18: Rare (1) | J18: =MID(INDEX('2. Risk Matrix'!$G$14:$L$19,MATCH($I18,'2. Risk Matrix'!$F$14:$F$19,0), MATCH($H18,'2. Risk Matrix'!$G$13:$L$13,0)),1,20) -> Sustainable 8 | K18: =MID(INDEX('7. Escalation Matrix'!$G$14:$L$19,MATCH($I18,'7. Escalation Matrix'!$F$14:$F$19,0), MATCH($H18,'7. Escalation Matrix'!$G$13:$L$13,0)),1,300) -> Supervisor/ Front Line Manager | L18: Yes | R18: =MID(INDEX('2. Risk Matrix'!$G$14:$L$19,MATCH($Q18,'2. Risk Matrix'!$F$14:$F$19,0), MATCH($P18,'2. Risk Matrix'!$G$13:$L$13,0)),1,20) -> #N/A | S18: =MID(INDEX('7. Escalation Matrix'!$G$14:$L$19,MATCH($Q18,'7. Escalation Matrix'!$F$14:$F$19,0), MATCH($P18,'7. Escalation Matrix'!$G$13:$L$13,0)),1,300) -> #N/A | U18: Please select
A19: 10 | B19: Heavy Lifting of equipment, materials or plant - Operating Cranes and lifting | C19: Contact with overhead services - Injury/asset damage | D19: Lifting electrical components in the vicinity of existing overhead services | E19: Health & Safety | F19: Isolation is always the first preference. Ensure tag lines are made of non-conductive material when working in an electrical environment. Locate overhead power lines and maintain safe clearance distances depending on voltage. A Safety Observer must be in place when working in the vicinity of overhead services. The Safety Observer must have no other role, other than Safety Observer. Install Proximity Warning Devices. Install Warning Bunting/Tiger Tails/Goal posts. Erect Warning Signs. Emergency response plans established for potential contact with overhead services. Ensure all are knowledgeable in step-touch potential. | G19: Good | H19: Significant (5) | I19: Very Unlikely (2) | J19: =MID(INDEX('2. Risk Matrix'!$G$14:$L$19,MATCH($I19,'2. Risk Matrix'!$F$14:$F$19,0), MATCH($H19,'2. Risk Matrix'!$G$13:$L$13,0)),1,20) -> Minor 16 | K19: =MID(INDEX('7. Escalation Matrix'!$G$14:$L$19,MATCH($I19,'7. Escalation Matrix'!$F$14:$F$19,0), MATCH($H19,'7. Escalation Matrix'!$G$13:$L$13,0)),1,300) -> Area or Dept. Manager | L19: Yes | R19: =MID(INDEX('2. Risk Matrix'!$G$14:$L$19,MATCH($Q19,'2. Risk Matrix'!$F$14:$F$19,0), MATCH($P19,'2. Risk Matrix'!$G$13:$L$13,0)),1,20) -> #N/A | S19: =MID(INDEX('7. Escalation Matrix'!$G$14:$L$19,MATCH($Q19,'7. Escalation Matrix'!$F$14:$F$19,0), MATCH($P19,'7. Escalation Matrix'!$G$13:$L$13,0)),1,300) -> #N/A | U19: Please select
A20: 11 | B20: Heavy Lifting of equipment, materials or plant - Operating Cranes and lifting | C20: Structural failure – Injury/asset damage. | D20: Work in operational areas; fit for purpose plant. | E20: Health & Safety | F20: A Plant Risk Assessment, User Manual and Pre-start checklist must be available to the operator either in paper form or electronically. Design registration is also required of any mobile crane with a rated capacity of greater than 10 tonnes. Design registration is valid for five years. Registered cranes require a ‘Major Inspection’ every 10 years and evidence must be sought to clarify this has been carried out. All mobile cranes should be inspected as per the manufacturer’s instructions, or as a minimum yearly. Yearly inspections include detailed mechanical and structural inspections carried out by a competent person. Evidence must be sought to clarify this has been carried out. | G20: Good | H20: Significant (5) | I20: Rare (1) | J20: =MID(INDEX('2. Risk Matrix'!$G$14:$L$19,MATCH($I20,'2. Risk Matrix'!$F$14:$F$19,0), MATCH($H20,'2. Risk Matrix'!$G$13:$L$13,0)),1,20) -> Minor 15 | K20: =MID(INDEX('7. Escalation Matrix'!$G$14:$L$19,MATCH($I20,'7. Escalation Matrix'!$F$14:$F$19,0), MATCH($H20,'7. Escalation Matrix'!$G$13:$L$13,0)),1,300) -> Area or Dept. Manager | L20: Yes | R20: =MID(INDEX('2. Risk Matrix'!$G$14:$L$19,MATCH($Q20,'2. Risk Matrix'!$F$14:$F$19,0), MATCH($P20,'2. Risk Matrix'!$G$13:$L$13,0)),1,20) -> #N/A | S20: =MID(INDEX('7. Escalation Matrix'!$G$14:$L$19,MATCH($Q20,'7. Escalation Matrix'!$F$14:$F$19,0), MATCH($P20,'7. Escalation Matrix'!$G$13:$L$13,0)),1,300) -> #N/A | U20: Please select
A21: 12 | B21: Heavy Lifting of equipment, materials or plant - Operating Cranes and lifting | C21: Overturning - Injury/asset damage | D21: Underground conduits - minimum coverage - not designed for heavy plant to cross. Compaction limits may restrict crane access requiring excessive boom-out configuration. | E21: Health & Safety | F21: Ensure contractor is advised of any potential access issues. Walk the job - Check ground and site conditions before setting up the crane. Seek Geotech advice when necessary. Pads may require construction, compaction and density testing. Ensure correct crane is selected for the work task e.g. lifting capacity, terrain. Engage outriggers during lifting (as applicable e.g. franna, borer/lifter, Hiab. Use dunnage as required; purpose-built pads or latticed/pig-sty stacked 200mm x 75mm timbers. Emergency response plans established for potential overturning. Establish communication system (e.g. radio, verbal, hand, lights etc.) between personnel controlling the lift, which includes the operator, dogger and/or rigger and the spotter if in place. Seat-belts to be worn if fitted. ROPS fitted to plant. Unessential personnel must not be in the radius of the crane. | G21: Good | H21: Significant (5) | I21: Very Unlikely (2) | J21: =MID(INDEX('2. Risk Matrix'!$G$14:$L$19,MATCH($I21,'2. Risk Matrix'!$F$14:$F$19,0), MATCH($H21,'2. Risk Matrix'!$G$13:$L$13,0)),1,20) -> Minor 16 | K21: =MID(INDEX('7. Escalation Matrix'!$G$14:$L$19,MATCH($I21,'7. Escalation Matrix'!$F$14:$F$19,0), MATCH($H21,'7. Escalation Matrix'!$G$13:$L$13,0)),1,300) -> Area or Dept. Manager | L21: Yes | R21: =MID(INDEX('2. Risk Matrix'!$G$14:$L$19,MATCH($Q21,'2. Risk Matrix'!$F$14:$F$19,0), MATCH($P21,'2. Risk Matrix'!$G$13:$L$13,0)),1,20) -> #N/A | S21: =MID(INDEX('7. Escalation Matrix'!$G$14:$L$19,MATCH($Q21,'7. Escalation Matrix'!$F$14:$F$19,0), MATCH($P21,'7. Escalation Matrix'!$G$13:$L$13,0)),1,300) -> #N/A | U21: Please select
... A66: 57 | B66: High Voltage - Earthing | C66: Contact with live High Voltage electricity - Injury | D66: HV Access required during construction / testing / commissioning | E66: Health & Safety | F66: In accordance with YUR 2150 High Voltage Operating Guideline and the Energy Queensland Standard ‘Earthing of high voltage electrical apparatus for the protection of personnel’ (EE P53K05R01 / EX RED 01732), earths should be applied in accordance with an approved HV Switching Sheet after first having proven dead or in the case of metal clad switchgear where this is not possible, by utilising the manufacturer’s installed capacitive voltage detection system. Only approved earthing devices shall be used. Where possible, earths shall be placed as close as possible to all points of isolation. For line work and in substations, main earths should be connected at suitable poles or structures clear of the working position. In applying an earthing device, it shall be connected to earth before it is applied to the conductors, and it shall be removed from the conductors before it is disconnected from earth. | G66: Good | H66: Significant (5) | I66: Very Unlikely (2) | J66: =MID(INDEX('2. Risk Matrix'!$G$14:$L$19,MATCH($I66,'2. Risk Matrix'!$F$14:$F$19,0), MATCH($H66,'2. Risk Matrix'!$G$13:$L$13,0)),1,20) -> Minor 16 | K66: =MID(INDEX('7. Escalation Matrix'!$G$14:$L$19,MATCH($I66,'7. Escalation Matrix'!$F$14:$F$19,0), MATCH($H66,'7. Escalation Matrix'!$G$13:$L$13,0)),1,300) -> Area or Dept. Manager | L66: Yes | R66: =MID(INDEX('2. Risk Matrix'!$G$14:$L$19,MATCH($Q66,'2. Risk Matrix'!$F$14:$F$19,0), MATCH($P66,'2. Risk Matrix'!$G$13:$L$13,0)),1,20) -> #N/A | S66: =MID(INDEX('7. Escalation Matrix'!$G$14:$L$19,MATCH($Q66,'7. Escalation Matrix'!$F$14:$F$19,0), MATCH($P66,'7. Escalation Matrix'!$G$13:$L$13,0)),1,300) -> #N/A | U66: Please select
A67: 58 | B67: High Voltage - Live work | C67: Contact with live electricity - Injury | D67: NOT ANTICIPATED to be undertaken by Yurika | E67: Health & Safety | F67: High voltage LIVE WORK will only be undertaken by authorised DNSP or TNSP Live Line personnel. | G67: Good | J67: =MID(INDEX('2. Risk Matrix'!$G$14:$L$19,MATCH($I67,'2. Risk Matrix'!$F$14:$F$19,0), MATCH($H67,'2. Risk Matrix'!$G$13:$L$13,0)),1,20) -> #N/A | K67: =MID(INDEX('7. Escalation Matrix'!$G$14:$L$19,MATCH($I67,'7. Escalation Matrix'!$F$14:$F$19,0), MATCH($H67,'7. Escalation Matrix'!$G$13:$L$13,0)),1,300) -> #N/A | L67: Yes | R67: =MID(INDEX('2. Risk Matrix'!$G$14:$L$19,MATCH($Q67,'2. Risk Matrix'!$F$14:$F$19,0), MATCH($P67,'2. Risk Matrix'!$G$13:$L$13,0)),1,20) -> #N/A | S67: =MID(INDEX('7. Escalation Matrix'!$G$14:$L$19,MATCH($Q67,'7. Escalation Matrix'!$F$14:$F$19,0), MATCH($P67,'7. Escalation Matrix'!$G$13:$L$13,0)),1,300) -> #N/A | U67: Please select
A68: 59 | B68: High Voltage - Switching | C68: Contact with live High Voltage electricity - Injury | D68: HV Access required during construction / testing / commissioning | E68: Health & Safety | F68: In accordance with YUR 2150 High Voltage Operating Guideline, HV Switching will only be undertaken by persons authorised by Yurika to undertake particular HV tasks e.g. High Voltage Switching Operator, High Voltage Switching Operator's Assistant. Switching operations must only be undertaken in accordance with an approved Switching Sheet. | G68: Good | H68: Significant (5) | I68: Very Unlikely (2) | J68: =MID(INDEX('2. Risk Matrix'!$G$14:$L$19,MATCH($I68,'2. Risk Matrix'!$F$14:$F$19,0), MATCH($H68,'2. Risk Matrix'!$G$13:$L$13,0)),1,20) -> Minor 16 | K68: =MID(INDEX('7. Escalation Matrix'!$G$14:$L$19,MATCH($I68,'7. Escalation Matrix'!$F$14:$F$19,0), MATCH($H68,'7. Escalation Matrix'!$G$13:$L$13,0)),1,300) -> Area or Dept. Manager | L68: Yes | R68: =MID(INDEX('2. Risk Matrix'!$G$14:$L$19,MATCH($Q68,'2. Risk Matrix'!$F$14:$F$19,0), MATCH($P68,'2. Risk Matrix'!$G$13:$L$13,0)),1,20) -> #N/A | S68: =MID(INDEX('7. Escalation Matrix'!$G$14:$L$19,MATCH($Q68,'7. Escalation Matrix'!$F$14:$F$19,0), MATCH($P68,'7. Escalation Matrix'!$G$13:$L$13,0)),1,300) -> #N/A | U68: Please select
A69: 60 | B69: High Voltage - Testing | C69: Contact with live High Voltage electricity - Injury | D69: HV Access required during construction / testing / commissioning | E69: Health & Safety | F69: In accordance with YUR 2150 High Voltage Operating Guideline, HV testing will only be undertaken when working under an authorised HV Test Permit. Work must only be undertaken within the Safe Work Area boundaries identified by the HV Test Permit. Persons signing on to a HV Test Permit must understand the limits and obligations of the Test Permit, must not undertake any work other than that identified by the Test Permit, and sign-off the Test Permit when work is complete. | G69: Good | H69: Significant (5) | I69: Very Unlikely (2) | J69: =MID(INDEX('2. Risk Matrix'!$G$14:$L$19,MATCH($I69,'2. Risk Matrix'!$F$14:$F$19,0), MATCH($H69,'2. Risk Matrix'!$G$13:$L$13,0)),1,20) -> Minor 16 | K69: =MID(INDEX('7. Escalation Matrix'!$G$14:$L$19,MATCH($I69,'7. Escalation Matrix'!$F$14:$F$19,0), MATCH($H69,'7. Escalation Matrix'!$G$13:$L$13,0)),1,300) -> Area or Dept. Manager | L69: Yes | R69: =MID(INDEX('2. Risk Matrix'!$G$14:$L$19,MATCH($Q69,'2. Risk Matrix'!$F$14:$F$19,0), MATCH($P69,'2. Risk Matrix'!$G$13:$L$13,0)),1,20) -> #N/A | S69: =MID(INDEX('7. Escalation Matrix'!$G$14:$L$19,MATCH($Q69,'7. Escalation Matrix'!$F$14:$F$19,0), MATCH($P69,'7. Escalation Matrix'!$G$13:$L$13,0)),1,300) -> #N/A | U69: Please select
A70: 61 | B70: High Voltage - Work in the vicinity | C70: Contact with live High Voltage electricity - Injury | D70: HV Access required during construction / testing / commissioning | E70: Health & Safety | F70: Work in the vicinity of HV electrical apparatus shall be considered if there is even a remote possibility that induction may occur or a conducting medium (plant or equipment) may come within the nominated safe approach distance (SAD). If personnel are required to work in closer proximity to live HV electrical apparatus than the SAD, then the apparatus shall be de-energised, isolated, earthed and works completed under a HV Access Authority. | G70: Good | H70: Significant (5) | I70: Very Unlikely (2) | J70: =MID(INDEX('2. Risk Matrix'!$G$14:$L$19,MATCH($I70,'2. Risk Matrix'!$F$14:$F$19,0), MATCH($H70,'2. Risk Matrix'!$G$13:$L$13,0)),1,20) -> Minor 16 | K70: =MID(INDEX('7. Escalation Matrix'!$G$14:$L$19,MATCH($I70,'7. Escalation Matrix'!$F$14:$F$19,0), MATCH($H70,'7. Escalation Matrix'!$G$13:$L$13,0)),1,300) -> Area or Dept. Manager | L70: Yes | R70: =MID(INDEX('2. Risk Matrix'!$G$14:$L$19,MATCH($Q70,'2. Risk Matrix'!$F$14:$F$19,0), MATCH($P70,'2. Risk Matrix'!$G$13:$L$13,0)),1,20) -> #N/A | S70: =MID(INDEX('7. Escalation Matrix'!$G$14:$L$19,MATCH($Q70,'7. Escalation Matrix'!$F$14:$F$19,0), MATCH($P70,'7. Escalation Matrix'!$G$13:$L$13,0)),1,300) -> #N/A | U70: Please select
A71: 62 | B71: High Voltage - Work on High Voltage apparatus | C71: Contact with live High Voltage electricity - Injury | D71: HV Access required during construction / testing / commissioning | E71: Health & Safety | F71: In accordance with YUR 2150 High Voltage Operating Guideline, HV work will only be undertaken on High Voltage apparatus which has been de-energised, isolated and earthed according to an approved HV Switching Sheet. Work must not commence unless an Authorised HV Access Permit is in place, Safe Work Area boundaries are delineated, nearest live in-service equipment is identified and any necessary additional isolations are undertaken. Persons signing on to a HV Access Permit must understand the limits and obligations of the Access Permit, must not undertake any work other than that identified by the Access Permit, and sign-off the Access Permit when work is complete. | G71: Good | H71: Significant (5) | I71: Very Unlikely (2) | J71: =MID(INDEX('2. Risk Matrix'!$G$14:$L$19,MATCH($I71,'2. Risk Matrix'!$F$14:$F$19,0), MATCH($H71,'2. Risk Matrix'!$G$13:$L$13,0)),1,20) -> Minor 16 | K71: =MID(INDEX('7. Escalation Matrix'!$G$14:$L$19,MATCH($I71,'7. Escalation Matrix'!$F$14:$F$19,0), MATCH($H71,'7. Escalation Matrix'!$G$13:$L$13,0)),1,300) -> Area or Dept. Manager | L71: Yes | R71: =MID(INDEX('2. Risk Matrix'!$G$14:$L$19,MATCH($Q71,'2. Risk Matrix'!$F$14:$F$19,0), MATCH($P71,'2. Risk Matrix'!$G$13:$L$13,0)),1,20) -> #N/A | S71: =MID(INDEX('7. Escalation Matrix'!$G$14:$L$19,MATCH($Q71,'7. Escalation Matrix'!$F$14:$F$19,0), MATCH($P71,'7. Escalation Matrix'!$G$13:$L$13,0)),1,300) -> #N/A | U71: Please select
A72: 63 | B72: Apply and remove portable earthing devices. | C72: Contact with live electricity - Injury | D72: Earthing required during construction / test / commission | E72: Health & Safety | F72: Keep people away from earth stake and leads Maintain exclusion zones. Earth where you tested. Lead to earth point connected first, removed last. Apply to all phases of the line or equipment being accessed. Support the weight of the down leads. Keep earth leads straight and untangled. Attach a DNOB to the Operator Earths. Record the location of Working Earths on the Access Permit. Secure excess earth leads. Control movement of the earths to ensure they remain clear of the live HV. DO NOT contact the earth leads or head. Before removing reassess hazards if conditions have changed. If 500mm clearance from live HV cannot be achieved then a temporary stirrup fitted to the bottom of the EDO should be used as the earthing point. Appropriate phase gloves must be worn when attaching earths. | G72: Good | H72: Significant (5) | I72: Very Unlikely (2) | J72: =MID(INDEX('2. Risk Matrix'!$G$14:$L$19,MATCH($I72,'2. Risk Matrix'!$F$14:$F$19,0), MATCH($H72,'2. Risk Matrix'!$G$13:$L$13,0)),1,20) -> Minor 16 | K72: =MID(INDEX('7. Escalation Matrix'!$G$14:$L$19,MATCH($I72,'7. Escalation Matrix'!$F$14:$F$19,0), MATCH($H72,'7. Escalation Matrix'!$G$13:$L$13,0)),1,300) -> Area or Dept. Manager | L72: Yes | R72: =MID(INDEX('2. Risk Matrix'!$G$14:$L$19,MATCH($Q72,'2. Risk Matrix'!$F$14:$F$19,0), MATCH($P72,'2. Risk Matrix'!$G$13:$L$13,0)),1,20) -> #N/A | S72: =MID(INDEX('7. Escalation Matrix'!$G$14:$L$19,MATCH($Q72,'7. Escalation Matrix'!$F$14:$F$19,0), MATCH($P72,'7. Escalation Matrix'!$G$13:$L$13,0)),1,300) -> #N/A | U72: Please select
A73: 64 | B73: Insulating LV electrical e.g. mats and tails | C73: Contact with live electricity - Injury | D73: Work adjacent live LV | E73: Health & Safety | F73: Only licensed electrical workers shall install insulating mats/tails. PPE shall be worn when undertaking LV insulation. This includes OO gloves, outer protective gloves, long sleeve cotton shirts, long cotton pants, and safety boots. Eye protection shall be worn when performing live electrical work or while in proximity to exposed live parts. All jewellery shall be removed prior to work commencing. This includes but is not limited to any body-piercings, watches, chains, rings etc. A trained and competent safety observer shall be appointed at all times whilst LV work is being undertaken. A stocked and in date LV rescue kit shall be on hand for the safety observer. | G73: Good | H73: Moderate (3) | I73: Very Unlikely (2) | J73: =MID(INDEX('2. Risk Matrix'!$G$14:$L$19,MATCH($I73,'2. Risk Matrix'!$F$14:$F$19,0), MATCH($H73,'2. Risk Matrix'!$G$13:$L$13,0)),1,20) -> Sustainable 7 | K73: =MID(INDEX('7. Escalation Matrix'!$G$14:$L$19,MATCH($I73,'7. Escalation Matrix'!$F$14:$F$19,0), MATCH($H73,'7. Escalation Matrix'!$G$13:$L$13,0)),1,300) -> Supervisor/ Front Line Manager | L73: Yes | R73: =MID(INDEX('2. Risk Matrix'!$G$14:$L$19,MATCH($Q73,'2. Risk Matrix'!$F$14:$F$19,0), MATCH($P73,'2. Risk Matrix'!$G$13:$L$13,0)),1,20) -> #N/A | S73: =MID(INDEX('7. Escalation Matrix'!$G$14:$L$19,MATCH($Q73,'7. Escalation Matrix'!$F$14:$F$19,0), MATCH($P73,'7. Escalation Matrix'!$G$13:$L$13,0)),1,300) -> #N/A | U73: Please select
